BEGIN:VCALENDAR
VERSION:2.0
PRODID:-//kuenske.de - ECPv6.15.20//NONSGML v1.0//EN
CALSCALE:GREGORIAN
METHOD:PUBLISH
X-WR-CALNAME:kuenske.de
X-ORIGINAL-URL:https://www.kuenske.de
X-WR-CALDESC:Veranstaltungen für kuenske.de
REFRESH-INTERVAL;VALUE=DURATION:PT1H
X-Robots-Tag:noindex
X-PUBLISHED-TTL:PT1H
BEGIN:VTIMEZONE
TZID:Europe/Berlin
BEGIN:DAYLIGHT
TZOFFSETFROM:+0100
TZOFFSETTO:+0200
TZNAME:CEST
DTSTART:20240331T010000
END:DAYLIGHT
BEGIN:STANDARD
TZOFFSETFROM:+0200
TZOFFSETTO:+0100
TZNAME:CET
DTSTART:20241027T010000
END:STANDARD
BEGIN:DAYLIGHT
TZOFFSETFROM:+0100
TZOFFSETTO:+0200
TZNAME:CEST
DTSTART:20250330T010000
END:DAYLIGHT
BEGIN:STANDARD
TZOFFSETFROM:+0200
TZOFFSETTO:+0100
TZNAME:CET
DTSTART:20251026T010000
END:STANDARD
BEGIN:DAYLIGHT
TZOFFSETFROM:+0100
TZOFFSETTO:+0200
TZNAME:CEST
DTSTART:20260329T010000
END:DAYLIGHT
BEGIN:STANDARD
TZOFFSETFROM:+0200
TZOFFSETTO:+0100
TZNAME:CET
DTSTART:20261025T010000
END:STANDARD
BEGIN:DAYLIGHT
TZOFFSETFROM:+0100
TZOFFSETTO:+0200
TZNAME:CEST
DTSTART:20270328T010000
END:DAYLIGHT
BEGIN:STANDARD
TZOFFSETFROM:+0200
TZOFFSETTO:+0100
TZNAME:CET
DTSTART:20271031T010000
END:STANDARD
END:VTIMEZONE
BEGIN:VEVENT
DTSTART;VALUE=DATE:20251222
DTEND;VALUE=DATE:20260107
DTSTAMP:20260422T151530
CREATED:20251023T063938Z
LAST-MODIFIED:20251023T063938Z
UID:32732-1766361600-1767743999@www.kuenske.de
SUMMARY:Weihnachtsferien
DESCRIPTION:
URL:https://www.kuenske.de/veranstaltungen/weihnachtsferien-2/
ATTACH;FMTTYPE=image/jpeg:https://www.kuenske.de/kuenske-content/uploads/2019/11/kein-bild.jpg
END:VEVENT
BEGIN:VEVENT
DTSTART;TZID=Europe/Berlin:20260102T143000
DTEND;TZID=Europe/Berlin:20260102T170000
DTSTAMP:20260422T151530
CREATED:20251229T063004Z
LAST-MODIFIED:20251229T063004Z
UID:33866-1767364200-1767373200@www.kuenske.de
SUMMARY:Anpickeln Outdoor
DESCRIPTION:Der TV Deutsche Eiche #Künsebeck startet auch gleich sportlich ins neue Jahr. So wird draußen auf dem Hartplatz angepickelt. Schläger\, Netze und Bälle sind da. Zieht euch bitte entsprechende Kleidung an. Natürlich wartet auch neben dem Sport eine Tasse Punsch für warme Finger auf die Pickleball Spielerinnen und Spieler
URL:https://www.kuenske.de/veranstaltungen/anpickeln-outdoor/
CATEGORIES:Sport
ATTACH;FMTTYPE=image/jpeg:https://www.kuenske.de/kuenske-content/uploads/2025/12/WhatsApp-Image-2025-12-28-at-16.53.22.jpeg
END:VEVENT
BEGIN:VEVENT
DTSTART;TZID=Europe/Berlin:20260102T210000
DTEND;TZID=Europe/Berlin:20260102T210000
DTSTAMP:20260422T151530
CREATED:20251229T063559Z
LAST-MODIFIED:20251229T063559Z
UID:33874-1767387600-1767387600@www.kuenske.de
SUMMARY:Moonlight Tennis
DESCRIPTION:
URL:https://www.kuenske.de/veranstaltungen/moonlight-tennis-9/
CATEGORIES:Sport
ATTACH;FMTTYPE=image/jpeg:https://www.kuenske.de/kuenske-content/uploads/2025/12/TVK_Insta_2025.jpg
END:VEVENT
BEGIN:VEVENT
DTSTART;TZID=Europe/Berlin:20260105T100000
DTEND;TZID=Europe/Berlin:20260105T110000
DTSTAMP:20260422T151530
CREATED:20251108T060024Z
LAST-MODIFIED:20251108T060254Z
UID:32897-1767607200-1767610800@www.kuenske.de
SUMMARY:Gehtreff
DESCRIPTION:
URL:https://www.kuenske.de/veranstaltungen/gehtreff-127/
LOCATION:Ringofenplatz
ATTACH;FMTTYPE=image/jpeg:https://www.kuenske.de/kuenske-content/uploads/2023/03/gehtreff.jpg
END:VEVENT
BEGIN:VEVENT
DTSTART;TZID=Europe/Berlin:20260106T143000
DTEND;TZID=Europe/Berlin:20260106T170000
DTSTAMP:20260422T151530
CREATED:20251108T061516Z
LAST-MODIFIED:20251108T061516Z
UID:33103-1767709800-1767718800@www.kuenske.de
SUMMARY:Spielen in der AWO
DESCRIPTION:
URL:https://www.kuenske.de/veranstaltungen/spielen-in-der-awo-28/
ATTACH;FMTTYPE=image/jpeg:https://www.kuenske.de/kuenske-content/uploads/2023/10/Spielen-AWO.jpg
END:VEVENT
BEGIN:VEVENT
DTSTART;TZID=Europe/Berlin:20260106T163000
DTEND;TZID=Europe/Berlin:20260106T170000
DTSTAMP:20260422T151530
CREATED:20251108T062426Z
LAST-MODIFIED:20251108T062426Z
UID:33312-1767717000-1767718800@www.kuenske.de
SUMMARY:Akkordeon Gruppe
DESCRIPTION:im Gemeindehaus\, offen für Alle
URL:https://www.kuenske.de/veranstaltungen/akkordeon-gruppe/
LOCATION:Gemeindehaus Künsebeck\, Teutoburgerstrasse 20\, Halle\, 33790\, Deutschland
ATTACH;FMTTYPE=image/jpeg:https://www.kuenske.de/kuenske-content/uploads/2019/11/kein-bild.jpg
END:VEVENT
BEGIN:VEVENT
DTSTART;TZID=Europe/Berlin:20260106T200000
DTEND;TZID=Europe/Berlin:20260106T200000
DTSTAMP:20260422T151530
CREATED:20251108T062330Z
LAST-MODIFIED:20251108T062330Z
UID:33299-1767729600-1767729600@www.kuenske.de
SUMMARY:Schach im Gemeindehaus
DESCRIPTION:
URL:https://www.kuenske.de/veranstaltungen/schach-im-gemeindehaus-21/
ATTACH;FMTTYPE=image/jpeg:https://www.kuenske.de/kuenske-content/uploads/2019/10/schach.jpg
END:VEVENT
BEGIN:VEVENT
DTSTART;TZID=Europe/Berlin:20260107T143000
DTEND;TZID=Europe/Berlin:20260107T170000
DTSTAMP:20260422T151530
CREATED:20251108T062015Z
LAST-MODIFIED:20251108T062015Z
UID:33201-1767796200-1767805200@www.kuenske.de
SUMMARY:Spielen in der AWO
DESCRIPTION:
URL:https://www.kuenske.de/veranstaltungen/spielen-in-der-awo-29/
ATTACH;FMTTYPE=image/jpeg:https://www.kuenske.de/kuenske-content/uploads/2023/10/Spielen-AWO.jpg
END:VEVENT
BEGIN:VEVENT
DTSTART;TZID=Europe/Berlin:20260108T143000
DTEND;TZID=Europe/Berlin:20260108T170000
DTSTAMP:20260422T151530
CREATED:20251108T063407Z
LAST-MODIFIED:20251108T063407Z
UID:33342-1767882600-1767891600@www.kuenske.de
SUMMARY:Musiküsse - offenes Singen
DESCRIPTION:
URL:https://www.kuenske.de/veranstaltungen/musikuesse-offenes-singen/
LOCATION:Gemeindehaus Künsebeck\, Teutoburgerstrasse 20\, Halle\, 33790\, Deutschland
CATEGORIES:Gemeinde
ATTACH;FMTTYPE=image/png:https://www.kuenske.de/kuenske-content/uploads/2025/11/musikuesse.png
END:VEVENT
BEGIN:VEVENT
DTSTART;TZID=Europe/Berlin:20260109T093000
DTEND;TZID=Europe/Berlin:20260109T110000
DTSTAMP:20260422T151530
CREATED:20251108T060911Z
LAST-MODIFIED:20251108T060911Z
UID:32994-1767951000-1767956400@www.kuenske.de
SUMMARY:Krabbeltreff
DESCRIPTION:
URL:https://www.kuenske.de/veranstaltungen/krabbeltreff-120/
ATTACH;FMTTYPE=image/jpeg:https://www.kuenske.de/kuenske-content/uploads/2023/03/Krabbeltreff_neu.jpg
END:VEVENT
BEGIN:VEVENT
DTSTART;TZID=Europe/Berlin:20260109T153000
DTEND;TZID=Europe/Berlin:20260109T170000
DTSTAMP:20260422T151530
CREATED:20251108T063548Z
LAST-MODIFIED:20251108T063548Z
UID:33464-1767972600-1767978000@www.kuenske.de
SUMMARY:Gemeindebücherei
DESCRIPTION:
URL:https://www.kuenske.de/veranstaltungen/gemeindebuecherei-211/
CATEGORIES:Gemeinde
ATTACH;FMTTYPE=image/jpeg:https://www.kuenske.de/kuenske-content/uploads/2022/10/Gemeindebuecherei.jpg
END:VEVENT
BEGIN:VEVENT
DTSTART;TZID=Europe/Berlin:20260109T180000
DTEND;TZID=Europe/Berlin:20260109T180000
DTSTAMP:20260422T151530
CREATED:20251116T065733Z
LAST-MODIFIED:20251116T065733Z
UID:33565-1767981600-1767981600@www.kuenske.de
SUMMARY:Herrensitzung der KGK
DESCRIPTION:
URL:https://www.kuenske.de/veranstaltungen/herrensitzung-der-kgk/
ATTACH;FMTTYPE=image/jpeg:https://www.kuenske.de/kuenske-content/uploads/2025/03/Karneval_Kuensebeck_jaeeckel.jpg
END:VEVENT
BEGIN:VEVENT
DTSTART;TZID=Europe/Berlin:20260111T100000
DTEND;TZID=Europe/Berlin:20260111T110000
DTSTAMP:20260422T151530
CREATED:20251110T105245Z
LAST-MODIFIED:20251110T105847Z
UID:33539-1768125600-1768129200@www.kuenske.de
SUMMARY:Gottesdienst mit Ingrid Diekmann-Vemmer
DESCRIPTION:
URL:https://www.kuenske.de/veranstaltungen/gottesdienst-mit-ingrid-diekmann-vemmer-2/
ATTACH;FMTTYPE=image/jpeg:https://www.kuenske.de/kuenske-content/uploads/2025/11/Gottesdienst.jpg
END:VEVENT
BEGIN:VEVENT
DTSTART;TZID=Europe/Berlin:20260111T110000
DTEND;TZID=Europe/Berlin:20260111T120000
DTSTAMP:20260422T151530
CREATED:20251229T063147Z
LAST-MODIFIED:20251229T063147Z
UID:33869-1768129200-1768132800@www.kuenske.de
SUMMARY:Neuer Zumba-Kurs
DESCRIPTION:
URL:https://www.kuenske.de/veranstaltungen/neuer-zumba-kurs-2/
CATEGORIES:Sport
ATTACH;FMTTYPE=image/jpeg:https://www.kuenske.de/kuenske-content/uploads/2025/12/WhatsApp-Image-2025-12-28-at-16.55.01.jpeg
END:VEVENT
BEGIN:VEVENT
DTSTART;TZID=Europe/Berlin:20260112T100000
DTEND;TZID=Europe/Berlin:20260112T110000
DTSTAMP:20260422T151530
CREATED:20251108T060024Z
LAST-MODIFIED:20251108T060024Z
UID:32899-1768212000-1768215600@www.kuenske.de
SUMMARY:Gehtreff
DESCRIPTION:
URL:https://www.kuenske.de/veranstaltungen/gehtreff-127-2026-01-12/
LOCATION:Ringofenplatz
ATTACH;FMTTYPE=image/jpeg:https://www.kuenske.de/kuenske-content/uploads/2023/03/gehtreff.jpg
END:VEVENT
BEGIN:VEVENT
DTSTART;TZID=Europe/Berlin:20260113T143000
DTEND;TZID=Europe/Berlin:20260113T170000
DTSTAMP:20260422T151530
CREATED:20251108T061516Z
LAST-MODIFIED:20251108T061516Z
UID:33104-1768314600-1768323600@www.kuenske.de
SUMMARY:Spielen in der AWO
DESCRIPTION:
URL:https://www.kuenske.de/veranstaltungen/spielen-in-der-awo-28-2026-01-13/
ATTACH;FMTTYPE=image/jpeg:https://www.kuenske.de/kuenske-content/uploads/2023/10/Spielen-AWO.jpg
END:VEVENT
BEGIN:VEVENT
DTSTART;TZID=Europe/Berlin:20260113T143000
DTEND;TZID=Europe/Berlin:20260113T170000
DTSTAMP:20260422T151530
CREATED:20251216T064344Z
LAST-MODIFIED:20251216T064535Z
UID:33815-1768314600-1768323600@www.kuenske.de
SUMMARY:Reisevortrag in der AWO
DESCRIPTION:
URL:https://www.kuenske.de/veranstaltungen/reisevortrag-in-der-awo/
ATTACH;FMTTYPE=image/png:https://www.kuenske.de/kuenske-content/uploads/2025/12/AWO_Insta_20253.png
END:VEVENT
BEGIN:VEVENT
DTSTART;TZID=Europe/Berlin:20260113T163000
DTEND;TZID=Europe/Berlin:20260113T170000
DTSTAMP:20260422T151530
CREATED:20251108T062426Z
LAST-MODIFIED:20251108T062426Z
UID:33323-1768321800-1768323600@www.kuenske.de
SUMMARY:Akkordeon Gruppe
DESCRIPTION:im Gemeindehaus\, offen für Alle
URL:https://www.kuenske.de/veranstaltungen/akkordeon-gruppe-2026-01-13/
LOCATION:Gemeindehaus Künsebeck\, Teutoburgerstrasse 20\, Halle\, 33790\, Deutschland
ATTACH;FMTTYPE=image/jpeg:https://www.kuenske.de/kuenske-content/uploads/2019/11/kein-bild.jpg
END:VEVENT
BEGIN:VEVENT
DTSTART;TZID=Europe/Berlin:20260113T180000
DTEND;TZID=Europe/Berlin:20260113T180000
DTSTAMP:20260422T151530
CREATED:20251215T093509Z
LAST-MODIFIED:20251215T093509Z
UID:33804-1768327200-1768327200@www.kuenske.de
SUMMARY:Spieleabend im Gemeindehaus
DESCRIPTION:
URL:https://www.kuenske.de/veranstaltungen/spieleabend-im-gemeindehaus-4/
ATTACH;FMTTYPE=image/jpeg:https://www.kuenske.de/kuenske-content/uploads/2025/12/Kuensebeck-fuer-Kuensebeck-eine-Aktion-der-IGKB-Unser-Kuensebeck-ist-wieder-da-1.jpg
END:VEVENT
BEGIN:VEVENT
DTSTART;TZID=Europe/Berlin:20260113T200000
DTEND;TZID=Europe/Berlin:20260113T200000
DTSTAMP:20260422T151530
CREATED:20251108T062330Z
LAST-MODIFIED:20251108T062330Z
UID:33300-1768334400-1768334400@www.kuenske.de
SUMMARY:Schach im Gemeindehaus
DESCRIPTION:
URL:https://www.kuenske.de/veranstaltungen/schach-im-gemeindehaus-21-2026-01-13/
ATTACH;FMTTYPE=image/jpeg:https://www.kuenske.de/kuenske-content/uploads/2019/10/schach.jpg
END:VEVENT
BEGIN:VEVENT
DTSTART;TZID=Europe/Berlin:20260114T143000
DTEND;TZID=Europe/Berlin:20260114T170000
DTSTAMP:20260422T151530
CREATED:20251108T062015Z
LAST-MODIFIED:20251108T062015Z
UID:33202-1768401000-1768410000@www.kuenske.de
SUMMARY:Spielen in der AWO
DESCRIPTION:
URL:https://www.kuenske.de/veranstaltungen/spielen-in-der-awo-29-2026-01-14/
ATTACH;FMTTYPE=image/jpeg:https://www.kuenske.de/kuenske-content/uploads/2023/10/Spielen-AWO.jpg
END:VEVENT
BEGIN:VEVENT
DTSTART;TZID=Europe/Berlin:20260114T143000
DTEND;TZID=Europe/Berlin:20260114T170000
DTSTAMP:20260422T151530
CREATED:20260112T110456Z
LAST-MODIFIED:20260112T110456Z
UID:33935-1768401000-1768410000@www.kuenske.de
SUMMARY:Frauenhilfe
DESCRIPTION:
URL:https://www.kuenske.de/veranstaltungen/frauenhilfe-35/
ATTACH;FMTTYPE=image/jpeg:https://www.kuenske.de/kuenske-content/uploads/2026/01/Gemeinde_Insta_20251.jpg
END:VEVENT
BEGIN:VEVENT
DTSTART;TZID=Europe/Berlin:20260115T143000
DTEND;TZID=Europe/Berlin:20260115T170000
DTSTAMP:20260422T151530
CREATED:20251108T063407Z
LAST-MODIFIED:20251108T063407Z
UID:33411-1768487400-1768496400@www.kuenske.de
SUMMARY:Musiküsse - offenes Singen
DESCRIPTION:
URL:https://www.kuenske.de/veranstaltungen/musikuesse-offenes-singen-2026-01-15/
LOCATION:Gemeindehaus Künsebeck\, Teutoburgerstrasse 20\, Halle\, 33790\, Deutschland
CATEGORIES:Gemeinde
ATTACH;FMTTYPE=image/png:https://www.kuenske.de/kuenske-content/uploads/2025/11/musikuesse.png
END:VEVENT
BEGIN:VEVENT
DTSTART;TZID=Europe/Berlin:20260115T180000
DTEND;TZID=Europe/Berlin:20260115T180000
DTSTAMP:20260422T151530
CREATED:20260112T095517Z
LAST-MODIFIED:20260112T095517Z
UID:33932-1768500000-1768500000@www.kuenske.de
SUMMARY:Künsebeck Kirche Kreativ Treffen
DESCRIPTION:
URL:https://www.kuenske.de/veranstaltungen/kuensebeck-kirche-kreativ-treffen/
CATEGORIES:Gemeinde
ATTACH;FMTTYPE=image/png:https://www.kuenske.de/kuenske-content/uploads/2026/01/Gemeinde_Insta_20251.png
END:VEVENT
BEGIN:VEVENT
DTSTART;TZID=Europe/Berlin:20260116T093000
DTEND;TZID=Europe/Berlin:20260116T110000
DTSTAMP:20260422T151530
CREATED:20251108T060911Z
LAST-MODIFIED:20251108T060911Z
UID:32995-1768555800-1768561200@www.kuenske.de
SUMMARY:Krabbeltreff
DESCRIPTION:
URL:https://www.kuenske.de/veranstaltungen/krabbeltreff-120-2026-01-16/
ATTACH;FMTTYPE=image/jpeg:https://www.kuenske.de/kuenske-content/uploads/2023/03/Krabbeltreff_neu.jpg
END:VEVENT
BEGIN:VEVENT
DTSTART;TZID=Europe/Berlin:20260116T113000
DTEND;TZID=Europe/Berlin:20260116T170000
DTSTAMP:20260422T151530
CREATED:20251104T081145Z
LAST-MODIFIED:20251104T081145Z
UID:32822-1768563000-1768582800@www.kuenske.de
SUMMARY:Der Obstwagen kommt
DESCRIPTION:
URL:https://www.kuenske.de/veranstaltungen/der-obstwagen-kommt-5/
ATTACH;FMTTYPE=image/png:https://www.kuenske.de/kuenske-content/uploads/2025/11/28F7106C-A93D-4123-AAC2-CB0EAF5C6CE0.png
END:VEVENT
BEGIN:VEVENT
DTSTART;TZID=Europe/Berlin:20260116T153000
DTEND;TZID=Europe/Berlin:20260116T170000
DTSTAMP:20260422T151530
CREATED:20251108T063548Z
LAST-MODIFIED:20251108T063548Z
UID:33465-1768577400-1768582800@www.kuenske.de
SUMMARY:Gemeindebücherei
DESCRIPTION:
URL:https://www.kuenske.de/veranstaltungen/gemeindebuecherei-211-2026-01-16/
CATEGORIES:Gemeinde
ATTACH;FMTTYPE=image/jpeg:https://www.kuenske.de/kuenske-content/uploads/2022/10/Gemeindebuecherei.jpg
END:VEVENT
BEGIN:VEVENT
DTSTART;TZID=Europe/Berlin:20260116T210000
DTEND;TZID=Europe/Berlin:20260116T210000
DTSTAMP:20260422T151530
CREATED:20260112T085331Z
LAST-MODIFIED:20260112T085331Z
UID:33929-1768597200-1768597200@www.kuenske.de
SUMMARY:Moonlight Tennis im Sportpark
DESCRIPTION:
URL:https://www.kuenske.de/veranstaltungen/moonlight-tennis-im-sportpark/
ATTACH;FMTTYPE=image/png:https://www.kuenske.de/kuenske-content/uploads/2026/01/TVK_Insta_20254.png
END:VEVENT
BEGIN:VEVENT
DTSTART;TZID=Europe/Berlin:20260118T100000
DTEND;TZID=Europe/Berlin:20260118T110000
DTSTAMP:20260422T151530
CREATED:20251008T111538Z
LAST-MODIFIED:20251008T111538Z
UID:32595-1768730400-1768734000@www.kuenske.de
SUMMARY:Fit ins neue Jahr - Sportandach
DESCRIPTION:
URL:https://www.kuenske.de/veranstaltungen/fit-ins-neue-jahr-sportandach/
ATTACH;FMTTYPE=image/png:https://www.kuenske.de/kuenske-content/uploads/2025/10/sport-andacht.png
END:VEVENT
BEGIN:VEVENT
DTSTART;TZID=Europe/Berlin:20260118T110000
DTEND;TZID=Europe/Berlin:20260118T170000
DTSTAMP:20260422T151530
CREATED:20251122T065830Z
LAST-MODIFIED:20251122T065830Z
UID:33638-1768734000-1768755600@www.kuenske.de
SUMMARY:ev. Wandervögel in Oerlinghausen
DESCRIPTION:
URL:https://www.kuenske.de/veranstaltungen/ev-wandervoegel-in-oerlinghausen/
ATTACH;FMTTYPE=image/png:https://www.kuenske.de/kuenske-content/uploads/2025/11/Wandern1.png
END:VEVENT
END:VCALENDAR