BEGIN:VCALENDAR
VERSION:2.0
PRODID:-//kuenske.de - ECPv6.15.20//NONSGML v1.0//EN
CALSCALE:GREGORIAN
METHOD:PUBLISH
X-WR-CALNAME:kuenske.de
X-ORIGINAL-URL:https://www.kuenske.de
X-WR-CALDESC:Veranstaltungen für kuenske.de
REFRESH-INTERVAL;VALUE=DURATION:PT1H
X-Robots-Tag:noindex
X-PUBLISHED-TTL:PT1H
BEGIN:VTIMEZONE
TZID:Europe/Berlin
BEGIN:DAYLIGHT
TZOFFSETFROM:+0100
TZOFFSETTO:+0200
TZNAME:CEST
DTSTART:20220327T010000
END:DAYLIGHT
BEGIN:STANDARD
TZOFFSETFROM:+0200
TZOFFSETTO:+0100
TZNAME:CET
DTSTART:20221030T010000
END:STANDARD
BEGIN:DAYLIGHT
TZOFFSETFROM:+0100
TZOFFSETTO:+0200
TZNAME:CEST
DTSTART:20230326T010000
END:DAYLIGHT
BEGIN:STANDARD
TZOFFSETFROM:+0200
TZOFFSETTO:+0100
TZNAME:CET
DTSTART:20231029T010000
END:STANDARD
BEGIN:DAYLIGHT
TZOFFSETFROM:+0100
TZOFFSETTO:+0200
TZNAME:CEST
DTSTART:20240331T010000
END:DAYLIGHT
BEGIN:STANDARD
TZOFFSETFROM:+0200
TZOFFSETTO:+0100
TZNAME:CET
DTSTART:20241027T010000
END:STANDARD
END:VTIMEZONE
BEGIN:VEVENT
DTSTART;VALUE=DATE:20230701
DTEND;VALUE=DATE:20230702
DTSTAMP:20260423T181807
CREATED:20230326T060025Z
LAST-MODIFIED:20230326T060025Z
UID:25956-1688169600-1688255999@www.kuenske.de
SUMMARY:Sommerfest der AWO
DESCRIPTION:
URL:https://www.kuenske.de/veranstaltungen/sommerfest-der-awo/
ATTACH;FMTTYPE=image/jpeg:https://www.kuenske.de/kuenske-content/uploads/2021/08/awo_ortsverein.jpg
END:VEVENT
BEGIN:VEVENT
DTSTART;TZID=Europe/Berlin:20230703T100000
DTEND;TZID=Europe/Berlin:20230703T110000
DTSTAMP:20260423T181807
CREATED:20230608T095658Z
LAST-MODIFIED:20230608T095658Z
UID:26597-1688378400-1688382000@www.kuenske.de
SUMMARY:Gehtreff
DESCRIPTION:
URL:https://www.kuenske.de/veranstaltungen/gehtreff-10/
ATTACH;FMTTYPE=image/jpeg:https://www.kuenske.de/kuenske-content/uploads/2023/03/gehtreff.jpg
END:VEVENT
BEGIN:VEVENT
DTSTART;TZID=Europe/Berlin:20230703T140000
DTEND;TZID=Europe/Berlin:20230703T160000
DTSTAMP:20260423T181807
CREATED:20230410T144803Z
LAST-MODIFIED:20230410T165739Z
UID:26228-1688392800-1688400000@www.kuenske.de
SUMMARY:Tanzen\, Spiel & Spaß
DESCRIPTION:
URL:https://www.kuenske.de/veranstaltungen/tanzen-spiel-spass-2/
ATTACH;FMTTYPE=image/jpeg:https://www.kuenske.de/kuenske-content/uploads/2023/04/Fuer-Kinder-im-Grundschulalater-GemeindeHaus-Kuensebeck3.jpg
END:VEVENT
BEGIN:VEVENT
DTSTART;TZID=Europe/Berlin:20230703T150000
DTEND;TZID=Europe/Berlin:20230703T163000
DTSTAMP:20260423T181807
CREATED:20230407T065110Z
LAST-MODIFIED:20230413T063225Z
UID:26189-1688396400-1688401800@www.kuenske.de
SUMMARY:FSP Tabata für Kids
DESCRIPTION:
URL:https://www.kuenske.de/veranstaltungen/tabata-fuer-kids/
ATTACH;FMTTYPE=image/jpeg:https://www.kuenske.de/kuenske-content/uploads/2023/04/Fuer-Kinder-im-Grundschulalater-GemeindeHaus-Kuensebeck.jpg
END:VEVENT
BEGIN:VEVENT
DTSTART;TZID=Europe/Berlin:20230704T150000
DTEND;TZID=Europe/Berlin:20230704T170000
DTSTAMP:20260423T181807
CREATED:20230407T075022Z
LAST-MODIFIED:20230407T075022Z
UID:26192-1688482800-1688490000@www.kuenske.de
SUMMARY:FSP Minigolf
DESCRIPTION:
URL:https://www.kuenske.de/veranstaltungen/fsp-minigolf-7/
ATTACH;FMTTYPE=image/jpeg:https://www.kuenske.de/kuenske-content/uploads/2023/04/Fuer-Kinder-im-Grundschulalater-GemeindeHaus-Kuensebeck1.jpg
END:VEVENT
BEGIN:VEVENT
DTSTART;TZID=Europe/Berlin:20230707T153000
DTEND;TZID=Europe/Berlin:20230707T170000
DTSTAMP:20260423T181807
CREATED:20230608T100554Z
LAST-MODIFIED:20230608T100554Z
UID:26616-1688743800-1688749200@www.kuenske.de
SUMMARY:Gemeindebücherei
DESCRIPTION:
URL:https://www.kuenske.de/veranstaltungen/gemeindebuecherei-102/
ATTACH;FMTTYPE=image/jpeg:https://www.kuenske.de/kuenske-content/uploads/2022/10/Gemeindebuecherei.jpg
END:VEVENT
BEGIN:VEVENT
DTSTART;TZID=Europe/Berlin:20230707T180000
DTEND;TZID=Europe/Berlin:20230707T180000
DTSTAMP:20260423T181807
CREATED:20230329T064139Z
LAST-MODIFIED:20230329T064139Z
UID:26046-1688752800-1688752800@www.kuenske.de
SUMMARY:Kultursommer: Sängergemeinschaft Künsebeck
DESCRIPTION:Singen und Lachen mit der Sängergemeinschaft Künsebeck \nDie Sängerinnen und Sänger gestalten ein buntes Programm mit Ohrwürmern  aus ihrem Repertoire\, mit fröhlichem Liedern zum Mitsingen\, einem Couplet  von Otto Reuter und den Küns ́ker Weib ́sen\, die humorvoll über ihre aufregenden  Erlebnisse mit Männern in der Kur berichten..
URL:https://www.kuenske.de/veranstaltungen/kultursommer-saengergemeinschaft-kuensebeck/
ATTACH;FMTTYPE=image/png:https://www.kuenske.de/kuenske-content/uploads/2023/03/saenger.png
END:VEVENT
BEGIN:VEVENT
DTSTART;TZID=Europe/Berlin:20230709T100000
DTEND;TZID=Europe/Berlin:20230709T110000
DTSTAMP:20260423T181807
CREATED:20230708T064948Z
LAST-MODIFIED:20230708T064948Z
UID:26744-1688896800-1688900400@www.kuenske.de
SUMMARY:Gottesdienst
DESCRIPTION:
URL:https://www.kuenske.de/veranstaltungen/gottesdienst-36/
CATEGORIES:Gemeinde
ATTACH;FMTTYPE=image/jpeg:https://www.kuenske.de/kuenske-content/uploads/2023/07/IMG_7245.jpeg
END:VEVENT
BEGIN:VEVENT
DTSTART;TZID=Europe/Berlin:20230710T100000
DTEND;TZID=Europe/Berlin:20230710T110000
DTSTAMP:20260423T181807
CREATED:20230608T095807Z
LAST-MODIFIED:20230608T095807Z
UID:26599-1688983200-1688986800@www.kuenske.de
SUMMARY:Gehtreff
DESCRIPTION:
URL:https://www.kuenske.de/veranstaltungen/gehtreff-11/
ATTACH;FMTTYPE=image/jpeg:https://www.kuenske.de/kuenske-content/uploads/2023/03/gehtreff.jpg
END:VEVENT
BEGIN:VEVENT
DTSTART;TZID=Europe/Berlin:20230710T140000
DTEND;TZID=Europe/Berlin:20230710T160000
DTSTAMP:20260423T181807
CREATED:20230410T144854Z
LAST-MODIFIED:20230410T165627Z
UID:26231-1688997600-1689004800@www.kuenske.de
SUMMARY:Tanzen\, Spiel & Spaß
DESCRIPTION:
URL:https://www.kuenske.de/veranstaltungen/tanzen-spiel-spass-3/
ATTACH;FMTTYPE=image/jpeg:https://www.kuenske.de/kuenske-content/uploads/2023/04/Fuer-Kinder-im-Grundschulalater-GemeindeHaus-Kuensebeck3.jpg
END:VEVENT
BEGIN:VEVENT
DTSTART;TZID=Europe/Berlin:20230711T150000
DTEND;TZID=Europe/Berlin:20230711T170000
DTSTAMP:20260423T181807
CREATED:20230407T075234Z
LAST-MODIFIED:20230407T075234Z
UID:26195-1689087600-1689094800@www.kuenske.de
SUMMARY:FSP Minigolf
DESCRIPTION:
URL:https://www.kuenske.de/veranstaltungen/fsp-minigolf-8/
ATTACH;FMTTYPE=image/jpeg:https://www.kuenske.de/kuenske-content/uploads/2023/04/Fuer-Kinder-im-Grundschulalater-GemeindeHaus-Kuensebeck1.jpg
END:VEVENT
BEGIN:VEVENT
DTSTART;TZID=Europe/Berlin:20230712T143000
DTEND;TZID=Europe/Berlin:20230712T170000
DTSTAMP:20260423T181807
CREATED:20230413T061551Z
LAST-MODIFIED:20230413T061620Z
UID:26275-1689172200-1689181200@www.kuenske.de
SUMMARY:FSP Fussball
DESCRIPTION:
URL:https://www.kuenske.de/veranstaltungen/fsp-fussball/
ATTACH;FMTTYPE=image/jpeg:https://www.kuenske.de/kuenske-content/uploads/2023/04/Fuer-Kinder-im-Grundschulalater-GemeindeHaus-Kuensebeck-1.jpg
END:VEVENT
BEGIN:VEVENT
DTSTART;TZID=Europe/Berlin:20230714T153000
DTEND;TZID=Europe/Berlin:20230714T170000
DTSTAMP:20260423T181807
CREATED:20230608T100709Z
LAST-MODIFIED:20230608T100709Z
UID:26619-1689348600-1689354000@www.kuenske.de
SUMMARY:Gemeindebücherei
DESCRIPTION:
URL:https://www.kuenske.de/veranstaltungen/gemeindebuecherei-103/
ATTACH;FMTTYPE=image/jpeg:https://www.kuenske.de/kuenske-content/uploads/2022/10/Gemeindebuecherei.jpg
END:VEVENT
BEGIN:VEVENT
DTSTART;TZID=Europe/Berlin:20230715T143000
DTEND;TZID=Europe/Berlin:20230715T170000
DTSTAMP:20260423T181807
CREATED:20230413T061303Z
LAST-MODIFIED:20230413T061303Z
UID:26272-1689431400-1689440400@www.kuenske.de
SUMMARY:FSP Schatzsuche
DESCRIPTION:
URL:https://www.kuenske.de/veranstaltungen/fsp-schatzsuche/
ATTACH;FMTTYPE=image/jpeg:https://www.kuenske.de/kuenske-content/uploads/2023/04/Fuer-Kinder-im-Grundschulalater-GemeindeHaus-Kuensebeck1-1.jpg
END:VEVENT
BEGIN:VEVENT
DTSTART;TZID=Europe/Berlin:20230716T100000
DTEND;TZID=Europe/Berlin:20230716T110000
DTSTAMP:20260423T181807
CREATED:20230712T112412Z
LAST-MODIFIED:20230712T112608Z
UID:26779-1689501600-1689505200@www.kuenske.de
SUMMARY:Gottesdienst m. Abendmahl
DESCRIPTION:
URL:https://www.kuenske.de/veranstaltungen/gottesdienst-m-abendmahl-3/
ATTACH;FMTTYPE=image/jpeg:https://www.kuenske.de/kuenske-content/uploads/2023/07/Gottesdienste1.jpg
END:VEVENT
BEGIN:VEVENT
DTSTART;TZID=Europe/Berlin:20230716T113000
DTEND;TZID=Europe/Berlin:20230716T130000
DTSTAMP:20260423T181807
CREATED:20230329T064230Z
LAST-MODIFIED:20230329T064230Z
UID:26048-1689507000-1689512400@www.kuenske.de
SUMMARY:Kultursommer: Farmhouse Jazz Band / Frühshoppen
DESCRIPTION:
URL:https://www.kuenske.de/veranstaltungen/kultursommer-farmhouse-jazz-band-fruehshoppen/
ATTACH;FMTTYPE=image/jpeg:https://www.kuenske.de/kuenske-content/uploads/2022/12/famjazz.jpg
END:VEVENT
BEGIN:VEVENT
DTSTART;TZID=Europe/Berlin:20230717T100000
DTEND;TZID=Europe/Berlin:20230717T110000
DTSTAMP:20260423T181807
CREATED:20230608T095900Z
LAST-MODIFIED:20230608T095900Z
UID:26602-1689588000-1689591600@www.kuenske.de
SUMMARY:Gehtreff
DESCRIPTION:
URL:https://www.kuenske.de/veranstaltungen/gehtreff-12/
ATTACH;FMTTYPE=image/jpeg:https://www.kuenske.de/kuenske-content/uploads/2023/03/gehtreff.jpg
END:VEVENT
BEGIN:VEVENT
DTSTART;TZID=Europe/Berlin:20230717T140000
DTEND;TZID=Europe/Berlin:20230717T160000
DTSTAMP:20260423T181807
CREATED:20230410T144949Z
LAST-MODIFIED:20230410T164916Z
UID:26234-1689602400-1689609600@www.kuenske.de
SUMMARY:Tanzen\, Spiel & Spaß
DESCRIPTION:
URL:https://www.kuenske.de/veranstaltungen/tanzen-spiel-spass-4/
ATTACH;FMTTYPE=image/jpeg:https://www.kuenske.de/kuenske-content/uploads/2023/04/Fuer-Kinder-im-Grundschulalater-GemeindeHaus-Kuensebeck3.jpg
END:VEVENT
BEGIN:VEVENT
DTSTART;TZID=Europe/Berlin:20230718T150000
DTEND;TZID=Europe/Berlin:20230718T170000
DTSTAMP:20260423T181807
CREATED:20230407T075934Z
LAST-MODIFIED:20230407T075934Z
UID:26197-1689692400-1689699600@www.kuenske.de
SUMMARY:FSP Minigolf
DESCRIPTION:
URL:https://www.kuenske.de/veranstaltungen/fsp-minigolf-9/
ATTACH;FMTTYPE=image/jpeg:https://www.kuenske.de/kuenske-content/uploads/2023/04/Fuer-Kinder-im-Grundschulalater-GemeindeHaus-Kuensebeck1.jpg
END:VEVENT
BEGIN:VEVENT
DTSTART;TZID=Europe/Berlin:20230720T150000
DTEND;TZID=Europe/Berlin:20230720T170000
DTSTAMP:20260423T181807
CREATED:20230413T061152Z
LAST-MODIFIED:20230413T061152Z
UID:26269-1689865200-1689872400@www.kuenske.de
SUMMARY:FSP Kreativ mit Holz
DESCRIPTION:
URL:https://www.kuenske.de/veranstaltungen/fsp-kreativ-mit-holz/
ATTACH;FMTTYPE=image/jpeg:https://www.kuenske.de/kuenske-content/uploads/2023/04/Fuer-Kinder-im-Grundschulalater-GemeindeHaus-Kuensebeck2-1.jpg
END:VEVENT
BEGIN:VEVENT
DTSTART;TZID=Europe/Berlin:20230720T190000
DTEND;TZID=Europe/Berlin:20230720T190000
DTSTAMP:20260423T181807
CREATED:20230329T064956Z
LAST-MODIFIED:20230329T064956Z
UID:26064-1689879600-1689879600@www.kuenske.de
SUMMARY:Kultursommer: Jolly Mood Band
DESCRIPTION:Sie lieben Musik\, und das merkt man wenn sie auf der Bühen stehen! \nDie Jolly Mood Band aus Brockhagen spielt alles von Country\, Soul\, Blues und Popmusik der 60er bis 90er. \nEs erwartet das Publikum ein spannendes Entainment Programm mit Songs die in die Beine gehen!
URL:https://www.kuenske.de/veranstaltungen/kultursommer-jolly-mood-band/
ATTACH;FMTTYPE=image/jpeg:https://www.kuenske.de/kuenske-content/uploads/2022/12/jollys.jpg
END:VEVENT
BEGIN:VEVENT
DTSTART;TZID=Europe/Berlin:20230721T153000
DTEND;TZID=Europe/Berlin:20230721T170000
DTSTAMP:20260423T181807
CREATED:20230608T101118Z
LAST-MODIFIED:20230608T101118Z
UID:26621-1689953400-1689958800@www.kuenske.de
SUMMARY:Gemeindebücherei
DESCRIPTION:
URL:https://www.kuenske.de/veranstaltungen/gemeindebuecherei-104/
ATTACH;FMTTYPE=image/jpeg:https://www.kuenske.de/kuenske-content/uploads/2022/10/Gemeindebuecherei.jpg
END:VEVENT
BEGIN:VEVENT
DTSTART;TZID=Europe/Berlin:20230722T090000
DTEND;TZID=Europe/Berlin:20230722T110000
DTSTAMP:20260423T181807
CREATED:20230608T092428Z
LAST-MODIFIED:20230608T092428Z
UID:26592-1690016400-1690023600@www.kuenske.de
SUMMARY:Frauenfrühstück
DESCRIPTION:
URL:https://www.kuenske.de/veranstaltungen/frauenfruehstueck-15/
ATTACH;FMTTYPE=image/jpeg:https://www.kuenske.de/kuenske-content/uploads/2023/06/Frauenfruehstueck1.jpg
END:VEVENT
BEGIN:VEVENT
DTSTART;TZID=Europe/Berlin:20230722T170000
DTEND;TZID=Europe/Berlin:20230722T170000
DTSTAMP:20260423T181807
CREATED:20230413T061704Z
LAST-MODIFIED:20230413T061704Z
UID:26280-1690045200-1690045200@www.kuenske.de
SUMMARY:FSP Kinderdisco
DESCRIPTION:
URL:https://www.kuenske.de/veranstaltungen/fsp-kinderdisco/
ATTACH;FMTTYPE=image/png:https://www.kuenske.de/kuenske-content/uploads/2023/04/Fuer-Kinder-im-Grundschulalater-GemeindeHaus-Kuensebeck.png
END:VEVENT
BEGIN:VEVENT
DTSTART;TZID=Europe/Berlin:20230723T100000
DTEND;TZID=Europe/Berlin:20230723T110000
DTSTAMP:20260423T181807
CREATED:20230712T112818Z
LAST-MODIFIED:20230712T112818Z
UID:26783-1690106400-1690110000@www.kuenske.de
SUMMARY:Gottesdienst
DESCRIPTION:
URL:https://www.kuenske.de/veranstaltungen/gottesdienst-37/
ATTACH;FMTTYPE=image/jpeg:https://www.kuenske.de/kuenske-content/uploads/2023/07/Gottesdienste2.jpg
END:VEVENT
BEGIN:VEVENT
DTSTART;TZID=Europe/Berlin:20230723T180000
DTEND;TZID=Europe/Berlin:20230723T190000
DTSTAMP:20260423T181807
CREATED:20230329T065040Z
LAST-MODIFIED:20230628T052858Z
UID:26066-1690135200-1690138800@www.kuenske.de
SUMMARY:Kultursommer: Jai Larkan
DESCRIPTION:Singer-Songwriter\, Multiinstrumentalist und Loop-Künstler aus Australien im Rahmen seiner 2023 Tour! \nJai Larkan spielt mehrere Instrumente und bindet in seinen Live-Loops die Klänge von Klavier\, Akustikgitarre und Percussion zusammen. Scheinbar mühelos vereint er alle diese Ebenen zu einem fesselnden Ganzen. Jeder Song ist voller poetischer und gefühlvoller Zeilen\, die dank der eindringlichen und beschwörenden Stimme von Jai auf das Publikum einwirken. \nDer melodischen Tradition von Bruce Springsteen und Peter Gabriel folgend\, appelliert Jai Larkan an Liebhaber emotionaler Texte und Melodien. Bevor er seine Solokarriere begann\, war Jai als Leadsänger und Mastermind der populären Folk-Rock-Band „The Wishing Well“ über zehn Jahre auf Tour. Mit der Band hat er über 660 Konzerte gespielt und trat auf namhaften Festivals auf wie Montreux Jazz Festival\, Edinburgh Fringe Festival und Skagen Festival.
URL:https://www.kuenske.de/veranstaltungen/kultursommer-jai-larkan/
ATTACH;FMTTYPE=image/jpeg:https://www.kuenske.de/kuenske-content/uploads/2023/01/JaiLarkanPress1.jpg
END:VEVENT
BEGIN:VEVENT
DTSTART;TZID=Europe/Berlin:20230724T100000
DTEND;TZID=Europe/Berlin:20230724T110000
DTSTAMP:20260423T181807
CREATED:20230608T100000Z
LAST-MODIFIED:20230608T100000Z
UID:26604-1690192800-1690196400@www.kuenske.de
SUMMARY:Gehtreff
DESCRIPTION:
URL:https://www.kuenske.de/veranstaltungen/gehtreff-13/
ATTACH;FMTTYPE=image/jpeg:https://www.kuenske.de/kuenske-content/uploads/2023/03/gehtreff.jpg
END:VEVENT
BEGIN:VEVENT
DTSTART;TZID=Europe/Berlin:20230725T150000
DTEND;TZID=Europe/Berlin:20230725T170000
DTSTAMP:20260423T181807
CREATED:20230407T080028Z
LAST-MODIFIED:20230407T080028Z
UID:26199-1690297200-1690304400@www.kuenske.de
SUMMARY:FSP Minigolf
DESCRIPTION:
URL:https://www.kuenske.de/veranstaltungen/fsp-minigolf-10/
ATTACH;FMTTYPE=image/jpeg:https://www.kuenske.de/kuenske-content/uploads/2023/04/Fuer-Kinder-im-Grundschulalater-GemeindeHaus-Kuensebeck1.jpg
END:VEVENT
BEGIN:VEVENT
DTSTART;TZID=Europe/Berlin:20230726T140000
DTEND;TZID=Europe/Berlin:20230726T180000
DTSTAMP:20260423T181807
CREATED:20230410T144316Z
LAST-MODIFIED:20230413T063254Z
UID:26218-1690380000-1690394400@www.kuenske.de
SUMMARY:FSP Sportabzeichen Tag
DESCRIPTION:
URL:https://www.kuenske.de/veranstaltungen/sportabzeichen-tag/
ATTACH;FMTTYPE=image/jpeg:https://www.kuenske.de/kuenske-content/uploads/2023/04/10.jpg
END:VEVENT
BEGIN:VEVENT
DTSTART;TZID=Europe/Berlin:20230726T150000
DTEND;TZID=Europe/Berlin:20230726T163000
DTSTAMP:20260423T181807
CREATED:20230410T162536Z
LAST-MODIFIED:20230410T162536Z
UID:26245-1690383600-1690389000@www.kuenske.de
SUMMARY:FSP Kreative Blumentöpfe
DESCRIPTION:
URL:https://www.kuenske.de/veranstaltungen/fsp-kreative-blumentoepfe/
ATTACH;FMTTYPE=image/jpeg:https://www.kuenske.de/kuenske-content/uploads/2023/04/7.jpg
END:VEVENT
END:VCALENDAR