BEGIN:VCALENDAR
VERSION:2.0
PRODID:-//kuenske.de - ECPv6.15.20//NONSGML v1.0//EN
CALSCALE:GREGORIAN
METHOD:PUBLISH
X-WR-CALNAME:kuenske.de
X-ORIGINAL-URL:https://www.kuenske.de
X-WR-CALDESC:Veranstaltungen für kuenske.de
REFRESH-INTERVAL;VALUE=DURATION:PT1H
X-Robots-Tag:noindex
X-PUBLISHED-TTL:PT1H
BEGIN:VTIMEZONE
TZID:Europe/Berlin
BEGIN:DAYLIGHT
TZOFFSETFROM:+0100
TZOFFSETTO:+0200
TZNAME:CEST
DTSTART:20220327T010000
END:DAYLIGHT
BEGIN:STANDARD
TZOFFSETFROM:+0200
TZOFFSETTO:+0100
TZNAME:CET
DTSTART:20221030T010000
END:STANDARD
BEGIN:DAYLIGHT
TZOFFSETFROM:+0100
TZOFFSETTO:+0200
TZNAME:CEST
DTSTART:20230326T010000
END:DAYLIGHT
BEGIN:STANDARD
TZOFFSETFROM:+0200
TZOFFSETTO:+0100
TZNAME:CET
DTSTART:20231029T010000
END:STANDARD
BEGIN:DAYLIGHT
TZOFFSETFROM:+0100
TZOFFSETTO:+0200
TZNAME:CEST
DTSTART:20240331T010000
END:DAYLIGHT
BEGIN:STANDARD
TZOFFSETFROM:+0200
TZOFFSETTO:+0100
TZNAME:CET
DTSTART:20241027T010000
END:STANDARD
END:VTIMEZONE
BEGIN:VEVENT
DTSTART;VALUE=DATE:20230501
DTEND;VALUE=DATE:20230502
DTSTAMP:20260423T134716
CREATED:20230326T122015Z
LAST-MODIFIED:20230326T122015Z
UID:25984-1682899200-1682985599@www.kuenske.de
SUMMARY:Tag der offenen Tür Tennis
DESCRIPTION:
URL:https://www.kuenske.de/veranstaltungen/tag-der-offenen-tuer-tennis/
ATTACH;FMTTYPE=image/jpeg:https://www.kuenske.de/kuenske-content/uploads/2021/04/Tennis.jpg
END:VEVENT
BEGIN:VEVENT
DTSTART;TZID=Europe/Berlin:20230503T170000
DTEND;TZID=Europe/Berlin:20230503T170000
DTSTAMP:20260423T134716
CREATED:20230414T064617Z
LAST-MODIFIED:20230414T064617Z
UID:26289-1683133200-1683133200@www.kuenske.de
SUMMARY:Helferkreis 2.0 Grillabend
DESCRIPTION:
URL:https://www.kuenske.de/veranstaltungen/helferkreis-2-0-grillabend/
ATTACH;FMTTYPE=image/jpeg:https://www.kuenske.de/kuenske-content/uploads/2023/04/Grillung.jpg
END:VEVENT
BEGIN:VEVENT
DTSTART;TZID=Europe/Berlin:20230503T173000
DTEND;TZID=Europe/Berlin:20230503T173000
DTSTAMP:20260423T134716
CREATED:20230112T093020Z
LAST-MODIFIED:20230112T093020Z
UID:25091-1683135000-1683135000@www.kuenske.de
SUMMARY:Ratssitzung
DESCRIPTION:
URL:https://www.kuenske.de/veranstaltungen/ratssitzung-21/
ATTACH;FMTTYPE=image/png:https://www.kuenske.de/kuenske-content/uploads/2019/10/capitol-32309.png
END:VEVENT
BEGIN:VEVENT
DTSTART;VALUE=DATE:20230504
DTEND;VALUE=DATE:20230505
DTSTAMP:20260423T134716
CREATED:20230329T073028Z
LAST-MODIFIED:20230329T073028Z
UID:26092-1683158400-1683244799@www.kuenske.de
SUMMARY:Künsebeck Feiertag
DESCRIPTION:
URL:https://www.kuenske.de/veranstaltungen/kuensebeck-feiertag/
ATTACH;FMTTYPE=image/jpeg:https://www.kuenske.de/kuenske-content/uploads/2023/03/zukunft.jpeg
END:VEVENT
BEGIN:VEVENT
DTSTART;TZID=Europe/Berlin:20230505T093000
DTEND;TZID=Europe/Berlin:20230505T110000
DTSTAMP:20260423T134716
CREATED:20230321T103533Z
LAST-MODIFIED:20230321T103533Z
UID:25913-1683279000-1683284400@www.kuenske.de
SUMMARY:Krabbeltreff
DESCRIPTION:
URL:https://www.kuenske.de/veranstaltungen/krabbeltreff-25/
ATTACH;FMTTYPE=image/jpeg:https://www.kuenske.de/kuenske-content/uploads/2023/03/Krabbeltreff_neu.jpg
END:VEVENT
BEGIN:VEVENT
DTSTART;TZID=Europe/Berlin:20230505T123000
DTEND;TZID=Europe/Berlin:20230505T140000
DTSTAMP:20260423T134716
CREATED:20230326T055331Z
LAST-MODIFIED:20230326T055331Z
UID:25944-1683289800-1683295200@www.kuenske.de
SUMMARY:Mittagessen in der AWO
DESCRIPTION:Zwiebel-Sahne Hähnchen mit Nudeln und Salat
URL:https://www.kuenske.de/veranstaltungen/mittagessen-in-der-awo-4/
ATTACH;FMTTYPE=image/jpeg:https://www.kuenske.de/kuenske-content/uploads/2023/03/mittagessen.jpg
END:VEVENT
BEGIN:VEVENT
DTSTART;TZID=Europe/Berlin:20230505T150000
DTEND;TZID=Europe/Berlin:20230505T160000
DTSTAMP:20260423T134716
CREATED:20230404T060558Z
LAST-MODIFIED:20230404T060558Z
UID:26158-1683298800-1683302400@www.kuenske.de
SUMMARY:"Unsere Erde" Kinder-Aktionstag
DESCRIPTION:
URL:https://www.kuenske.de/veranstaltungen/unsere-erde-kinder-aktionstag-2/
ATTACH;FMTTYPE=image/jpeg:https://www.kuenske.de/kuenske-content/uploads/2023/04/Kopie-von-Unsere-Erde.jpg
END:VEVENT
BEGIN:VEVENT
DTSTART;TZID=Europe/Berlin:20230505T153000
DTEND;TZID=Europe/Berlin:20230505T170000
DTSTAMP:20260423T134716
CREATED:20230321T103329Z
LAST-MODIFIED:20230321T103329Z
UID:25909-1683300600-1683306000@www.kuenske.de
SUMMARY:Gemeindebücherei
DESCRIPTION:
URL:https://www.kuenske.de/veranstaltungen/gemeindebuecherei-93/
ATTACH;FMTTYPE=image/jpeg:https://www.kuenske.de/kuenske-content/uploads/2020/08/GemeindeBIB-scaled-1.jpg
END:VEVENT
BEGIN:VEVENT
DTSTART;TZID=Europe/Berlin:20230505T180000
DTEND;TZID=Europe/Berlin:20230505T210000
DTSTAMP:20260423T134716
CREATED:20230424T062743Z
LAST-MODIFIED:20230424T062743Z
UID:26361-1683309600-1683320400@www.kuenske.de
SUMMARY:Pokerabend für Jugendliche
DESCRIPTION:
URL:https://www.kuenske.de/veranstaltungen/pokerabend-fuer-jugendliche/
ATTACH;FMTTYPE=image/jpeg:https://www.kuenske.de/kuenske-content/uploads/2023/04/Pokern.jpg
END:VEVENT
BEGIN:VEVENT
DTSTART;TZID=Europe/Berlin:20230506T140000
DTEND;TZID=Europe/Berlin:20230506T180000
DTSTAMP:20260423T134716
CREATED:20230221T110239Z
LAST-MODIFIED:20230404T064035Z
UID:25700-1683381600-1683396000@www.kuenske.de
SUMMARY:Kreisheimattag
DESCRIPTION:14-18 Uhr im Kreishaus Gütersloh
URL:https://www.kuenske.de/veranstaltungen/kreisheimattag/
ATTACH;FMTTYPE=image/jpeg:https://www.kuenske.de/kuenske-content/uploads/2023/02/Besuch-uns-beim-Kreisheimattag.jpg
END:VEVENT
BEGIN:VEVENT
DTSTART;TZID=Europe/Berlin:20230506T190000
DTEND;TZID=Europe/Berlin:20230506T190000
DTSTAMP:20260423T134716
CREATED:20230327T092047Z
LAST-MODIFIED:20230327T092047Z
UID:26001-1683399600-1683399600@www.kuenske.de
SUMMARY:Konfi Abend im JUZ
DESCRIPTION:
URL:https://www.kuenske.de/veranstaltungen/konfi-abend-im-juz/
ATTACH;FMTTYPE=image/jpeg:https://www.kuenske.de/kuenske-content/uploads/2009/03/juzheader.jpg
END:VEVENT
BEGIN:VEVENT
DTSTART;TZID=Europe/Berlin:20230508T100000
DTEND;TZID=Europe/Berlin:20230508T110000
DTSTAMP:20260423T134716
CREATED:20230326T121927Z
LAST-MODIFIED:20230326T121927Z
UID:25981-1683540000-1683543600@www.kuenske.de
SUMMARY:Gehtreff
DESCRIPTION:
URL:https://www.kuenske.de/veranstaltungen/gehtreff-2/
ATTACH;FMTTYPE=image/jpeg:https://www.kuenske.de/kuenske-content/uploads/2023/03/gehtreff.jpg
END:VEVENT
BEGIN:VEVENT
DTSTART;TZID=Europe/Berlin:20230509T170000
DTEND;TZID=Europe/Berlin:20230509T170000
DTSTAMP:20260423T134716
CREATED:20230329T065654Z
LAST-MODIFIED:20230329T065654Z
UID:26076-1683651600-1683651600@www.kuenske.de
SUMMARY:PSA
DESCRIPTION:
URL:https://www.kuenske.de/veranstaltungen/psa-13/
ATTACH;FMTTYPE=image/png:https://www.kuenske.de/kuenske-content/uploads/2019/10/capitol-32309.png
END:VEVENT
BEGIN:VEVENT
DTSTART;TZID=Europe/Berlin:20230511T180000
DTEND;TZID=Europe/Berlin:20230511T180000
DTSTAMP:20260423T134716
CREATED:20230504T185114Z
LAST-MODIFIED:20230504T185114Z
UID:26402-1683828000-1683828000@www.kuenske.de
SUMMARY:Probelauf Global 6
DESCRIPTION:
URL:https://www.kuenske.de/veranstaltungen/probelauf-global-6/
ATTACH;FMTTYPE=image/jpeg:https://www.kuenske.de/kuenske-content/uploads/2023/05/Kopie-von-Laufen-Spenden.jpg
END:VEVENT
BEGIN:VEVENT
DTSTART;TZID=Europe/Berlin:20230512T093000
DTEND;TZID=Europe/Berlin:20230512T110000
DTSTAMP:20260423T134716
CREATED:20230321T103557Z
LAST-MODIFIED:20230321T103557Z
UID:25916-1683883800-1683889200@www.kuenske.de
SUMMARY:Krabbeltreff
DESCRIPTION:
URL:https://www.kuenske.de/veranstaltungen/krabbeltreff-26/
ATTACH;FMTTYPE=image/jpeg:https://www.kuenske.de/kuenske-content/uploads/2023/03/Krabbeltreff_neu.jpg
END:VEVENT
BEGIN:VEVENT
DTSTART;TZID=Europe/Berlin:20230512T153000
DTEND;TZID=Europe/Berlin:20230512T170000
DTSTAMP:20260423T134716
CREATED:20230321T103402Z
LAST-MODIFIED:20230321T103402Z
UID:25911-1683905400-1683910800@www.kuenske.de
SUMMARY:Gemeindebücherei
DESCRIPTION:
URL:https://www.kuenske.de/veranstaltungen/gemeindebuecherei-94/
ATTACH;FMTTYPE=image/jpeg:https://www.kuenske.de/kuenske-content/uploads/2021/07/buch-liebe.jpg
END:VEVENT
BEGIN:VEVENT
DTSTART;TZID=Europe/Berlin:20230512T180000
DTEND;TZID=Europe/Berlin:20230512T180000
DTSTAMP:20260423T134716
CREATED:20230326T064242Z
LAST-MODIFIED:20230326T064242Z
UID:25963-1683914400-1683914400@www.kuenske.de
SUMMARY:Jahreshauptversammlung AWO
DESCRIPTION:
URL:https://www.kuenske.de/veranstaltungen/jahreshauptversammlung-awo/
ATTACH;FMTTYPE=image/png:https://www.kuenske.de/kuenske-content/uploads/2019/10/Awo-logo-08.svg_.png
END:VEVENT
BEGIN:VEVENT
DTSTART;TZID=Europe/Berlin:20230513T090000
DTEND;TZID=Europe/Berlin:20230513T120000
DTSTAMP:20260423T134716
CREATED:20230327T092151Z
LAST-MODIFIED:20230404T060714Z
UID:26003-1683968400-1683979200@www.kuenske.de
SUMMARY:Bibel Schmausen - Kochen mit Kids
DESCRIPTION:
URL:https://www.kuenske.de/veranstaltungen/kinder-aktions-tag-im-gemeindehaus/
ATTACH;FMTTYPE=image/jpeg:https://www.kuenske.de/kuenske-content/uploads/2023/03/Kochen-mit-Kids.jpg
END:VEVENT
BEGIN:VEVENT
DTSTART;TZID=Europe/Berlin:20230513T200000
DTEND;TZID=Europe/Berlin:20230513T200000
DTSTAMP:20260423T134716
CREATED:20230327T093635Z
LAST-MODIFIED:20230327T093635Z
UID:26005-1684008000-1684008000@www.kuenske.de
SUMMARY:ESC Public Viewing
DESCRIPTION:
URL:https://www.kuenske.de/veranstaltungen/esc-public-viewing/
ATTACH;FMTTYPE=image/jpeg:https://www.kuenske.de/kuenske-content/uploads/2023/03/Public-Viewing-im-JUZ.jpg
END:VEVENT
BEGIN:VEVENT
DTSTART;TZID=Europe/Berlin:20230514T100000
DTEND;TZID=Europe/Berlin:20230514T110000
DTSTAMP:20260423T134716
CREATED:20230414T082555Z
LAST-MODIFIED:20230414T082555Z
UID:26298-1684058400-1684062000@www.kuenske.de
SUMMARY:Gottesdienst
DESCRIPTION:
URL:https://www.kuenske.de/veranstaltungen/gottesdienst-30/
ATTACH;FMTTYPE=image/jpeg:https://www.kuenske.de/kuenske-content/uploads/2023/04/Gottesdienste3.jpg
END:VEVENT
BEGIN:VEVENT
DTSTART;TZID=Europe/Berlin:20230515T100000
DTEND;TZID=Europe/Berlin:20230515T110000
DTSTAMP:20260423T134716
CREATED:20230326T122837Z
LAST-MODIFIED:20230326T122837Z
UID:25986-1684144800-1684148400@www.kuenske.de
SUMMARY:Gehtreff
DESCRIPTION:
URL:https://www.kuenske.de/veranstaltungen/gehtreff-3/
ATTACH;FMTTYPE=image/jpeg:https://www.kuenske.de/kuenske-content/uploads/2023/03/gehtreff.jpg
END:VEVENT
BEGIN:VEVENT
DTSTART;TZID=Europe/Berlin:20230515T180000
DTEND;TZID=Europe/Berlin:20230515T180000
DTSTAMP:20260423T134716
CREATED:20230406T062336Z
LAST-MODIFIED:20230406T064408Z
UID:26182-1684173600-1684173600@www.kuenske.de
SUMMARY:Backen läuft bei uns
DESCRIPTION:Gemeinsam Käsefüße und andere Spezialitäten backen 🙂 im Gemeindehaus
URL:https://www.kuenske.de/veranstaltungen/backen-mit-ute/
ATTACH;FMTTYPE=image/jpeg:https://www.kuenske.de/kuenske-content/uploads/2023/05/1CD03C7A-1812-4A32-A7C1-F6E5878F9B54.jpeg
END:VEVENT
BEGIN:VEVENT
DTSTART;TZID=Europe/Berlin:20230519T093000
DTEND;TZID=Europe/Berlin:20230519T110000
DTSTAMP:20260423T134716
CREATED:20230321T103629Z
LAST-MODIFIED:20230321T103629Z
UID:25918-1684488600-1684494000@www.kuenske.de
SUMMARY:Krabbeltreff
DESCRIPTION:
URL:https://www.kuenske.de/veranstaltungen/krabbeltreff-27/
ATTACH;FMTTYPE=image/jpeg:https://www.kuenske.de/kuenske-content/uploads/2023/03/Krabbeltreff_neu.jpg
END:VEVENT
BEGIN:VEVENT
DTSTART;TZID=Europe/Berlin:20230519T100000
DTEND;TZID=Europe/Berlin:20230519T170000
DTSTAMP:20260423T134716
CREATED:20230517T195458Z
LAST-MODIFIED:20230517T195458Z
UID:26472-1684490400-1684515600@www.kuenske.de
SUMMARY:Casi Eröffnung
DESCRIPTION: 
URL:https://www.kuenske.de/veranstaltungen/casi-eroeffnung/
ATTACH;FMTTYPE=image/jpeg:https://www.kuenske.de/kuenske-content/uploads/2023/05/IMG_4273.jpeg
END:VEVENT
BEGIN:VEVENT
DTSTART;TZID=Europe/Berlin:20230519T153000
DTEND;TZID=Europe/Berlin:20230519T170000
DTSTAMP:20260423T134716
CREATED:20230321T103753Z
LAST-MODIFIED:20230321T103753Z
UID:25922-1684510200-1684515600@www.kuenske.de
SUMMARY:Gemeindebücherei
DESCRIPTION:
URL:https://www.kuenske.de/veranstaltungen/gemeindebuecherei-95/
ATTACH;FMTTYPE=image/jpeg:https://www.kuenske.de/kuenske-content/uploads/2020/10/Hoerbuchspende-scaled.jpg
END:VEVENT
BEGIN:VEVENT
DTSTART;TZID=Europe/Berlin:20230519T170000
DTEND;TZID=Europe/Berlin:20230519T190000
DTSTAMP:20260423T134716
CREATED:20230326T175853Z
LAST-MODIFIED:20230326T175853Z
UID:25993-1684515600-1684522800@www.kuenske.de
SUMMARY:Global 6
DESCRIPTION:
URL:https://www.kuenske.de/veranstaltungen/global-6/
ATTACH;FMTTYPE=image/jpeg:https://www.kuenske.de/kuenske-content/uploads/2023/03/Laufen-Spenden.jpg
END:VEVENT
BEGIN:VEVENT
DTSTART;VALUE=DATE:20230520
DTEND;VALUE=DATE:20230521
DTSTAMP:20260423T134716
CREATED:20230326T055740Z
LAST-MODIFIED:20230326T055740Z
UID:25951-1684540800-1684627199@www.kuenske.de
SUMMARY:AWO Ausflug zum Spargelessen
DESCRIPTION:
URL:https://www.kuenske.de/veranstaltungen/awo-ausflug-zum-spargelessen/
ATTACH;FMTTYPE=image/png:https://www.kuenske.de/kuenske-content/uploads/2019/10/Awo-logo-08.svg_.png
END:VEVENT
BEGIN:VEVENT
DTSTART;TZID=Europe/Berlin:20230521T100000
DTEND;TZID=Europe/Berlin:20230521T110000
DTSTAMP:20260423T134716
CREATED:20230414T082702Z
LAST-MODIFIED:20230414T082702Z
UID:26302-1684663200-1684666800@www.kuenske.de
SUMMARY:Gottesdienst
DESCRIPTION:
URL:https://www.kuenske.de/veranstaltungen/gottesdienst-31/
ATTACH;FMTTYPE=image/jpeg:https://www.kuenske.de/kuenske-content/uploads/2023/04/Gottesdienste5.jpg
END:VEVENT
BEGIN:VEVENT
DTSTART;TZID=Europe/Berlin:20230521T110000
DTEND;TZID=Europe/Berlin:20230521T120000
DTSTAMP:20260423T134716
CREATED:20230404T060926Z
LAST-MODIFIED:20230404T060926Z
UID:26163-1684666800-1684670400@www.kuenske.de
SUMMARY:"Unsere Erde" Kinder-Aktionstag
DESCRIPTION:
URL:https://www.kuenske.de/veranstaltungen/unsere-erde-kinder-aktionstag-3/
ATTACH;FMTTYPE=image/jpeg:https://www.kuenske.de/kuenske-content/uploads/2023/04/Kirche-Kueche.jpg
END:VEVENT
BEGIN:VEVENT
DTSTART;TZID=Europe/Berlin:20230522T100000
DTEND;TZID=Europe/Berlin:20230522T110000
DTSTAMP:20260423T134716
CREATED:20230326T122956Z
LAST-MODIFIED:20230326T122956Z
UID:25988-1684749600-1684753200@www.kuenske.de
SUMMARY:Gehtreff
DESCRIPTION:
URL:https://www.kuenske.de/veranstaltungen/gehtreff-4/
ATTACH;FMTTYPE=image/jpeg:https://www.kuenske.de/kuenske-content/uploads/2023/03/gehtreff.jpg
END:VEVENT
END:VCALENDAR