BEGIN:VCALENDAR
VERSION:2.0
PRODID:-//kuenske.de - ECPv6.15.20//NONSGML v1.0//EN
CALSCALE:GREGORIAN
METHOD:PUBLISH
X-WR-CALNAME:kuenske.de
X-ORIGINAL-URL:https://www.kuenske.de
X-WR-CALDESC:Veranstaltungen für kuenske.de
REFRESH-INTERVAL;VALUE=DURATION:PT1H
X-Robots-Tag:noindex
X-PUBLISHED-TTL:PT1H
BEGIN:VTIMEZONE
TZID:Europe/Berlin
BEGIN:DAYLIGHT
TZOFFSETFROM:+0100
TZOFFSETTO:+0200
TZNAME:CEST
DTSTART:20210328T010000
END:DAYLIGHT
BEGIN:STANDARD
TZOFFSETFROM:+0200
TZOFFSETTO:+0100
TZNAME:CET
DTSTART:20211031T010000
END:STANDARD
BEGIN:DAYLIGHT
TZOFFSETFROM:+0100
TZOFFSETTO:+0200
TZNAME:CEST
DTSTART:20220327T010000
END:DAYLIGHT
BEGIN:STANDARD
TZOFFSETFROM:+0200
TZOFFSETTO:+0100
TZNAME:CET
DTSTART:20221030T010000
END:STANDARD
BEGIN:DAYLIGHT
TZOFFSETFROM:+0100
TZOFFSETTO:+0200
TZNAME:CEST
DTSTART:20230326T010000
END:DAYLIGHT
BEGIN:STANDARD
TZOFFSETFROM:+0200
TZOFFSETTO:+0100
TZNAME:CET
DTSTART:20231029T010000
END:STANDARD
END:VTIMEZONE
BEGIN:VEVENT
DTSTART;TZID=Europe/Berlin:20220112T170000
DTEND;TZID=Europe/Berlin:20220112T170000
DTSTAMP:20260419T152157
CREATED:20220117T094322Z
LAST-MODIFIED:20220117T094717Z
UID:22507-1642006800-1642006800@www.kuenske.de
SUMMARY:HFA
DESCRIPTION:
URL:https://www.kuenske.de/veranstaltungen/hfa-7/
CATEGORIES:Sitzungen
ATTACH;FMTTYPE=image/png:https://www.kuenske.de/kuenske-content/uploads/2019/10/capitol-32309.png
END:VEVENT
BEGIN:VEVENT
DTSTART;VALUE=DATE:20220114
DTEND;VALUE=DATE:20220115
DTSTAMP:20260419T152157
CREATED:20220117T095030Z
LAST-MODIFIED:20220117T095030Z
UID:22520-1642118400-1642204799@www.kuenske.de
SUMMARY:Gemeindebücherei
DESCRIPTION:
URL:https://www.kuenske.de/veranstaltungen/gemeindebuecherei-44/
ATTACH;FMTTYPE=image/jpeg:https://www.kuenske.de/kuenske-content/uploads/2020/08/GemeindeBIB-scaled-1.jpg
END:VEVENT
BEGIN:VEVENT
DTSTART;TZID=Europe/Berlin:20220119T143000
DTEND;TZID=Europe/Berlin:20220119T143000
DTSTAMP:20260419T152157
CREATED:20220117T123025Z
LAST-MODIFIED:20220117T123025Z
UID:22533-1642602600-1642602600@www.kuenske.de
SUMMARY:Frauenhilfe
DESCRIPTION:Am Mittwoch\, 19. Januar\, trifft sich die Frauenhilfe Künsebeck im Gemeindehaus um 14.30 Uhr. \nAlle Interessierten Frauen sind herzlich eingeladen. \nThema ist die Jahreslosung. \nEs gilt die 2-G +-Regel. \nWer „geboostert“ ist\,  also dreimal geimpft\, braucht keinen offiziellen Test.
URL:https://www.kuenske.de/veranstaltungen/frauenhilfe-5/
CATEGORIES:Gemeinde
ATTACH;FMTTYPE=image/jpeg:https://www.kuenske.de/kuenske-content/uploads/2020/09/bild-gemeindehaus-ingrid.jpg
END:VEVENT
BEGIN:VEVENT
DTSTART;TZID=Europe/Berlin:20220120T090000
DTEND;TZID=Europe/Berlin:20220120T170000
DTSTAMP:20260419T152157
CREATED:20211228T061956Z
LAST-MODIFIED:20211228T061956Z
UID:22447-1642669200-1642698000@www.kuenske.de
SUMMARY:Frühstsück in der AWO
DESCRIPTION:mit Anmeldung\, Kosten 7 €
URL:https://www.kuenske.de/veranstaltungen/fruehstsueck-in-der-awo-2/
CATEGORIES:Freizeit
ATTACH;FMTTYPE=image/png:https://www.kuenske.de/kuenske-content/uploads/2019/10/Awo-logo-08.svg_.png
END:VEVENT
BEGIN:VEVENT
DTSTART;VALUE=DATE:20220121
DTEND;VALUE=DATE:20220122
DTSTAMP:20260419T152157
CREATED:20220117T095111Z
LAST-MODIFIED:20220117T095111Z
UID:22522-1642723200-1642809599@www.kuenske.de
SUMMARY:Gemeindebücherei
DESCRIPTION:
URL:https://www.kuenske.de/veranstaltungen/gemeindebuecherei-45/
ATTACH;FMTTYPE=image/jpeg:https://www.kuenske.de/kuenske-content/uploads/2020/10/Hoerbuchspende-scaled.jpg
END:VEVENT
BEGIN:VEVENT
DTSTART;TZID=Europe/Berlin:20220122T090000
DTEND;TZID=Europe/Berlin:20220122T110000
DTSTAMP:20260419T152157
CREATED:20220117T123130Z
LAST-MODIFIED:20220117T123130Z
UID:22535-1642842000-1642849200@www.kuenske.de
SUMMARY:Frauenfrühstsück
DESCRIPTION:
URL:https://www.kuenske.de/veranstaltungen/frauenfruehstsueck-2/
ATTACH;FMTTYPE=image/jpeg:https://www.kuenske.de/kuenske-content/uploads/2021/12/fruehstsueck.jpg
END:VEVENT
BEGIN:VEVENT
DTSTART;TZID=Europe/Berlin:20220125T170000
DTEND;TZID=Europe/Berlin:20220125T170000
DTSTAMP:20260419T152157
CREATED:20220117T094409Z
LAST-MODIFIED:20220117T094816Z
UID:22509-1643130000-1643130000@www.kuenske.de
SUMMARY:Ausschuss für Umwelt und Klima
DESCRIPTION:
URL:https://www.kuenske.de/veranstaltungen/ausschuss-fuer-umwelt-und-klima/
CATEGORIES:Sitzungen
ATTACH;FMTTYPE=image/png:https://www.kuenske.de/kuenske-content/uploads/2019/10/capitol-32309.png
END:VEVENT
BEGIN:VEVENT
DTSTART;TZID=Europe/Berlin:20220126T080000
DTEND;TZID=Europe/Berlin:20220126T170000
DTSTAMP:20260419T152157
CREATED:20220117T094451Z
LAST-MODIFIED:20220117T094945Z
UID:22512-1643184000-1643216400@www.kuenske.de
SUMMARY:Ratssitzung
DESCRIPTION:
URL:https://www.kuenske.de/veranstaltungen/ratssitzung-12/
CATEGORIES:Sitzungen
ATTACH;FMTTYPE=image/png:https://www.kuenske.de/kuenske-content/uploads/2019/10/capitol-32309.png
END:VEVENT
BEGIN:VEVENT
DTSTART;VALUE=DATE:20220127
DTEND;VALUE=DATE:20220128
DTSTAMP:20260419T152157
CREATED:20220117T095340Z
LAST-MODIFIED:20220117T095340Z
UID:22528-1643241600-1643327999@www.kuenske.de
SUMMARY:#WeRemember
DESCRIPTION:
URL:https://www.kuenske.de/veranstaltungen/weremember/
ATTACH;FMTTYPE=image/jpeg:https://www.kuenske.de/kuenske-content/uploads/2019/12/schalk.jpg
END:VEVENT
BEGIN:VEVENT
DTSTART;VALUE=DATE:20220128
DTEND;VALUE=DATE:20220129
DTSTAMP:20260419T152157
CREATED:20220117T095200Z
LAST-MODIFIED:20220117T095200Z
UID:22524-1643328000-1643414399@www.kuenske.de
SUMMARY:Gemeindebücherei
DESCRIPTION:
URL:https://www.kuenske.de/veranstaltungen/gemeindebuecherei-46/
ATTACH;FMTTYPE=image/jpeg:https://www.kuenske.de/kuenske-content/uploads/2020/10/Hoerbuchspende-scaled.jpg
END:VEVENT
BEGIN:VEVENT
DTSTART;TZID=Europe/Berlin:20220128T150000
DTEND;TZID=Europe/Berlin:20220128T170000
DTSTAMP:20260419T152157
CREATED:20220128T074412Z
LAST-MODIFIED:20220128T074412Z
UID:22663-1643382000-1643389200@www.kuenske.de
SUMMARY:BUND Begehung KOYO Parkplatz
DESCRIPTION:Die #BUND Kreisgruppe #Gütersloh bietet am Freitag\, den 28.01.2022 um 15 Uhr eine Infoveranstaltung zur #Rodung bei Koyo an. Treffpunkt ist am Parkplatz bei Koyo an der Werkstraße in #HalleWestfalen #Künsebeck. Es gilt eine Maskenpflicht.
URL:https://www.kuenske.de/veranstaltungen/bund-begehung-koyo-parkplatz/
ATTACH;FMTTYPE=image/jpeg:https://www.kuenske.de/kuenske-content/uploads/2022/01/koyo_wald.jpg
END:VEVENT
BEGIN:VEVENT
DTSTART;TZID=Europe/Berlin:20220130T180000
DTEND;TZID=Europe/Berlin:20220130T180000
DTSTAMP:20260419T152157
CREATED:20211110T110116Z
LAST-MODIFIED:20211110T110116Z
UID:21938-1643565600-1643565600@www.kuenske.de
SUMMARY:Krimilesung mit G. Garnschröder
DESCRIPTION:Das idyllische Städtchen Steinhagen wird von merkwürdigen Todesfällen heimgesucht.\nErst wird ein siebzehnjähriger Schüler von einem Auto überfahren\, drei Tage später findet man einen Toten am Pulverbach und die Baustelle in der Nähe wird von Dieben leergeräumt. Hauptkommissar Tann und seine Kollegin Vera Senft finden heraus\, dass zwischen dem Unfallopfer und dem Toten an der Baustelle ein Zusammenhang besteht. Zahllose Hinweise und mysteriöse Telefonate führen das Ermittlerduo schließlich auf die richtige Spur\, denn plötzlich werden auch sie von anonymen Anrufern bedroht.\nIm Anschluss Autogrammstunde.
URL:https://www.kuenske.de/veranstaltungen/krimilesung-mit-g-garnschroeder/
LOCATION:Gemeindehaus Künsebeck\, Teutoburgerstrasse 20\, Halle\, 33790\, Deutschland
CATEGORIES:Freizeit
ATTACH;FMTTYPE=image/jpeg:https://www.kuenske.de/kuenske-content/uploads/2021/11/Tann4.jpg
ORGANIZER;CN="IKGB":MAILTO:mkummrow@kontext.info
END:VEVENT
END:VCALENDAR