BEGIN:VCALENDAR
VERSION:2.0
PRODID:-//kuenske.de - ECPv6.15.20//NONSGML v1.0//EN
CALSCALE:GREGORIAN
METHOD:PUBLISH
X-ORIGINAL-URL:https://www.kuenske.de
X-WR-CALDESC:Veranstaltungen für kuenske.de
REFRESH-INTERVAL;VALUE=DURATION:PT1H
X-Robots-Tag:noindex
X-PUBLISHED-TTL:PT1H
BEGIN:VTIMEZONE
TZID:Europe/Berlin
BEGIN:DAYLIGHT
TZOFFSETFROM:+0100
TZOFFSETTO:+0200
TZNAME:CEST
DTSTART:20200329T010000
END:DAYLIGHT
BEGIN:STANDARD
TZOFFSETFROM:+0200
TZOFFSETTO:+0100
TZNAME:CET
DTSTART:20201025T010000
END:STANDARD
BEGIN:DAYLIGHT
TZOFFSETFROM:+0100
TZOFFSETTO:+0200
TZNAME:CEST
DTSTART:20210328T010000
END:DAYLIGHT
BEGIN:STANDARD
TZOFFSETFROM:+0200
TZOFFSETTO:+0100
TZNAME:CET
DTSTART:20211031T010000
END:STANDARD
BEGIN:DAYLIGHT
TZOFFSETFROM:+0100
TZOFFSETTO:+0200
TZNAME:CEST
DTSTART:20220327T010000
END:DAYLIGHT
BEGIN:STANDARD
TZOFFSETFROM:+0200
TZOFFSETTO:+0100
TZNAME:CET
DTSTART:20221030T010000
END:STANDARD
END:VTIMEZONE
BEGIN:VEVENT
DTSTART;VALUE=DATE:20211129
DTEND;VALUE=DATE:20211207
DTSTAMP:20260419T165557
CREATED:20211025T093239Z
LAST-MODIFIED:20211025T093239Z
UID:21745-1638144000-1638835199@www.kuenske.de
SUMMARY:Virtueller Nikolaus-Lauf
DESCRIPTION:
URL:https://www.kuenske.de/veranstaltungen/virtueller-nikolaus-lauf/
CATEGORIES:Sport
ATTACH;FMTTYPE=image/png:https://www.kuenske.de/kuenske-content/uploads/2021/10/Weihnachtsposter-1.png
END:VEVENT
BEGIN:VEVENT
DTSTART;VALUE=DATE:20211201
DTEND;VALUE=DATE:20211225
DTSTAMP:20260419T165557
CREATED:20211201T080903Z
LAST-MODIFIED:20211201T080903Z
UID:22252-1638316800-1640390399@www.kuenske.de
SUMMARY:Virtueller Adventskalender
DESCRIPTION:Künsebeck – eine Weihnachtsgeschichte
URL:https://www.kuenske.de/veranstaltungen/virtueller-adventskalender/
CATEGORIES:Gemeinde
ATTACH;FMTTYPE=image/png:https://www.kuenske.de/kuenske-content/uploads/2021/11/weihnachtsbildfilm.png
END:VEVENT
BEGIN:VEVENT
DTSTART;TZID=Europe/Berlin:20211201T123000
DTEND;TZID=Europe/Berlin:20211201T130000
DTSTAMP:20260419T165557
CREATED:20211201T075205Z
LAST-MODIFIED:20211201T075205Z
UID:22230-1638361800-1638363600@www.kuenske.de
SUMMARY:Obst-Wagen
DESCRIPTION:Äpfel aus dem alten Land gibt es heute wieder auf dem Park & Ride Parkplatz an der Hauptstrasse / Bahnhof. Um 12:30 Uhr hält der Verkaufswagen von Obst Kruse\, der auch Clementinen\, Nüsse\, Birnen und Orangen anbietet\, im Dorf. Nächster Termin ist dann der 15.12.2021.
URL:https://www.kuenske.de/veranstaltungen/obst-wagen/
ATTACH;FMTTYPE=image/jpeg:https://www.kuenske.de/kuenske-content/uploads/2021/12/apfelkiste.jpg
END:VEVENT
BEGIN:VEVENT
DTSTART;TZID=Europe/Berlin:20211201T150000
DTEND;TZID=Europe/Berlin:20211201T170000
DTSTAMP:20260419T165557
CREATED:20211201T075906Z
LAST-MODIFIED:20211201T075906Z
UID:22239-1638370800-1638378000@www.kuenske.de
SUMMARY:Frauenhilfe
DESCRIPTION:mit Pfarrer Hamilton
URL:https://www.kuenske.de/veranstaltungen/frauenhilfe-4/
ATTACH;FMTTYPE=image/jpeg:https://www.kuenske.de/kuenske-content/uploads/2021/12/torte.jpg
END:VEVENT
BEGIN:VEVENT
DTSTART;TZID=Europe/Berlin:20211201T171500
DTEND;TZID=Europe/Berlin:20211201T171500
DTSTAMP:20260419T165557
CREATED:20210916T113310Z
LAST-MODIFIED:20210916T113310Z
UID:21488-1638378900-1638378900@www.kuenske.de
SUMMARY:HFA
DESCRIPTION:
URL:https://www.kuenske.de/veranstaltungen/hfa-6/
CATEGORIES:Sitzungen
ATTACH;FMTTYPE=image/png:https://www.kuenske.de/kuenske-content/uploads/2019/10/capitol-32309.png
END:VEVENT
BEGIN:VEVENT
DTSTART;TZID=Europe/Berlin:20211203T150000
DTEND;TZID=Europe/Berlin:20211203T170000
DTSTAMP:20260419T165557
CREATED:20211025T095414Z
LAST-MODIFIED:20211025T095414Z
UID:21762-1638543600-1638550800@www.kuenske.de
SUMMARY:Gemeindebücherei
DESCRIPTION:
URL:https://www.kuenske.de/veranstaltungen/gemeindebuecherei-41/
CATEGORIES:Gemeinde
ATTACH;FMTTYPE=image/jpeg:https://www.kuenske.de/kuenske-content/uploads/2020/10/Hoerbuchspende-scaled.jpg
END:VEVENT
BEGIN:VEVENT
DTSTART;VALUE=DATE:20211204
DTEND;VALUE=DATE:20211205
DTSTAMP:20260419T165557
CREATED:20211025T093022Z
LAST-MODIFIED:20211025T093022Z
UID:21743-1638576000-1638662399@www.kuenske.de
SUMMARY:Aufbau Nikolausmarkt
DESCRIPTION:
URL:https://www.kuenske.de/veranstaltungen/aufbau-nikolausmarkt-2/
ATTACH;FMTTYPE=image/jpeg:https://www.kuenske.de/kuenske-content/uploads/2019/11/kein-bild.jpg
END:VEVENT
BEGIN:VEVENT
DTSTART;VALUE=DATE:20211205
DTEND;VALUE=DATE:20211206
DTSTAMP:20260419T165557
CREATED:20210916T113402Z
LAST-MODIFIED:20210916T113402Z
UID:21490-1638662400-1638748799@www.kuenske.de
SUMMARY:Nikolausmarkt
DESCRIPTION:
URL:https://www.kuenske.de/veranstaltungen/nikolausmarkt-2/
CATEGORIES:Freizeit
ATTACH;FMTTYPE=image/jpeg:https://www.kuenske.de/kuenske-content/uploads/2010/12/niko-229x300.jpg
END:VEVENT
BEGIN:VEVENT
DTSTART;TZID=Europe/Berlin:20211205T130000
DTEND;TZID=Europe/Berlin:20211205T150000
DTSTAMP:20260419T165557
CREATED:20211125T113201Z
LAST-MODIFIED:20211125T113201Z
UID:22068-1638709200-1638716400@www.kuenske.de
SUMMARY:Nikolausparcours
DESCRIPTION:
URL:https://www.kuenske.de/veranstaltungen/nikolausparcours/
LOCATION:Gemeindehaus Künsebeck\, Teutoburgerstrasse 20\, Halle\, 33790\, Deutschland
CATEGORIES:Sport
ATTACH;FMTTYPE=image/png:https://www.kuenske.de/kuenske-content/uploads/2021/11/Nikolausparcours-des-TV-Kuensebeck.png
END:VEVENT
BEGIN:VEVENT
DTSTART;TZID=Europe/Berlin:20211206T170000
DTEND;TZID=Europe/Berlin:20211206T180000
DTSTAMP:20260419T165557
CREATED:20211025T093339Z
LAST-MODIFIED:20211025T093339Z
UID:21748-1638810000-1638813600@www.kuenske.de
SUMMARY:Nikolaus-Lauf
DESCRIPTION:Gemeinsame Runde\, Start am Gemeindehaus\, im Anschluss gibts Punsch 🙂
URL:https://www.kuenske.de/veranstaltungen/nikolaus-lauf/
CATEGORIES:Sport
ATTACH;FMTTYPE=image/png:https://www.kuenske.de/kuenske-content/uploads/2021/10/Weihnachtsposter-1.png
END:VEVENT
BEGIN:VEVENT
DTSTART;TZID=Europe/Berlin:20211210T150000
DTEND;TZID=Europe/Berlin:20211210T170000
DTSTAMP:20260419T165557
CREATED:20211125T113901Z
LAST-MODIFIED:20211125T113901Z
UID:22073-1639148400-1639155600@www.kuenske.de
SUMMARY:Gemeindebücherei
DESCRIPTION:
URL:https://www.kuenske.de/veranstaltungen/gemeindebuecherei-42/
CATEGORIES:Freizeit
ATTACH;FMTTYPE=image/jpeg:https://www.kuenske.de/kuenske-content/uploads/2019/11/kein-bild.jpg
END:VEVENT
BEGIN:VEVENT
DTSTART;TZID=Europe/Berlin:20211211T090000
DTEND;TZID=Europe/Berlin:20211211T110000
DTSTAMP:20260419T165557
CREATED:20211201T075708Z
LAST-MODIFIED:20211201T075708Z
UID:22236-1639213200-1639220400@www.kuenske.de
SUMMARY:Frauenfrühstück
DESCRIPTION:
URL:https://www.kuenske.de/veranstaltungen/frauenfruehstueck-9/
CATEGORIES:Gemeinde
ATTACH;FMTTYPE=image/jpeg:https://www.kuenske.de/kuenske-content/uploads/2021/12/fruehstsueck.jpg
END:VEVENT
BEGIN:VEVENT
DTSTART;TZID=Europe/Berlin:20211215T123000
DTEND;TZID=Europe/Berlin:20211215T130000
DTSTAMP:20260419T165557
CREATED:20211201T075244Z
LAST-MODIFIED:20211201T075244Z
UID:22232-1639571400-1639573200@www.kuenske.de
SUMMARY:Obst-Wagen
DESCRIPTION:Äpfel aus dem alten Land gibt es heute wieder auf dem Park & Ride Parkplatz an der Hauptstrasse / Bahnhof. Um 12:30 Uhr hält der Verkaufswagen von Obst Kruse\, der auch Clementinen\, Nüsse\, Birnen und Orangen anbietet\, im Dorf. Nächster Termin ist dann der 15.12.2021.
URL:https://www.kuenske.de/veranstaltungen/obst-wagen-2/
ATTACH;FMTTYPE=image/jpeg:https://www.kuenske.de/kuenske-content/uploads/2021/12/apfelkiste.jpg
END:VEVENT
BEGIN:VEVENT
DTSTART;TZID=Europe/Berlin:20211215T173000
DTEND;TZID=Europe/Berlin:20211215T173000
DTSTAMP:20260419T165557
CREATED:20211125T113627Z
LAST-MODIFIED:20211125T113627Z
UID:22071-1639589400-1639589400@www.kuenske.de
SUMMARY:Ratssitzung
DESCRIPTION:
URL:https://www.kuenske.de/veranstaltungen/ratssitzung-11/
CATEGORIES:Sitzungen
ATTACH;FMTTYPE=image/png:https://www.kuenske.de/kuenske-content/uploads/2019/10/capitol-32309.png
END:VEVENT
BEGIN:VEVENT
DTSTART;TZID=Europe/Berlin:20211217T150000
DTEND;TZID=Europe/Berlin:20211217T170000
DTSTAMP:20260419T165557
CREATED:20211201T075438Z
LAST-MODIFIED:20211201T075438Z
UID:22234-1639753200-1639760400@www.kuenske.de
SUMMARY:Gemeindebücherei
DESCRIPTION:
URL:https://www.kuenske.de/veranstaltungen/gemeindebuecherei-43/
CATEGORIES:Gemeinde
ATTACH;FMTTYPE=image/jpeg:https://www.kuenske.de/kuenske-content/uploads/2021/07/buch-liebe.jpg
END:VEVENT
BEGIN:VEVENT
DTSTART;TZID=Europe/Berlin:20211219T100000
DTEND;TZID=Europe/Berlin:20211219T170000
DTSTAMP:20260419T165557
CREATED:20211201T080151Z
LAST-MODIFIED:20211201T080151Z
UID:22245-1639908000-1639933200@www.kuenske.de
SUMMARY:Gottesdienst
DESCRIPTION:
URL:https://www.kuenske.de/veranstaltungen/gottesdienst-19/
CATEGORIES:Gemeinde
ATTACH;FMTTYPE=image/jpeg:https://www.kuenske.de/kuenske-content/uploads/2020/09/bild-gemeindehaus-ingrid.jpg
END:VEVENT
BEGIN:VEVENT
DTSTART;TZID=Europe/Berlin:20211224T153000
DTEND;TZID=Europe/Berlin:20211224T170000
DTSTAMP:20260419T165557
CREATED:20211201T080248Z
LAST-MODIFIED:20211201T080248Z
UID:22247-1640359800-1640365200@www.kuenske.de
SUMMARY:Familiengottesdienst
DESCRIPTION:mit Krippenspiel
URL:https://www.kuenske.de/veranstaltungen/familiengottesdienst/
CATEGORIES:Gemeinde
ATTACH;FMTTYPE=image/jpeg:https://www.kuenske.de/kuenske-content/uploads/2021/11/AB457EA8-9329-464C-9065-70A07D353E5D.jpeg
END:VEVENT
BEGIN:VEVENT
DTSTART;TZID=Europe/Berlin:20211224T173000
DTEND;TZID=Europe/Berlin:20211224T173000
DTSTAMP:20260419T165557
CREATED:20211201T080437Z
LAST-MODIFIED:20211201T080437Z
UID:22249-1640367000-1640367000@www.kuenske.de
SUMMARY:Christvesper
DESCRIPTION:mit Chor
URL:https://www.kuenske.de/veranstaltungen/christvesper-3/
CATEGORIES:Gemeinde
ATTACH;FMTTYPE=image/jpeg:https://www.kuenske.de/kuenske-content/uploads/2021/12/9EA4E42D-CBFD-41BB-BEC5-CC160C850E3F-scaled.jpeg
END:VEVENT
BEGIN:VEVENT
DTSTART;TZID=Europe/Berlin:20211227T170000
DTEND;TZID=Europe/Berlin:20211227T170000
DTSTAMP:20260419T165557
CREATED:20211201T080043Z
LAST-MODIFIED:20211201T080609Z
UID:22242-1640624400-1640624400@www.kuenske.de
SUMMARY:KINO Künsebeck - eine Weihnachtsgeschichte
DESCRIPTION:im Gemeindehaus\, mit 2G
URL:https://www.kuenske.de/veranstaltungen/kino-kuensebeck-eine-weihnachtsgeschichte/
ATTACH;FMTTYPE=image/png:https://www.kuenske.de/kuenske-content/uploads/2021/11/weihnachtsbildfilm.png
END:VEVENT
BEGIN:VEVENT
DTSTART;TZID=Europe/Berlin:20211231T180000
DTEND;TZID=Europe/Berlin:20211231T180000
DTSTAMP:20260419T165557
CREATED:20211228T062247Z
LAST-MODIFIED:20211228T062247Z
UID:22451-1640973600-1640973600@www.kuenske.de
SUMMARY:Jahresschluss Gottesdienst
DESCRIPTION:
URL:https://www.kuenske.de/veranstaltungen/jahresschluss-gottesdienst-2/
CATEGORIES:Gemeinde
ATTACH;FMTTYPE=image/jpeg:https://www.kuenske.de/kuenske-content/uploads/2020/09/bild-gemeindehaus-ingrid.jpg
END:VEVENT
END:VCALENDAR