BEGIN:VCALENDAR
VERSION:2.0
PRODID:-//kuenske.de - ECPv6.15.20//NONSGML v1.0//EN
CALSCALE:GREGORIAN
METHOD:PUBLISH
X-WR-CALNAME:kuenske.de
X-ORIGINAL-URL:https://www.kuenske.de
X-WR-CALDESC:Veranstaltungen für kuenske.de
REFRESH-INTERVAL;VALUE=DURATION:PT1H
X-Robots-Tag:noindex
X-PUBLISHED-TTL:PT1H
BEGIN:VTIMEZONE
TZID:Europe/Berlin
BEGIN:DAYLIGHT
TZOFFSETFROM:+0100
TZOFFSETTO:+0200
TZNAME:CEST
DTSTART:20200329T010000
END:DAYLIGHT
BEGIN:STANDARD
TZOFFSETFROM:+0200
TZOFFSETTO:+0100
TZNAME:CET
DTSTART:20201025T010000
END:STANDARD
BEGIN:DAYLIGHT
TZOFFSETFROM:+0100
TZOFFSETTO:+0200
TZNAME:CEST
DTSTART:20210328T010000
END:DAYLIGHT
BEGIN:STANDARD
TZOFFSETFROM:+0200
TZOFFSETTO:+0100
TZNAME:CET
DTSTART:20211031T010000
END:STANDARD
BEGIN:DAYLIGHT
TZOFFSETFROM:+0100
TZOFFSETTO:+0200
TZNAME:CEST
DTSTART:20220327T010000
END:DAYLIGHT
BEGIN:STANDARD
TZOFFSETFROM:+0200
TZOFFSETTO:+0100
TZNAME:CET
DTSTART:20221030T010000
END:STANDARD
END:VTIMEZONE
BEGIN:VEVENT
DTSTART;TZID=Europe/Berlin:20211102T140000
DTEND;TZID=Europe/Berlin:20211102T150000
DTSTAMP:20260419T212153
CREATED:20211102T114756Z
LAST-MODIFIED:20211102T114756Z
UID:21820-1635861600-1635865200@www.kuenske.de
SUMMARY:Gesundheitsschulung f. Aussteller
DESCRIPTION:Nikolausmarkt
URL:https://www.kuenske.de/veranstaltungen/gesundheitsschulung-f-aussteller/
CATEGORIES:Sitzungen
ATTACH;FMTTYPE=image/jpeg:https://www.kuenske.de/kuenske-content/uploads/2021/11/Desinfektion.jpg
END:VEVENT
BEGIN:VEVENT
DTSTART;TZID=Europe/Berlin:20211102T190000
DTEND;TZID=Europe/Berlin:20211102T190000
DTSTAMP:20260419T212153
CREATED:20210924T122106Z
LAST-MODIFIED:20211025T092552Z
UID:21545-1635879600-1635879600@www.kuenske.de
SUMMARY:Künsebeck FORUM
DESCRIPTION:Lasst uns gemeinsam unser Dorf und unsere Zukunft gestalten. Aus diesem Grund laden wir herzlich zum ersten Künsebeck FORUM ein. Die Idee dahinter ist simpel! Wir treffen uns einmal im Quartal. Die Wochentage wechseln\, immer 19 Uhr. So hat jeder und jede die Chance teilzunehmen. Egal ob du immer kommst oder wenn dir was auf der Seele liegt. Wir planen\, gestalten und werden gemeinsam kreativ für Künsebeck. \nZu jedem Treffen wird es ein aktuelles Thema geben\, welches dringend zu besprechen ist. Der Rest des Abends liegt in eurer Hand! Ihr bringt die Ideen aus den Arbeitsgruppen mit\, eure eigenen Ideen\, eure Sorgen und Wünsche! Und wir werden als Team weiter darüber sprechen und Lösungen suchen. \nAuch Nicht-Mitglieder sind herzlich eingeladen! Also bring deine Nachbarn mit\, lade deine Freunde ein und und und. Künsebeck ist vielfältig und das ist unsere Stärke. \nDas erste Künsebeck Forum: \nDienstag\, 2. November 2021 – 19 Uhr Gemeindehaus Künsebeck\, kleiner Saal \n\nDer Besuch des Nikolauses\nEure Themen\n\nWir freuen uns auf anregende Gespräche und einen kreativen Austausch\, \nder Vorstand \n  \nDas Kleingedruckte J \n\nThemenwünsche an info@kuensebeck-online.de\nAuch Wünsche bzgl. Gästen zum Gespräch sind gern gesehen!\nDie Termine 2022 entnehmt bitte der Tageszeitung oder kuenske.de
URL:https://www.kuenske.de/veranstaltungen/kuensebeck-forum/
ATTACH;FMTTYPE=image/png:https://www.kuenske.de/kuenske-content/uploads/2021/10/Forum_Plakat_2021.png
END:VEVENT
BEGIN:VEVENT
DTSTART;TZID=Europe/Berlin:20211105T150000
DTEND;TZID=Europe/Berlin:20211105T170000
DTSTAMP:20260419T212153
CREATED:20211025T094936Z
LAST-MODIFIED:20211025T094936Z
UID:21753-1636124400-1636131600@www.kuenske.de
SUMMARY:Gemeindebücherei
DESCRIPTION:
URL:https://www.kuenske.de/veranstaltungen/gemeindebuecherei-37/
CATEGORIES:Gemeinde
ATTACH;FMTTYPE=image/jpeg:https://www.kuenske.de/kuenske-content/uploads/2020/10/Hoerbuchspende-scaled.jpg
END:VEVENT
BEGIN:VEVENT
DTSTART;TZID=Europe/Berlin:20211105T170000
DTEND;TZID=Europe/Berlin:20211105T170000
DTSTAMP:20260419T212153
CREATED:20211007T093318Z
LAST-MODIFIED:20211007T093318Z
UID:21616-1636131600-1636131600@www.kuenske.de
SUMMARY:Bayrischer Abend
DESCRIPTION:Im AWO Ortsverein – auch Nichtmitglieder sind herzlich eingeladen! \nEine Anmeldung ist erforderlich / beim Vorstand der AWO \nUnkostenbeitrag 10 € für Essen\, Trinken und Unterhaltungsprogramm
URL:https://www.kuenske.de/veranstaltungen/bayrischer-abend/
CATEGORIES:Freizeit
ATTACH;FMTTYPE=image/jpeg:https://www.kuenske.de/kuenske-content/uploads/2021/10/meal-gcd0d4eef7_1920.jpg
END:VEVENT
BEGIN:VEVENT
DTSTART;TZID=Europe/Berlin:20211112T150000
DTEND;TZID=Europe/Berlin:20211112T170000
DTSTAMP:20260419T212153
CREATED:20211025T095020Z
LAST-MODIFIED:20211025T095020Z
UID:21755-1636729200-1636736400@www.kuenske.de
SUMMARY:Gemeindebücherei
DESCRIPTION:
URL:https://www.kuenske.de/veranstaltungen/gemeindebuecherei-38/
CATEGORIES:Gemeinde
ATTACH;FMTTYPE=image/jpeg:https://www.kuenske.de/kuenske-content/uploads/2020/08/GemeindeBIB-scaled-1.jpg
END:VEVENT
BEGIN:VEVENT
DTSTART;TZID=Europe/Berlin:20211113T090000
DTEND;TZID=Europe/Berlin:20211113T110000
DTSTAMP:20260419T212153
CREATED:20211025T092053Z
LAST-MODIFIED:20211025T092053Z
UID:21736-1636794000-1636801200@www.kuenske.de
SUMMARY:Frauenfrühstück
DESCRIPTION:
URL:https://www.kuenske.de/veranstaltungen/frauenfruehstueck-8/
ATTACH;FMTTYPE=image/jpeg:https://www.kuenske.de/kuenske-content/uploads/2020/09/frauenhilfe.jpg
END:VEVENT
BEGIN:VEVENT
DTSTART;TZID=Europe/Berlin:20211114T100000
DTEND;TZID=Europe/Berlin:20211114T110000
DTSTAMP:20260419T212153
CREATED:20211007T085144Z
LAST-MODIFIED:20211007T085144Z
UID:21609-1636884000-1636887600@www.kuenske.de
SUMMARY:Andacht am Mahnmal
DESCRIPTION:
URL:https://www.kuenske.de/veranstaltungen/andacht-am-mahnmal/
CATEGORIES:Gemeinde
ATTACH;FMTTYPE=image/jpeg:https://www.kuenske.de/kuenske-content/uploads/2021/10/Graue-Faltkarte-Trauer-Katzenfoto.jpg
END:VEVENT
BEGIN:VEVENT
DTSTART;TZID=Europe/Berlin:20211117T171500
DTEND;TZID=Europe/Berlin:20211117T171500
DTSTAMP:20260419T212153
CREATED:20210916T112546Z
LAST-MODIFIED:20210916T112546Z
UID:21473-1637169300-1637169300@www.kuenske.de
SUMMARY:ASS
DESCRIPTION:
URL:https://www.kuenske.de/veranstaltungen/ass-5/
CATEGORIES:Sitzungen
ATTACH;FMTTYPE=image/png:https://www.kuenske.de/kuenske-content/uploads/2019/10/capitol-32309.png
END:VEVENT
BEGIN:VEVENT
DTSTART;TZID=Europe/Berlin:20211118T171500
DTEND;TZID=Europe/Berlin:20211118T171500
DTSTAMP:20260419T212153
CREATED:20210916T112625Z
LAST-MODIFIED:20210916T112625Z
UID:21475-1637255700-1637255700@www.kuenske.de
SUMMARY:AKT
DESCRIPTION:
URL:https://www.kuenske.de/veranstaltungen/akt-2/
ATTACH;FMTTYPE=image/png:https://www.kuenske.de/kuenske-content/uploads/2019/10/capitol-32309.png
END:VEVENT
BEGIN:VEVENT
DTSTART;TZID=Europe/Berlin:20211119T150000
DTEND;TZID=Europe/Berlin:20211119T170000
DTSTAMP:20260419T212153
CREATED:20211025T095100Z
LAST-MODIFIED:20211025T095100Z
UID:21758-1637334000-1637341200@www.kuenske.de
SUMMARY:Gemeindebücherei
DESCRIPTION:
URL:https://www.kuenske.de/veranstaltungen/gemeindebuecherei-39/
ATTACH;FMTTYPE=image/jpeg:https://www.kuenske.de/kuenske-content/uploads/2020/10/Hoerbuchspende-scaled.jpg
END:VEVENT
BEGIN:VEVENT
DTSTART;TZID=Europe/Berlin:20211119T160000
DTEND;TZID=Europe/Berlin:20211119T170000
DTSTAMP:20260419T212153
CREATED:20211102T072630Z
LAST-MODIFIED:20211109T112935Z
UID:21813-1637337600-1637341200@www.kuenske.de
SUMMARY:Vorlesetag im Gemeindehaus
DESCRIPTION:für alle Künsker Kinder
URL:https://www.kuenske.de/veranstaltungen/vorlesetag-im-gemeindehaus/
CATEGORIES:Gemeinde
ATTACH;FMTTYPE=image/jpeg:https://www.kuenske.de/kuenske-content/uploads/2021/11/Eine-Gemeinschaftsaktion-des-Pfarrbezirkes-der-IGKB-e.V.-scaled.jpg
END:VEVENT
BEGIN:VEVENT
DTSTART;TZID=Europe/Berlin:20211119T180000
DTEND;TZID=Europe/Berlin:20211119T210000
DTSTAMP:20260419T212153
CREATED:20211110T102952Z
LAST-MODIFIED:20211110T102952Z
UID:21936-1637344800-1637355600@www.kuenske.de
SUMMARY:Neue Yoga Kurse
DESCRIPTION:
URL:https://www.kuenske.de/veranstaltungen/neue-yoga-kurse/
CATEGORIES:Sport
ATTACH;FMTTYPE=image/png:https://www.kuenske.de/kuenske-content/uploads/2021/11/Gruen-und-Braun-Yoga-Veranstaltung-Countdown-Interaktive-Instagram-Story.png
END:VEVENT
BEGIN:VEVENT
DTSTART;TZID=Europe/Berlin:20211123T171500
DTEND;TZID=Europe/Berlin:20211123T171500
DTSTAMP:20260419T212153
CREATED:20210916T112942Z
LAST-MODIFIED:20210916T112942Z
UID:21479-1637687700-1637687700@www.kuenske.de
SUMMARY:PSA
DESCRIPTION:
URL:https://www.kuenske.de/veranstaltungen/psa-7/
CATEGORIES:Sitzungen
ATTACH;FMTTYPE=image/png:https://www.kuenske.de/kuenske-content/uploads/2019/10/capitol-32309.png
END:VEVENT
BEGIN:VEVENT
DTSTART;TZID=Europe/Berlin:20211124T150000
DTEND;TZID=Europe/Berlin:20211124T170000
DTSTAMP:20260419T212153
CREATED:20211025T092929Z
LAST-MODIFIED:20211025T092929Z
UID:21740-1637766000-1637773200@www.kuenske.de
SUMMARY:Baumschmückaktion
DESCRIPTION:mit den KiTas\, der OGS und allen Künsker! \nMit Punsch & Gebäck. \nTreffpunkt am Ringofen Platz.
URL:https://www.kuenske.de/veranstaltungen/baumschmueckaktion/
ATTACH;FMTTYPE=image/png:https://www.kuenske.de/kuenske-content/uploads/2021/10/Gelb-rot-gruenes-Instagram-Post-Weihnachten-Weihnachtsgruesse1.png
END:VEVENT
BEGIN:VEVENT
DTSTART;TZID=Europe/Berlin:20211124T171500
DTEND;TZID=Europe/Berlin:20211124T171500
DTSTAMP:20260419T212153
CREATED:20210916T113030Z
LAST-MODIFIED:20210916T113030Z
UID:21481-1637774100-1637774100@www.kuenske.de
SUMMARY:AUK
DESCRIPTION:
URL:https://www.kuenske.de/veranstaltungen/auk-3/
CATEGORIES:Sitzungen
ATTACH;FMTTYPE=image/png:https://www.kuenske.de/kuenske-content/uploads/2019/10/capitol-32309.png
END:VEVENT
BEGIN:VEVENT
DTSTART;TZID=Europe/Berlin:20211125T171500
DTEND;TZID=Europe/Berlin:20211125T171500
DTSTAMP:20260419T212153
CREATED:20210916T113121Z
LAST-MODIFIED:20210916T113121Z
UID:21484-1637860500-1637860500@www.kuenske.de
SUMMARY:BVA
DESCRIPTION:
URL:https://www.kuenske.de/veranstaltungen/bva-8/
CATEGORIES:Sitzungen
ATTACH;FMTTYPE=image/png:https://www.kuenske.de/kuenske-content/uploads/2019/10/capitol-32309.png
END:VEVENT
BEGIN:VEVENT
DTSTART;VALUE=DATE:20211126
DTEND;VALUE=DATE:20211127
DTSTAMP:20260419T212153
CREATED:20211102T115123Z
LAST-MODIFIED:20211102T115123Z
UID:21823-1637884800-1637971199@www.kuenske.de
SUMMARY:Aufbau Weihnachtsbeleuchtung IGKB
DESCRIPTION:
URL:https://www.kuenske.de/veranstaltungen/aufbau-weihnachtsbeleuchtung-igkb/
ATTACH;FMTTYPE=image/jpeg:https://www.kuenske.de/kuenske-content/uploads/2008/12/stern.jpg
END:VEVENT
BEGIN:VEVENT
DTSTART;TZID=Europe/Berlin:20211126T150000
DTEND;TZID=Europe/Berlin:20211126T170000
DTSTAMP:20260419T212153
CREATED:20211025T095330Z
LAST-MODIFIED:20211025T095330Z
UID:21760-1637938800-1637946000@www.kuenske.de
SUMMARY:Gemeindebücherei
DESCRIPTION:
URL:https://www.kuenske.de/veranstaltungen/gemeindebuecherei-40/
CATEGORIES:Sitzungen
ATTACH;FMTTYPE=image/jpeg:https://www.kuenske.de/kuenske-content/uploads/2020/10/Hoerbuchspende-scaled.jpg
END:VEVENT
BEGIN:VEVENT
DTSTART;TZID=Europe/Berlin:20211127T170000
DTEND;TZID=Europe/Berlin:20211127T180000
DTSTAMP:20260419T212153
CREATED:20211102T072733Z
LAST-MODIFIED:20211102T072733Z
UID:21815-1638032400-1638036000@www.kuenske.de
SUMMARY:33 Jahre Gemeindehaus / Andacht & Punsch
DESCRIPTION:
URL:https://www.kuenske.de/veranstaltungen/33-jahre-gemeindehaus-andacht-punsch/
CATEGORIES:Gemeinde
ATTACH;FMTTYPE=image/png:https://www.kuenske.de/kuenske-content/uploads/2021/10/Rot-rosa-Instagram-Story-Frohe-Weihnachten-Familie1.png
END:VEVENT
BEGIN:VEVENT
DTSTART;TZID=Europe/Berlin:20211128T100000
DTEND;TZID=Europe/Berlin:20211128T170000
DTSTAMP:20260419T212153
CREATED:20211102T072837Z
LAST-MODIFIED:20211102T072837Z
UID:21817-1638093600-1638118800@www.kuenske.de
SUMMARY:Bläser aus Riga und Gottesdienst
DESCRIPTION:
URL:https://www.kuenske.de/veranstaltungen/blaeser-aus-riga-und-gottesdienst/
CATEGORIES:Gemeinde
ATTACH;FMTTYPE=image/jpeg:https://www.kuenske.de/kuenske-content/uploads/2019/12/RigaBläser2019.jpg
END:VEVENT
BEGIN:VEVENT
DTSTART;VALUE=DATE:20211129
DTEND;VALUE=DATE:20211207
DTSTAMP:20260419T212153
CREATED:20211025T093239Z
LAST-MODIFIED:20211025T093239Z
UID:21745-1638144000-1638835199@www.kuenske.de
SUMMARY:Virtueller Nikolaus-Lauf
DESCRIPTION:
URL:https://www.kuenske.de/veranstaltungen/virtueller-nikolaus-lauf/
CATEGORIES:Sport
ATTACH;FMTTYPE=image/png:https://www.kuenske.de/kuenske-content/uploads/2021/10/Weihnachtsposter-1.png
END:VEVENT
BEGIN:VEVENT
DTSTART;TZID=Europe/Berlin:20211130T171500
DTEND;TZID=Europe/Berlin:20211130T171500
DTSTAMP:20260419T212153
CREATED:20210916T113229Z
LAST-MODIFIED:20210916T113229Z
UID:21486-1638292500-1638292500@www.kuenske.de
SUMMARY:GSG
DESCRIPTION:
URL:https://www.kuenske.de/veranstaltungen/gsg-3/
CATEGORIES:Sitzungen
ATTACH;FMTTYPE=image/png:https://www.kuenske.de/kuenske-content/uploads/2019/10/capitol-32309.png
END:VEVENT
BEGIN:VEVENT
DTSTART;TZID=Europe/Berlin:20211130T190000
DTEND;TZID=Europe/Berlin:20211130T190000
DTSTAMP:20260419T212153
CREATED:20211025T092641Z
LAST-MODIFIED:20211025T092641Z
UID:21738-1638298800-1638298800@www.kuenske.de
SUMMARY:Künsebeck FORUM II
DESCRIPTION:Themen: Letzte Weihnachts-Moves\, Öffentlicher Personen Nahverkehr und eure Themen
URL:https://www.kuenske.de/veranstaltungen/kuensebeck-forum-ii/
CATEGORIES:Sitzungen
ATTACH;FMTTYPE=image/png:https://www.kuenske.de/kuenske-content/uploads/2021/10/Forum_Plakat_2021.png
END:VEVENT
END:VCALENDAR