BEGIN:VCALENDAR
VERSION:2.0
PRODID:-//kuenske.de - ECPv6.15.20//NONSGML v1.0//EN
CALSCALE:GREGORIAN
METHOD:PUBLISH
X-WR-CALNAME:kuenske.de
X-ORIGINAL-URL:https://www.kuenske.de
X-WR-CALDESC:Veranstaltungen für kuenske.de
REFRESH-INTERVAL;VALUE=DURATION:PT1H
X-Robots-Tag:noindex
X-PUBLISHED-TTL:PT1H
BEGIN:VTIMEZONE
TZID:Europe/Berlin
BEGIN:DAYLIGHT
TZOFFSETFROM:+0100
TZOFFSETTO:+0200
TZNAME:CEST
DTSTART:20200329T010000
END:DAYLIGHT
BEGIN:STANDARD
TZOFFSETFROM:+0200
TZOFFSETTO:+0100
TZNAME:CET
DTSTART:20201025T010000
END:STANDARD
BEGIN:DAYLIGHT
TZOFFSETFROM:+0100
TZOFFSETTO:+0200
TZNAME:CEST
DTSTART:20210328T010000
END:DAYLIGHT
BEGIN:STANDARD
TZOFFSETFROM:+0200
TZOFFSETTO:+0100
TZNAME:CET
DTSTART:20211031T010000
END:STANDARD
BEGIN:DAYLIGHT
TZOFFSETFROM:+0100
TZOFFSETTO:+0200
TZNAME:CEST
DTSTART:20220327T010000
END:DAYLIGHT
BEGIN:STANDARD
TZOFFSETFROM:+0200
TZOFFSETTO:+0100
TZNAME:CET
DTSTART:20221030T010000
END:STANDARD
END:VTIMEZONE
BEGIN:VEVENT
DTSTART;TZID=Europe/Berlin:20210901T170000
DTEND;TZID=Europe/Berlin:20210901T170000
DTSTAMP:20260419T182517
CREATED:20210726T055850Z
LAST-MODIFIED:20210726T055850Z
UID:21210-1630515600-1630515600@www.kuenske.de
SUMMARY:ASS
DESCRIPTION:
URL:https://www.kuenske.de/veranstaltungen/ass-3/
CATEGORIES:Sitzungen
ATTACH;FMTTYPE=image/png:https://www.kuenske.de/kuenske-content/uploads/2019/10/capitol-32309.png
END:VEVENT
BEGIN:VEVENT
DTSTART;VALUE=DATE:20210902
DTEND;VALUE=DATE:20210904
DTSTAMP:20260419T182517
CREATED:20210829T073244Z
LAST-MODIFIED:20210829T073244Z
UID:21365-1630540800-1630713599@www.kuenske.de
SUMMARY:Kinderflohmarkt
DESCRIPTION:
URL:https://www.kuenske.de/veranstaltungen/kinderflohmarkt/
CATEGORIES:Gemeinde
ATTACH;FMTTYPE=image/png:https://www.kuenske.de/kuenske-content/uploads/2021/08/troedel.png
END:VEVENT
BEGIN:VEVENT
DTSTART;TZID=Europe/Berlin:20210902T190000
DTEND;TZID=Europe/Berlin:20210902T190000
DTSTAMP:20260419T182517
CREATED:20210728T053705Z
LAST-MODIFIED:20210728T053705Z
UID:21240-1630609200-1630609200@www.kuenske.de
SUMMARY:JHV TV Deutsche Eiche Künsebeck
DESCRIPTION:
URL:https://www.kuenske.de/veranstaltungen/jhv-tv-deutsche-eiche-kuensebeck/
CATEGORIES:Sport
ATTACH;FMTTYPE=image/jpeg:https://www.kuenske.de/kuenske-content/uploads/2020/10/DEK-100-Jahre-Header-Bild-scaled.jpg
END:VEVENT
BEGIN:VEVENT
DTSTART;TZID=Europe/Berlin:20210903T150000
DTEND;TZID=Europe/Berlin:20210903T170000
DTSTAMP:20260419T182517
CREATED:20210726T060204Z
LAST-MODIFIED:20210726T060224Z
UID:21220-1630681200-1630688400@www.kuenske.de
SUMMARY:Gemeindebücherei
DESCRIPTION:
URL:https://www.kuenske.de/veranstaltungen/gemeindebuecherei-28/
CATEGORIES:Sitzungen
ATTACH;FMTTYPE=image/jpeg:https://www.kuenske.de/kuenske-content/uploads/2020/10/Hoerbuchspende-scaled.jpg
END:VEVENT
BEGIN:VEVENT
DTSTART;TZID=Europe/Berlin:20210907T170000
DTEND;TZID=Europe/Berlin:20210907T170000
DTSTAMP:20260419T182517
CREATED:20210728T053800Z
LAST-MODIFIED:20210728T053800Z
UID:21242-1631034000-1631034000@www.kuenske.de
SUMMARY:JHV IGKB
DESCRIPTION:
URL:https://www.kuenske.de/veranstaltungen/jhv-igkb/
ATTACH;FMTTYPE=image/jpeg:https://www.kuenske.de/kuenske-content/uploads/2019/10/30Jahre_IGKB_Logo.jpg
END:VEVENT
BEGIN:VEVENT
DTSTART;TZID=Europe/Berlin:20210908T173000
DTEND;TZID=Europe/Berlin:20210908T173000
DTSTAMP:20260419T182517
CREATED:20210726T061219Z
LAST-MODIFIED:20210726T061232Z
UID:21228-1631122200-1631122200@www.kuenske.de
SUMMARY:Ratssitzung
DESCRIPTION:
URL:https://www.kuenske.de/veranstaltungen/ratssitzung-10/
CATEGORIES:Sitzungen
ATTACH;FMTTYPE=image/png:https://www.kuenske.de/kuenske-content/uploads/2019/10/capitol-32309.png
END:VEVENT
BEGIN:VEVENT
DTSTART;TZID=Europe/Berlin:20210910T150000
DTEND;TZID=Europe/Berlin:20210910T170000
DTSTAMP:20260419T182517
CREATED:20210916T110818Z
LAST-MODIFIED:20210916T110818Z
UID:21459-1631286000-1631293200@www.kuenske.de
SUMMARY:Gemeindebücherei
DESCRIPTION:
URL:https://www.kuenske.de/veranstaltungen/gemeindebuecherei-31/
CATEGORIES:Gemeinde
ATTACH;FMTTYPE=image/jpeg:https://www.kuenske.de/kuenske-content/uploads/2019/11/kein-bild.jpg
END:VEVENT
BEGIN:VEVENT
DTSTART;TZID=Europe/Berlin:20210917T150000
DTEND;TZID=Europe/Berlin:20210917T170000
DTSTAMP:20260419T182517
CREATED:20210916T110643Z
LAST-MODIFIED:20210916T110643Z
UID:21453-1631890800-1631898000@www.kuenske.de
SUMMARY:Gemeindebücherei
DESCRIPTION:
URL:https://www.kuenske.de/veranstaltungen/gemeindebuecherei-29/
CATEGORIES:Gemeinde
ATTACH;FMTTYPE=image/jpeg:https://www.kuenske.de/kuenske-content/uploads/2020/10/Hoerbuchspende-scaled.jpg
END:VEVENT
BEGIN:VEVENT
DTSTART;TZID=Europe/Berlin:20210922T143000
DTEND;TZID=Europe/Berlin:20210922T170000
DTSTAMP:20260419T182517
CREATED:20210922T054444Z
LAST-MODIFIED:20210922T054444Z
UID:21513-1632321000-1632330000@www.kuenske.de
SUMMARY:Frauenhilfe
DESCRIPTION:
URL:https://www.kuenske.de/veranstaltungen/frauenhilfe-3/
CATEGORIES:Gemeinde
ATTACH;FMTTYPE=image/jpeg:https://www.kuenske.de/kuenske-content/uploads/2019/11/kein-bild.jpg
END:VEVENT
BEGIN:VEVENT
DTSTART;TZID=Europe/Berlin:20210922T170000
DTEND;TZID=Europe/Berlin:20210922T170000
DTSTAMP:20260419T182517
CREATED:20210726T061322Z
LAST-MODIFIED:20210726T061322Z
UID:21230-1632330000-1632330000@www.kuenske.de
SUMMARY:GSG
DESCRIPTION:
URL:https://www.kuenske.de/veranstaltungen/gsg-2/
CATEGORIES:Sitzungen
ATTACH;FMTTYPE=image/png:https://www.kuenske.de/kuenske-content/uploads/2019/10/capitol-32309.png
END:VEVENT
BEGIN:VEVENT
DTSTART;TZID=Europe/Berlin:20210922T190000
DTEND;TZID=Europe/Berlin:20210922T190000
DTSTAMP:20260419T182517
CREATED:20210916T110748Z
LAST-MODIFIED:20210916T110748Z
UID:21457-1632337200-1632337200@www.kuenske.de
SUMMARY:MA Versammlung Pfarrbezirk
DESCRIPTION:
URL:https://www.kuenske.de/veranstaltungen/ma-versammlung-pfarrbezirk/
CATEGORIES:Gemeinde
ATTACH;FMTTYPE=image/jpeg:https://www.kuenske.de/kuenske-content/uploads/2019/11/kein-bild.jpg
END:VEVENT
BEGIN:VEVENT
DTSTART;TZID=Europe/Berlin:20210923T170000
DTEND;TZID=Europe/Berlin:20210923T170000
DTSTAMP:20260419T182517
CREATED:20210726T061417Z
LAST-MODIFIED:20210726T061417Z
UID:21232-1632416400-1632416400@www.kuenske.de
SUMMARY:AKT
DESCRIPTION:
URL:https://www.kuenske.de/veranstaltungen/akt/
CATEGORIES:Sitzungen
ATTACH;FMTTYPE=image/png:https://www.kuenske.de/kuenske-content/uploads/2019/10/capitol-32309.png
END:VEVENT
BEGIN:VEVENT
DTSTART;TZID=Europe/Berlin:20210924T150000
DTEND;TZID=Europe/Berlin:20210924T170000
DTSTAMP:20260419T182517
CREATED:20210916T110719Z
LAST-MODIFIED:20210916T110719Z
UID:21455-1632495600-1632502800@www.kuenske.de
SUMMARY:Gemeindebücherei
DESCRIPTION:
URL:https://www.kuenske.de/veranstaltungen/gemeindebuecherei-30/
ATTACH;FMTTYPE=image/jpeg:https://www.kuenske.de/kuenske-content/uploads/2020/10/Hoerbuchspende-scaled.jpg
END:VEVENT
BEGIN:VEVENT
DTSTART;TZID=Europe/Berlin:20210925T090000
DTEND;TZID=Europe/Berlin:20210925T170000
DTSTAMP:20260419T182517
CREATED:20210921T100414Z
LAST-MODIFIED:20210921T100414Z
UID:21506-1632560400-1632589200@www.kuenske.de
SUMMARY:Frauenfrühstück
DESCRIPTION:Bitte 3 G Regel beachten
URL:https://www.kuenske.de/veranstaltungen/frauenfruehstueck-6/
CATEGORIES:Gemeinde
ATTACH;FMTTYPE=image/jpeg:https://www.kuenske.de/kuenske-content/uploads/2020/10/frueh.jpg
END:VEVENT
BEGIN:VEVENT
DTSTART;TZID=Europe/Berlin:20210930T153000
DTEND;TZID=Europe/Berlin:20210930T170000
DTSTAMP:20260419T182517
CREATED:20210908T062927Z
LAST-MODIFIED:20210908T082842Z
UID:21399-1633015800-1633021200@www.kuenske.de
SUMMARY:Kinder Olympiade
DESCRIPTION:
URL:https://www.kuenske.de/veranstaltungen/kinder-olympiade/
CATEGORIES:Sport
ATTACH;FMTTYPE=image/png:https://www.kuenske.de/kuenske-content/uploads/2021/09/Rosa-Grün-und-Blau-Handgezeichnet-Gut-gemacht-Mittwoch-Wellness-Sozial-emotionales-Lernen-Poster1.png
END:VEVENT
END:VCALENDAR