BEGIN:VCALENDAR
VERSION:2.0
PRODID:-//kuenske.de - ECPv6.15.20//NONSGML v1.0//EN
CALSCALE:GREGORIAN
METHOD:PUBLISH
X-WR-CALNAME:kuenske.de
X-ORIGINAL-URL:https://www.kuenske.de
X-WR-CALDESC:Veranstaltungen für kuenske.de
REFRESH-INTERVAL;VALUE=DURATION:PT1H
X-Robots-Tag:noindex
X-PUBLISHED-TTL:PT1H
BEGIN:VTIMEZONE
TZID:Europe/Berlin
BEGIN:DAYLIGHT
TZOFFSETFROM:+0100
TZOFFSETTO:+0200
TZNAME:CEST
DTSTART:20200329T010000
END:DAYLIGHT
BEGIN:STANDARD
TZOFFSETFROM:+0200
TZOFFSETTO:+0100
TZNAME:CET
DTSTART:20201025T010000
END:STANDARD
BEGIN:DAYLIGHT
TZOFFSETFROM:+0100
TZOFFSETTO:+0200
TZNAME:CEST
DTSTART:20210328T010000
END:DAYLIGHT
BEGIN:STANDARD
TZOFFSETFROM:+0200
TZOFFSETTO:+0100
TZNAME:CET
DTSTART:20211031T010000
END:STANDARD
BEGIN:DAYLIGHT
TZOFFSETFROM:+0100
TZOFFSETTO:+0200
TZNAME:CEST
DTSTART:20220327T010000
END:DAYLIGHT
BEGIN:STANDARD
TZOFFSETFROM:+0200
TZOFFSETTO:+0100
TZNAME:CET
DTSTART:20221030T010000
END:STANDARD
END:VTIMEZONE
BEGIN:VEVENT
DTSTART;VALUE=DATE:20210801
DTEND;VALUE=DATE:20210802
DTSTAMP:20260419T182328
CREATED:20210726T060528Z
LAST-MODIFIED:20210726T060528Z
UID:21226-1627776000-1627862399@www.kuenske.de
SUMMARY:Familiengottesdienst zum Abschlussdes Kinderbibeltages
DESCRIPTION:
URL:https://www.kuenske.de/veranstaltungen/familiengottesdienst-zum-abschlussdes-kinderbibeltages/
CATEGORIES:Gemeinde
ATTACH;FMTTYPE=image/jpeg:https://www.kuenske.de/kuenske-content/uploads/2021/05/DDD7FB65-04C5-4BC4-8C13-A612D97D33F6.jpeg
END:VEVENT
BEGIN:VEVENT
DTSTART;TZID=Europe/Berlin:20210803T150000
DTEND;TZID=Europe/Berlin:20210803T170000
DTSTAMP:20260419T182328
CREATED:20210521T061659Z
LAST-MODIFIED:20210521T061659Z
UID:20709-1628002800-1628010000@www.kuenske.de
SUMMARY:FSP Minigolf
DESCRIPTION:Spiele einen Nachmittag lang Mini-Golf im Minigolfpark in Künsebeck \n\n\nBeschreibung\nKurzentschlossenen öffnet der Künsebecker Treff e.V. die Minigolfanlage im Rahmen der Ferienspiele für alle Kinder und Erwachsenen\, die Spaß am Minigolf spielen haben! \nBei Regen kann die Veranstaltung leider NICHT stattfinden!
URL:https://www.kuenske.de/veranstaltungen/fsp-minigolf-5/
CATEGORIES:Sport
ATTACH;FMTTYPE=image/jpeg:https://www.kuenske.de/kuenske-content/uploads/2021/05/KuensebeckerTreff.jpg
END:VEVENT
BEGIN:VEVENT
DTSTART;TZID=Europe/Berlin:20210806T150000
DTEND;TZID=Europe/Berlin:20210806T170000
DTSTAMP:20260419T182328
CREATED:20210726T055931Z
LAST-MODIFIED:20210726T055931Z
UID:21212-1628262000-1628269200@www.kuenske.de
SUMMARY:Gemeindebücherei
DESCRIPTION:
URL:https://www.kuenske.de/veranstaltungen/gemeindebuecherei-24/
CATEGORIES:Gemeinde
ATTACH;FMTTYPE=image/jpeg:https://www.kuenske.de/kuenske-content/uploads/2020/10/Hoerbuchspende-scaled.jpg
END:VEVENT
BEGIN:VEVENT
DTSTART;TZID=Europe/Berlin:20210810T150000
DTEND;TZID=Europe/Berlin:20210810T170000
DTSTAMP:20260419T182328
CREATED:20210521T061811Z
LAST-MODIFIED:20210521T061811Z
UID:20711-1628607600-1628614800@www.kuenske.de
SUMMARY:FSP Minigolf
DESCRIPTION:Spiele einen Nachmittag lang Mini-Golf im Minigolfpark in Künsebeck \n\n\nBeschreibung\nKurzentschlossenen öffnet der Künsebecker Treff e.V. die Minigolfanlage im Rahmen der Ferienspiele für alle Kinder und Erwachsenen\, die Spaß am Minigolf spielen haben! \nBei Regen kann die Veranstaltung leider NICHT stattfinden!
URL:https://www.kuenske.de/veranstaltungen/fsp-minigolf-6/
LOCATION:Minigolf Anlage\, Kalkstrasse 2\, Halle\, NRW\, 33790\, Deutschland
ATTACH;FMTTYPE=image/jpeg:https://www.kuenske.de/kuenske-content/uploads/2021/05/KuensebeckerTreff.jpg
END:VEVENT
BEGIN:VEVENT
DTSTART;TZID=Europe/Berlin:20210813T150000
DTEND;TZID=Europe/Berlin:20210813T170000
DTSTAMP:20260419T182328
CREATED:20210726T060006Z
LAST-MODIFIED:20210726T060006Z
UID:21214-1628866800-1628874000@www.kuenske.de
SUMMARY:Gemeindebücherei
DESCRIPTION:
URL:https://www.kuenske.de/veranstaltungen/gemeindebuecherei-25/
CATEGORIES:Gemeinde
ATTACH;FMTTYPE=image/jpeg:https://www.kuenske.de/kuenske-content/uploads/2020/10/Hoerbuchspende-scaled.jpg
END:VEVENT
BEGIN:VEVENT
DTSTART;TZID=Europe/Berlin:20210820T150000
DTEND;TZID=Europe/Berlin:20210820T170000
DTSTAMP:20260419T182328
CREATED:20210726T060052Z
LAST-MODIFIED:20210726T060052Z
UID:21216-1629471600-1629478800@www.kuenske.de
SUMMARY:Gemeindebücherei
DESCRIPTION:
URL:https://www.kuenske.de/veranstaltungen/gemeindebuecherei-26/
CATEGORIES:Gemeinde
ATTACH;FMTTYPE=image/jpeg:https://www.kuenske.de/kuenske-content/uploads/2020/10/Hoerbuchspende-scaled.jpg
END:VEVENT
BEGIN:VEVENT
DTSTART;VALUE=DATE:20210822
DTEND;VALUE=DATE:20210823
DTSTAMP:20260419T182328
CREATED:20210726T060305Z
LAST-MODIFIED:20210726T060305Z
UID:21222-1629590400-1629676799@www.kuenske.de
SUMMARY:Silberne Konfirmation
DESCRIPTION:
URL:https://www.kuenske.de/veranstaltungen/silberne-konfirmation/
CATEGORIES:Gemeinde
ATTACH;FMTTYPE=image/jpeg:https://www.kuenske.de/kuenske-content/uploads/2020/09/bild-gemeindehaus-ingrid.jpg
END:VEVENT
BEGIN:VEVENT
DTSTART;TZID=Europe/Berlin:20210824T170000
DTEND;TZID=Europe/Berlin:20210824T170000
DTSTAMP:20260419T182328
CREATED:20210726T055601Z
LAST-MODIFIED:20210726T055601Z
UID:21204-1629824400-1629824400@www.kuenske.de
SUMMARY:BVA
DESCRIPTION:
URL:https://www.kuenske.de/veranstaltungen/bva-6/
CATEGORIES:Ausschuss
ATTACH;FMTTYPE=image/png:https://www.kuenske.de/kuenske-content/uploads/2019/10/capitol-32309.png
END:VEVENT
BEGIN:VEVENT
DTSTART;TZID=Europe/Berlin:20210825T170000
DTEND;TZID=Europe/Berlin:20210825T170000
DTSTAMP:20260419T182328
CREATED:20210726T055718Z
LAST-MODIFIED:20210726T055718Z
UID:21206-1629910800-1629910800@www.kuenske.de
SUMMARY:HFA
DESCRIPTION:
URL:https://www.kuenske.de/veranstaltungen/hfa-4/
ATTACH;FMTTYPE=image/png:https://www.kuenske.de/kuenske-content/uploads/2019/10/capitol-32309.png
END:VEVENT
BEGIN:VEVENT
DTSTART;TZID=Europe/Berlin:20210827T150000
DTEND;TZID=Europe/Berlin:20210827T170000
DTSTAMP:20260419T182328
CREATED:20210726T060131Z
LAST-MODIFIED:20210726T060131Z
UID:21218-1630076400-1630083600@www.kuenske.de
SUMMARY:Gemeindebücherei
DESCRIPTION:
URL:https://www.kuenske.de/veranstaltungen/gemeindebuecherei-27/
CATEGORIES:Gemeinde
ATTACH;FMTTYPE=image/jpeg:https://www.kuenske.de/kuenske-content/uploads/2020/10/Hoerbuchspende-scaled.jpg
END:VEVENT
BEGIN:VEVENT
DTSTART;TZID=Europe/Berlin:20210831T170000
DTEND;TZID=Europe/Berlin:20210831T170000
DTSTAMP:20260419T182328
CREATED:20210726T055800Z
LAST-MODIFIED:20210726T055800Z
UID:21208-1630429200-1630429200@www.kuenske.de
SUMMARY:PSA
DESCRIPTION:
URL:https://www.kuenske.de/veranstaltungen/psa-4/
ATTACH;FMTTYPE=image/png:https://www.kuenske.de/kuenske-content/uploads/2019/10/capitol-32309.png
END:VEVENT
END:VCALENDAR