BEGIN:VCALENDAR
VERSION:2.0
PRODID:-//kuenske.de - ECPv6.15.20//NONSGML v1.0//EN
CALSCALE:GREGORIAN
METHOD:PUBLISH
X-WR-CALNAME:kuenske.de
X-ORIGINAL-URL:https://www.kuenske.de
X-WR-CALDESC:Veranstaltungen für kuenske.de
REFRESH-INTERVAL;VALUE=DURATION:PT1H
X-Robots-Tag:noindex
X-PUBLISHED-TTL:PT1H
BEGIN:VTIMEZONE
TZID:Europe/Berlin
BEGIN:DAYLIGHT
TZOFFSETFROM:+0100
TZOFFSETTO:+0200
TZNAME:CEST
DTSTART:20200329T010000
END:DAYLIGHT
BEGIN:STANDARD
TZOFFSETFROM:+0200
TZOFFSETTO:+0100
TZNAME:CET
DTSTART:20201025T010000
END:STANDARD
BEGIN:DAYLIGHT
TZOFFSETFROM:+0100
TZOFFSETTO:+0200
TZNAME:CEST
DTSTART:20210328T010000
END:DAYLIGHT
BEGIN:STANDARD
TZOFFSETFROM:+0200
TZOFFSETTO:+0100
TZNAME:CET
DTSTART:20211031T010000
END:STANDARD
BEGIN:DAYLIGHT
TZOFFSETFROM:+0100
TZOFFSETTO:+0200
TZNAME:CEST
DTSTART:20220327T010000
END:DAYLIGHT
BEGIN:STANDARD
TZOFFSETFROM:+0200
TZOFFSETTO:+0100
TZNAME:CET
DTSTART:20221030T010000
END:STANDARD
END:VTIMEZONE
BEGIN:VEVENT
DTSTART;VALUE=DATE:20210501
DTEND;VALUE=DATE:20210502
DTSTAMP:20260422T164923
CREATED:20210414T094049Z
LAST-MODIFIED:20210414T094125Z
UID:20470-1619827200-1619913599@www.kuenske.de
SUMMARY:Tennisverein Eröffnung
DESCRIPTION:
URL:https://www.kuenske.de/veranstaltungen/tennisverein-eroeffnung/
LOCATION:Landhotel Jäckel\, Dürkoppstrasse 8\, Halle\, 33790\, Deutschland
CATEGORIES:Sport
ATTACH;FMTTYPE=image/jpeg:https://www.kuenske.de/kuenske-content/uploads/2021/04/Tennis.jpg
END:VEVENT
BEGIN:VEVENT
DTSTART;TZID=Europe/Berlin:20210502T093000
DTEND;TZID=Europe/Berlin:20210502T170000
DTSTAMP:20260422T164923
CREATED:20210414T093856Z
LAST-MODIFIED:20210414T093856Z
UID:20468-1619947800-1619974800@www.kuenske.de
SUMMARY:Online Sonntagsfit
DESCRIPTION:
URL:https://www.kuenske.de/veranstaltungen/online-sonntagsfit-3/
CATEGORIES:Sport
ATTACH;FMTTYPE=image/jpeg:https://www.kuenske.de/kuenske-content/uploads/2019/11/kein-bild.jpg
END:VEVENT
BEGIN:VEVENT
DTSTART;TZID=Europe/Berlin:20210504T170000
DTEND;TZID=Europe/Berlin:20210504T170000
DTSTAMP:20260422T164923
CREATED:20210414T092506Z
LAST-MODIFIED:20210414T092506Z
UID:20445-1620147600-1620147600@www.kuenske.de
SUMMARY:BVA
DESCRIPTION:
URL:https://www.kuenske.de/veranstaltungen/bva-3/
CATEGORIES:Sitzungen
ATTACH;FMTTYPE=image/png:https://www.kuenske.de/kuenske-content/uploads/2019/10/capitol-32309.png
END:VEVENT
BEGIN:VEVENT
DTSTART;TZID=Europe/Berlin:20210505T170000
DTEND;TZID=Europe/Berlin:20210505T170000
DTSTAMP:20260422T164923
CREATED:20210414T092547Z
LAST-MODIFIED:20210414T092547Z
UID:20447-1620234000-1620234000@www.kuenske.de
SUMMARY:ASS
DESCRIPTION:
URL:https://www.kuenske.de/veranstaltungen/ass/
CATEGORIES:Sitzungen
ATTACH;FMTTYPE=image/png:https://www.kuenske.de/kuenske-content/uploads/2019/10/capitol-32309.png
END:VEVENT
BEGIN:VEVENT
DTSTART;TZID=Europe/Berlin:20210506T200000
DTEND;TZID=Europe/Berlin:20210506T200000
DTSTAMP:20260422T164923
CREATED:20210414T094649Z
LAST-MODIFIED:20210414T094649Z
UID:20482-1620331200-1620331200@www.kuenske.de
SUMMARY:Online Bauch Beine Po
DESCRIPTION:
URL:https://www.kuenske.de/veranstaltungen/online-bauch-beine-po-13/
CATEGORIES:Sport
ATTACH;FMTTYPE=image/jpeg:https://www.kuenske.de/kuenske-content/uploads/2021/04/BauchBeinePo.jpg
END:VEVENT
BEGIN:VEVENT
DTSTART;TZID=Europe/Berlin:20210507T173000
DTEND;TZID=Europe/Berlin:20210507T173000
DTSTAMP:20260422T164923
CREATED:20210503T082742Z
LAST-MODIFIED:20210503T082742Z
UID:20560-1620408600-1620408600@www.kuenske.de
SUMMARY:Online Yoga
DESCRIPTION:
URL:https://www.kuenske.de/veranstaltungen/online-yoga-4/
CATEGORIES:Sport
ATTACH;FMTTYPE=image/jpeg:https://www.kuenske.de/kuenske-content/uploads/2021/04/BauchBeinePo.jpg
END:VEVENT
BEGIN:VEVENT
DTSTART;TZID=Europe/Berlin:20210509T093000
DTEND;TZID=Europe/Berlin:20210509T170000
DTSTAMP:20260422T164923
CREATED:20210414T095026Z
LAST-MODIFIED:20210414T095026Z
UID:20491-1620552600-1620579600@www.kuenske.de
SUMMARY:Online Sonntagsfit
DESCRIPTION:
URL:https://www.kuenske.de/veranstaltungen/online-sonntagsfit-4/
CATEGORIES:Sport
ATTACH;FMTTYPE=image/jpeg:https://www.kuenske.de/kuenske-content/uploads/2021/04/Sonntagsfit.jpg
END:VEVENT
BEGIN:VEVENT
DTSTART;TZID=Europe/Berlin:20210512T170000
DTEND;TZID=Europe/Berlin:20210512T170000
DTSTAMP:20260422T164923
CREATED:20210510T054038Z
LAST-MODIFIED:20210510T054038Z
UID:20602-1620838800-1620838800@www.kuenske.de
SUMMARY:GSG
DESCRIPTION:
URL:https://www.kuenske.de/veranstaltungen/gsg/
CATEGORIES:Sitzungen
ATTACH;FMTTYPE=image/png:https://www.kuenske.de/kuenske-content/uploads/2019/10/capitol-32309.png
END:VEVENT
BEGIN:VEVENT
DTSTART;VALUE=DATE:20210513
DTEND;VALUE=DATE:20210514
DTSTAMP:20260422T164923
CREATED:20210503T083143Z
LAST-MODIFIED:20210503T083143Z
UID:20568-1620864000-1620950399@www.kuenske.de
SUMMARY:Himmelfahrt
DESCRIPTION:
URL:https://www.kuenske.de/veranstaltungen/himmelfahrt-2/
CATEGORIES:Gemeinde
ATTACH;FMTTYPE=image/jpeg:https://www.kuenske.de/kuenske-content/uploads/2021/05/stained-glass-window-14118_640.jpg
END:VEVENT
BEGIN:VEVENT
DTSTART;TZID=Europe/Berlin:20210513T200000
DTEND;TZID=Europe/Berlin:20210513T200000
DTSTAMP:20260422T164923
CREATED:20210414T094730Z
LAST-MODIFIED:20210414T094730Z
UID:20485-1620936000-1620936000@www.kuenske.de
SUMMARY:Online Bauch Beine Po
DESCRIPTION:
URL:https://www.kuenske.de/veranstaltungen/online-bauch-beine-po-14/
CATEGORIES:Sport
ATTACH;FMTTYPE=image/jpeg:https://www.kuenske.de/kuenske-content/uploads/2021/04/BauchBeinePo.jpg
END:VEVENT
BEGIN:VEVENT
DTSTART;TZID=Europe/Berlin:20210514T173000
DTEND;TZID=Europe/Berlin:20210514T173000
DTSTAMP:20260422T164923
CREATED:20210503T082817Z
LAST-MODIFIED:20210510T055927Z
UID:20562-1621013400-1621013400@www.kuenske.de
SUMMARY:Online Yoga
DESCRIPTION:
URL:https://www.kuenske.de/veranstaltungen/online-yoga-5/
ATTACH;FMTTYPE=image/jpeg:https://www.kuenske.de/kuenske-content/uploads/2021/03/yoga.jpg
END:VEVENT
BEGIN:VEVENT
DTSTART;TZID=Europe/Berlin:20210515T110000
DTEND;TZID=Europe/Berlin:20210515T120000
DTSTAMP:20260422T164923
CREATED:20210508T174720Z
LAST-MODIFIED:20210510T060035Z
UID:20600-1621076400-1621080000@www.kuenske.de
SUMMARY:Online Zumba
DESCRIPTION:
URL:https://www.kuenske.de/veranstaltungen/online-zumba/
CATEGORIES:Sport
ATTACH;FMTTYPE=image/jpeg:https://www.kuenske.de/kuenske-content/uploads/2019/01/zumba-2382200_1920.jpg
END:VEVENT
BEGIN:VEVENT
DTSTART;TZID=Europe/Berlin:20210516T093000
DTEND;TZID=Europe/Berlin:20210516T170000
DTSTAMP:20260422T164923
CREATED:20210414T095104Z
LAST-MODIFIED:20210414T095104Z
UID:20495-1621157400-1621184400@www.kuenske.de
SUMMARY:Online Sonntagsfit
DESCRIPTION:
URL:https://www.kuenske.de/veranstaltungen/online-sonntagsfit-5/
CATEGORIES:Sport
ATTACH;FMTTYPE=image/jpeg:https://www.kuenske.de/kuenske-content/uploads/2021/04/Sonntagsfit.jpg
END:VEVENT
BEGIN:VEVENT
DTSTART;TZID=Europe/Berlin:20210518T170000
DTEND;TZID=Europe/Berlin:20210518T170000
DTSTAMP:20260422T164923
CREATED:20210510T054110Z
LAST-MODIFIED:20210510T060145Z
UID:20604-1621357200-1621357200@www.kuenske.de
SUMMARY:BVA
DESCRIPTION:
URL:https://www.kuenske.de/veranstaltungen/bva-4/
CATEGORIES:Sitzungen
ATTACH;FMTTYPE=image/png:https://www.kuenske.de/kuenske-content/uploads/2019/10/capitol-32309.png
END:VEVENT
BEGIN:VEVENT
DTSTART;TZID=Europe/Berlin:20210519T173000
DTEND;TZID=Europe/Berlin:20210519T173000
DTSTAMP:20260422T164923
CREATED:20210503T083247Z
LAST-MODIFIED:20210510T060202Z
UID:20571-1621445400-1621445400@www.kuenske.de
SUMMARY:Rat
DESCRIPTION:
URL:https://www.kuenske.de/veranstaltungen/rat-6/
CATEGORIES:Sitzungen
ATTACH;FMTTYPE=image/png:https://www.kuenske.de/kuenske-content/uploads/2019/10/capitol-32309.png
END:VEVENT
BEGIN:VEVENT
DTSTART;TZID=Europe/Berlin:20210520T170000
DTEND;TZID=Europe/Berlin:20210520T170000
DTSTAMP:20260422T164923
CREATED:20210510T054140Z
LAST-MODIFIED:20210510T054140Z
UID:20606-1621530000-1621530000@www.kuenske.de
SUMMARY:PSA
DESCRIPTION:
URL:https://www.kuenske.de/veranstaltungen/psa-2/
CATEGORIES:Sitzungen
ATTACH;FMTTYPE=image/jpeg:https://www.kuenske.de/kuenske-content/uploads/2019/11/kein-bild.jpg
END:VEVENT
BEGIN:VEVENT
DTSTART;TZID=Europe/Berlin:20210520T200000
DTEND;TZID=Europe/Berlin:20210520T200000
DTSTAMP:20260422T164923
CREATED:20210414T094804Z
LAST-MODIFIED:20210414T094804Z
UID:20487-1621540800-1621540800@www.kuenske.de
SUMMARY:Online Bauch Beine Po
DESCRIPTION:
URL:https://www.kuenske.de/veranstaltungen/online-bauch-beine-po-15/
CATEGORIES:Sport
ATTACH;FMTTYPE=image/jpeg:https://www.kuenske.de/kuenske-content/uploads/2021/04/BauchBeinePo.jpg
END:VEVENT
BEGIN:VEVENT
DTSTART;TZID=Europe/Berlin:20210521T173000
DTEND;TZID=Europe/Berlin:20210521T173000
DTSTAMP:20260422T164923
CREATED:20210503T082846Z
LAST-MODIFIED:20210510T060252Z
UID:20564-1621618200-1621618200@www.kuenske.de
SUMMARY:Online Yoga
DESCRIPTION:
URL:https://www.kuenske.de/veranstaltungen/online-yoga-6/
ATTACH;FMTTYPE=image/jpeg:https://www.kuenske.de/kuenske-content/uploads/2021/03/yoga.jpg
END:VEVENT
BEGIN:VEVENT
DTSTART;TZID=Europe/Berlin:20210522T100000
DTEND;TZID=Europe/Berlin:20210522T110000
DTSTAMP:20260422T164923
CREATED:20210510T054448Z
LAST-MODIFIED:20210510T060314Z
UID:20617-1621677600-1621681200@www.kuenske.de
SUMMARY:Online Zumba
DESCRIPTION:
URL:https://www.kuenske.de/veranstaltungen/online-zumba-2/
CATEGORIES:Sport
ATTACH;FMTTYPE=image/jpeg:https://www.kuenske.de/kuenske-content/uploads/2019/01/zumba-2382200_1920.jpg
END:VEVENT
BEGIN:VEVENT
DTSTART;VALUE=DATE:20210523
DTEND;VALUE=DATE:20210525
DTSTAMP:20260422T164923
CREATED:20210510T061541Z
LAST-MODIFIED:20210510T061541Z
UID:20635-1621728000-1621900799@www.kuenske.de
SUMMARY:Pfingsten mit Video-Aktion
DESCRIPTION:
URL:https://www.kuenske.de/veranstaltungen/pfingsten-mit-video-aktion/
CATEGORIES:Gemeinde
ATTACH;FMTTYPE=image/jpeg:https://www.kuenske.de/kuenske-content/uploads/2021/05/pfingsten.jpg
END:VEVENT
BEGIN:VEVENT
DTSTART;TZID=Europe/Berlin:20210523T093000
DTEND;TZID=Europe/Berlin:20210523T170000
DTSTAMP:20260422T164923
CREATED:20210414T095140Z
LAST-MODIFIED:20210414T095140Z
UID:20497-1621762200-1621789200@www.kuenske.de
SUMMARY:Online Sonntagsfit
DESCRIPTION:
URL:https://www.kuenske.de/veranstaltungen/online-sonntagsfit-6/
CATEGORIES:Sport
ATTACH;FMTTYPE=image/jpeg:https://www.kuenske.de/kuenske-content/uploads/2021/04/Sonntagsfit.jpg
END:VEVENT
BEGIN:VEVENT
DTSTART;TZID=Europe/Berlin:20210523T100000
DTEND;TZID=Europe/Berlin:20210523T120000
DTSTAMP:20260422T164923
CREATED:20210521T063026Z
LAST-MODIFIED:20210521T063321Z
UID:20722-1621764000-1621771200@www.kuenske.de
SUMMARY:Outdoor Gottesdienst Pfingsten
DESCRIPTION:10 Uhr am Gemeindehaus
URL:https://www.kuenske.de/veranstaltungen/outdoor-gottesdienst-pfingsten/
CATEGORIES:Gemeinde
ATTACH;FMTTYPE=image/jpeg:https://www.kuenske.de/kuenske-content/uploads/2021/05/pfingsten2021_Seite_2-scaled.jpg
END:VEVENT
BEGIN:VEVENT
DTSTART;TZID=Europe/Berlin:20210526T170000
DTEND;TZID=Europe/Berlin:20210526T170000
DTSTAMP:20260422T164923
CREATED:20210510T054215Z
LAST-MODIFIED:20210510T060402Z
UID:20608-1622048400-1622048400@www.kuenske.de
SUMMARY:Umweltausschuss
DESCRIPTION:
URL:https://www.kuenske.de/veranstaltungen/umweltausschuss-2/
CATEGORIES:Sitzungen
ATTACH;FMTTYPE=image/png:https://www.kuenske.de/kuenske-content/uploads/2019/10/capitol-32309.png
END:VEVENT
BEGIN:VEVENT
DTSTART;TZID=Europe/Berlin:20210527T170000
DTEND;TZID=Europe/Berlin:20210527T170000
DTSTAMP:20260422T164923
CREATED:20210510T054256Z
LAST-MODIFIED:20210510T060559Z
UID:20611-1622134800-1622134800@www.kuenske.de
SUMMARY:Kulturausschuss
DESCRIPTION:
URL:https://www.kuenske.de/veranstaltungen/kulturausschuss-2/
CATEGORIES:Sitzungen
ATTACH;FMTTYPE=image/png:https://www.kuenske.de/kuenske-content/uploads/2019/10/capitol-32309.png
END:VEVENT
BEGIN:VEVENT
DTSTART;TZID=Europe/Berlin:20210527T200000
DTEND;TZID=Europe/Berlin:20210527T200000
DTSTAMP:20260422T164923
CREATED:20210414T094841Z
LAST-MODIFIED:20210414T094841Z
UID:20489-1622145600-1622145600@www.kuenske.de
SUMMARY:Online Bauch Beine Po
DESCRIPTION:
URL:https://www.kuenske.de/veranstaltungen/online-bauch-beine-po-16/
CATEGORIES:Sport
ATTACH;FMTTYPE=image/jpeg:https://www.kuenske.de/kuenske-content/uploads/2021/04/BauchBeinePo.jpg
END:VEVENT
BEGIN:VEVENT
DTSTART;TZID=Europe/Berlin:20210528T173000
DTEND;TZID=Europe/Berlin:20210528T173000
DTSTAMP:20260422T164923
CREATED:20210503T082922Z
LAST-MODIFIED:20210510T060625Z
UID:20566-1622223000-1622223000@www.kuenske.de
SUMMARY:Online Yoga
DESCRIPTION:
URL:https://www.kuenske.de/veranstaltungen/online-yoga-7/
ATTACH;FMTTYPE=image/jpeg:https://www.kuenske.de/kuenske-content/uploads/2021/03/yoga.jpg
END:VEVENT
BEGIN:VEVENT
DTSTART;TZID=Europe/Berlin:20210529T110000
DTEND;TZID=Europe/Berlin:20210529T120000
DTSTAMP:20260422T164923
CREATED:20210510T054517Z
LAST-MODIFIED:20210510T060654Z
UID:20619-1622286000-1622289600@www.kuenske.de
SUMMARY:Online Zumba
DESCRIPTION:
URL:https://www.kuenske.de/veranstaltungen/online-zumba-3/
CATEGORIES:Sport
ATTACH;FMTTYPE=image/jpeg:https://www.kuenske.de/kuenske-content/uploads/2019/01/zumba-2382200_1920.jpg
END:VEVENT
BEGIN:VEVENT
DTSTART;TZID=Europe/Berlin:20210530T093000
DTEND;TZID=Europe/Berlin:20210530T170000
DTSTAMP:20260422T164923
CREATED:20210414T095242Z
LAST-MODIFIED:20210414T095242Z
UID:20499-1622367000-1622394000@www.kuenske.de
SUMMARY:Online Sonntagsfit
DESCRIPTION:
URL:https://www.kuenske.de/veranstaltungen/online-sonntagsfit-7/
CATEGORIES:Sport
ATTACH;FMTTYPE=image/jpeg:https://www.kuenske.de/kuenske-content/uploads/2021/04/Sonntagsfit.jpg
END:VEVENT
END:VCALENDAR