BEGIN:VCALENDAR
VERSION:2.0
PRODID:-//kuenske.de - ECPv6.15.20//NONSGML v1.0//EN
CALSCALE:GREGORIAN
METHOD:PUBLISH
X-ORIGINAL-URL:https://www.kuenske.de
X-WR-CALDESC:Veranstaltungen für kuenske.de
REFRESH-INTERVAL;VALUE=DURATION:PT1H
X-Robots-Tag:noindex
X-PUBLISHED-TTL:PT1H
BEGIN:VTIMEZONE
TZID:Europe/Berlin
BEGIN:DAYLIGHT
TZOFFSETFROM:+0100
TZOFFSETTO:+0200
TZNAME:CEST
DTSTART:20200329T010000
END:DAYLIGHT
BEGIN:STANDARD
TZOFFSETFROM:+0200
TZOFFSETTO:+0100
TZNAME:CET
DTSTART:20201025T010000
END:STANDARD
BEGIN:DAYLIGHT
TZOFFSETFROM:+0100
TZOFFSETTO:+0200
TZNAME:CEST
DTSTART:20210328T010000
END:DAYLIGHT
BEGIN:STANDARD
TZOFFSETFROM:+0200
TZOFFSETTO:+0100
TZNAME:CET
DTSTART:20211031T010000
END:STANDARD
BEGIN:DAYLIGHT
TZOFFSETFROM:+0100
TZOFFSETTO:+0200
TZNAME:CEST
DTSTART:20220327T010000
END:DAYLIGHT
BEGIN:STANDARD
TZOFFSETFROM:+0200
TZOFFSETTO:+0100
TZNAME:CET
DTSTART:20221030T010000
END:STANDARD
END:VTIMEZONE
BEGIN:VEVENT
DTSTART;TZID=Europe/Berlin:20210401T180000
DTEND;TZID=Europe/Berlin:20210401T190000
DTSTAMP:20260422T194958
CREATED:20210330T071243Z
LAST-MODIFIED:20210330T071243Z
UID:20334-1617300000-1617303600@www.kuenske.de
SUMMARY:Gründonnerstag ZOOM
DESCRIPTION:mit Abendmahl
URL:https://www.kuenske.de/veranstaltungen/gruendonnerstag-zoom/
CATEGORIES:Gemeinde
ATTACH;FMTTYPE=image/jpeg:https://www.kuenske.de/kuenske-content/uploads/2021/03/abendmahl.jpg
END:VEVENT
BEGIN:VEVENT
DTSTART;TZID=Europe/Berlin:20210402T183000
DTEND;TZID=Europe/Berlin:20210402T183000
DTSTAMP:20260422T194958
CREATED:20210307T074238Z
LAST-MODIFIED:20210307T074238Z
UID:20064-1617388200-1617388200@www.kuenske.de
SUMMARY:Online Yoga - für Anfänger*innen und Spezis / 2 Kurse
DESCRIPTION:
URL:https://www.kuenske.de/veranstaltungen/online-yoga-fuer-anfaengerinnen-und-spezis-2-kurse-4/
CATEGORIES:Sport
ATTACH;FMTTYPE=image/jpeg:https://www.kuenske.de/kuenske-content/uploads/2021/03/yoga.jpg
END:VEVENT
BEGIN:VEVENT
DTSTART;TZID=Europe/Berlin:20210402T200000
DTEND;TZID=Europe/Berlin:20210402T200000
DTSTAMP:20260422T194958
CREATED:20210202T104303Z
LAST-MODIFIED:20210202T104303Z
UID:19814-1617393600-1617393600@www.kuenske.de
SUMMARY:Online Bauch Beine Po
DESCRIPTION:
URL:https://www.kuenske.de/veranstaltungen/online-bauch-beine-po-9/
CATEGORIES:Sport
ATTACH;FMTTYPE=image/jpeg:https://www.kuenske.de/kuenske-content/uploads/2021/01/2724C719-BAD2-484C-A15F-88BB9DF3310D-1-e1611652582910.jpeg
END:VEVENT
BEGIN:VEVENT
DTSTART;VALUE=DATE:20210404
DTEND;VALUE=DATE:20210405
DTSTAMP:20260422T194958
CREATED:20210202T100521Z
LAST-MODIFIED:20210202T100521Z
UID:19779-1617494400-1617580799@www.kuenske.de
SUMMARY:Ostern
DESCRIPTION:
URL:https://www.kuenske.de/veranstaltungen/ostern/
ATTACH;FMTTYPE=image/jpeg:https://www.kuenske.de/kuenske-content/uploads/2014/04/frohe_ostern.jpg
END:VEVENT
BEGIN:VEVENT
DTSTART;TZID=Europe/Berlin:20210404T100000
DTEND;TZID=Europe/Berlin:20210404T110000
DTSTAMP:20260422T194958
CREATED:20210330T071041Z
LAST-MODIFIED:20210330T071041Z
UID:20332-1617530400-1617534000@www.kuenske.de
SUMMARY:Ostern Virtuell
DESCRIPTION:
URL:https://www.kuenske.de/veranstaltungen/ostern-virtuell/
CATEGORIES:Gemeinde
ATTACH;FMTTYPE=image/jpeg:https://www.kuenske.de/kuenske-content/uploads/2020/09/bild-gemeindehaus-ingrid.jpg
END:VEVENT
BEGIN:VEVENT
DTSTART;TZID=Europe/Berlin:20210411T093000
DTEND;TZID=Europe/Berlin:20210411T170000
DTSTAMP:20260422T194958
CREATED:20210414T092009Z
LAST-MODIFIED:20210414T092009Z
UID:20435-1618133400-1618160400@www.kuenske.de
SUMMARY:Online Sonntagsfit
DESCRIPTION:
URL:https://www.kuenske.de/veranstaltungen/online-sonntagsfit/
CATEGORIES:Sport
ATTACH;FMTTYPE=image/jpeg:https://www.kuenske.de/kuenske-content/uploads/2021/04/9FC2083A-DFB0-4438-A6B7-2868EC1F54A3.jpeg
END:VEVENT
BEGIN:VEVENT
DTSTART;TZID=Europe/Berlin:20210413T170000
DTEND;TZID=Europe/Berlin:20210413T170000
DTSTAMP:20260422T194958
CREATED:20210414T091101Z
LAST-MODIFIED:20210414T091101Z
UID:20421-1618333200-1618333200@www.kuenske.de
SUMMARY:BVA
DESCRIPTION:Sporthalle Masch
URL:https://www.kuenske.de/veranstaltungen/bva/
CATEGORIES:Sitzungen
ATTACH;FMTTYPE=image/png:https://www.kuenske.de/kuenske-content/uploads/2019/10/capitol-32309.png
END:VEVENT
BEGIN:VEVENT
DTSTART;TZID=Europe/Berlin:20210414T170000
DTEND;TZID=Europe/Berlin:20210414T170000
DTSTAMP:20260422T194958
CREATED:20210414T091138Z
LAST-MODIFIED:20210414T091138Z
UID:20423-1618419600-1618419600@www.kuenske.de
SUMMARY:HFA
DESCRIPTION:
URL:https://www.kuenske.de/veranstaltungen/hfa-2/
CATEGORIES:Sitzungen
ATTACH;FMTTYPE=image/png:https://www.kuenske.de/kuenske-content/uploads/2019/10/capitol-32309.png
END:VEVENT
BEGIN:VEVENT
DTSTART;TZID=Europe/Berlin:20210415T200000
DTEND;TZID=Europe/Berlin:20210415T200000
DTSTAMP:20260422T194958
CREATED:20210414T091523Z
LAST-MODIFIED:20210414T091911Z
UID:20429-1618516800-1618516800@www.kuenske.de
SUMMARY:Online Bauch Beine Po
DESCRIPTION:
URL:https://www.kuenske.de/veranstaltungen/online-bauch-beine-po-10/
CATEGORIES:Sport
ATTACH;FMTTYPE=image/jpeg:https://www.kuenske.de/kuenske-content/uploads/2021/04/9FC2083A-DFB0-4438-A6B7-2868EC1F54A3.jpeg
END:VEVENT
BEGIN:VEVENT
DTSTART;TZID=Europe/Berlin:20210416T153000
DTEND;TZID=Europe/Berlin:20210416T170000
DTSTAMP:20260422T194958
CREATED:20210414T095351Z
LAST-MODIFIED:20210414T095351Z
UID:20501-1618587000-1618592400@www.kuenske.de
SUMMARY:Bücherei
DESCRIPTION:
URL:https://www.kuenske.de/veranstaltungen/buecherei/
CATEGORIES:Gemeinde
ATTACH;FMTTYPE=image/jpeg:https://www.kuenske.de/kuenske-content/uploads/2020/10/Hoerbuchspende-scaled.jpg
END:VEVENT
BEGIN:VEVENT
DTSTART;TZID=Europe/Berlin:20210416T173000
DTEND;TZID=Europe/Berlin:20210416T173000
DTSTAMP:20260422T194958
CREATED:20210414T091600Z
LAST-MODIFIED:20210414T091818Z
UID:20431-1618594200-1618594200@www.kuenske.de
SUMMARY:Online Yoga
DESCRIPTION:
URL:https://www.kuenske.de/veranstaltungen/online-yoga/
CATEGORIES:Sport
ATTACH;FMTTYPE=image/jpeg:https://www.kuenske.de/kuenske-content/uploads/2021/03/yoga.jpg
END:VEVENT
BEGIN:VEVENT
DTSTART;TZID=Europe/Berlin:20210417T100000
DTEND;TZID=Europe/Berlin:20210417T120000
DTSTAMP:20260422T194958
CREATED:20210415T071546Z
LAST-MODIFIED:20210415T071546Z
UID:20513-1618653600-1618660800@www.kuenske.de
SUMMARY:Frühlingstüten Aktion des TV
DESCRIPTION:Liebe Familien des TV Deutsche Eiche Künsebeck\, \nwir haben für die Kinder aus unserem Verein Frühlings-Tüten gefertigt. Diese können am 17.04.21 von 10-12Uhr am Minigolf Park Künsebeck abgeholt werden. Bitte denkt an eure Masken! Sowie beim Verlassen des Geländes nicht in Gruppen zu stehen. Damit wir die Corona Regeln einhalten können. Wer nicht kommen kann\, bekommt die Tüte erst zu Beginn der nächsten Sportveranstaltungen. \nViele Grüße\, eure Nina und Bettina
URL:https://www.kuenske.de/veranstaltungen/fruehlingstueten-aktion-des-tv/
LOCATION:Minigolf Anlage\, Kalkstrasse 2\, Halle\, NRW\, 33790\, Deutschland
CATEGORIES:Freizeit
ATTACH;FMTTYPE=image/png:https://www.kuenske.de/kuenske-content/uploads/2021/04/Design-ohne-Titel.png
END:VEVENT
BEGIN:VEVENT
DTSTART;TZID=Europe/Berlin:20210418T093000
DTEND;TZID=Europe/Berlin:20210418T170000
DTSTAMP:20260422T194958
CREATED:20210414T092132Z
LAST-MODIFIED:20210414T092150Z
UID:20437-1618738200-1618765200@www.kuenske.de
SUMMARY:Online Sonntagsfit
DESCRIPTION:
URL:https://www.kuenske.de/veranstaltungen/online-sonntagsfit-2/
CATEGORIES:Sport
ATTACH;FMTTYPE=image/jpeg:https://www.kuenske.de/kuenske-content/uploads/2021/04/9FC2083A-DFB0-4438-A6B7-2868EC1F54A3.jpeg
END:VEVENT
BEGIN:VEVENT
DTSTART;TZID=Europe/Berlin:20210419T172000
DTEND;TZID=Europe/Berlin:20210419T180000
DTSTAMP:20260422T194958
CREATED:20210416T091543Z
LAST-MODIFIED:20210416T091543Z
UID:20523-1618852800-1618855200@www.kuenske.de
SUMMARY:Schadstoffmobil
DESCRIPTION:An der Grundschule Künsebeck\, 17:20-18:00 Uhr
URL:https://www.kuenske.de/veranstaltungen/schadstoffmobil/
LOCATION:Grundschule Künsebeck
CATEGORIES:Freizeit
ATTACH;FMTTYPE=image/jpeg:https://www.kuenske.de/kuenske-content/uploads/2021/04/schadstoffe.jpg
END:VEVENT
BEGIN:VEVENT
DTSTART;TZID=Europe/Berlin:20210420T170000
DTEND;TZID=Europe/Berlin:20210420T170000
DTSTAMP:20260422T194958
CREATED:20210414T091318Z
LAST-MODIFIED:20210414T091746Z
UID:20427-1618938000-1618938000@www.kuenske.de
SUMMARY:PSA
DESCRIPTION:
URL:https://www.kuenske.de/veranstaltungen/psa/
CATEGORIES:Sitzungen
ATTACH;FMTTYPE=image/png:https://www.kuenske.de/kuenske-content/uploads/2019/10/capitol-32309.png
END:VEVENT
BEGIN:VEVENT
DTSTART;TZID=Europe/Berlin:20210421T170000
DTEND;TZID=Europe/Berlin:20210421T170000
DTSTAMP:20260422T194958
CREATED:20210414T091631Z
LAST-MODIFIED:20210414T091655Z
UID:20433-1619024400-1619024400@www.kuenske.de
SUMMARY:AUK
DESCRIPTION:
URL:https://www.kuenske.de/veranstaltungen/auk/
CATEGORIES:Sitzungen
ATTACH;FMTTYPE=image/png:https://www.kuenske.de/kuenske-content/uploads/2019/10/capitol-32309.png
END:VEVENT
BEGIN:VEVENT
DTSTART;TZID=Europe/Berlin:20210422T200000
DTEND;TZID=Europe/Berlin:20210422T200000
DTSTAMP:20260422T194958
CREATED:20210414T093432Z
LAST-MODIFIED:20210414T093432Z
UID:20456-1619121600-1619121600@www.kuenske.de
SUMMARY:Online Bauch Beine Po
DESCRIPTION:
URL:https://www.kuenske.de/veranstaltungen/online-bauch-beine-po-11/
ATTACH;FMTTYPE=image/jpeg:https://www.kuenske.de/kuenske-content/uploads/2019/11/kein-bild.jpg
END:VEVENT
BEGIN:VEVENT
DTSTART;TZID=Europe/Berlin:20210423T153000
DTEND;TZID=Europe/Berlin:20210423T170000
DTSTAMP:20260422T194958
CREATED:20210414T095432Z
LAST-MODIFIED:20210414T095432Z
UID:20503-1619191800-1619197200@www.kuenske.de
SUMMARY:Bücherei
DESCRIPTION:
URL:https://www.kuenske.de/veranstaltungen/buecherei-2/
CATEGORIES:Gemeinde
ATTACH;FMTTYPE=image/jpeg:https://www.kuenske.de/kuenske-content/uploads/2020/08/IMG_8655-scaled-1.jpg
END:VEVENT
BEGIN:VEVENT
DTSTART;TZID=Europe/Berlin:20210423T173000
DTEND;TZID=Europe/Berlin:20210423T173000
DTSTAMP:20260422T194958
CREATED:20210414T093649Z
LAST-MODIFIED:20210414T093649Z
UID:20461-1619199000-1619199000@www.kuenske.de
SUMMARY:Online Yoga
DESCRIPTION:
URL:https://www.kuenske.de/veranstaltungen/online-yoga-2/
CATEGORIES:Sport
ATTACH;FMTTYPE=image/jpeg:https://www.kuenske.de/kuenske-content/uploads/2019/11/kein-bild.jpg
END:VEVENT
BEGIN:VEVENT
DTSTART;TZID=Europe/Berlin:20210425T093000
DTEND;TZID=Europe/Berlin:20210425T170000
DTSTAMP:20260422T194958
CREATED:20210414T092231Z
LAST-MODIFIED:20210414T092748Z
UID:20439-1619343000-1619370000@www.kuenske.de
SUMMARY:Online Sonntagsfit
DESCRIPTION:
URL:https://www.kuenske.de/veranstaltungen/onlien-sonntagsfit/
CATEGORIES:Sport
ATTACH;FMTTYPE=image/jpeg:https://www.kuenske.de/kuenske-content/uploads/2021/04/9FC2083A-DFB0-4438-A6B7-2868EC1F54A3.jpeg
END:VEVENT
BEGIN:VEVENT
DTSTART;TZID=Europe/Berlin:20210427T170000
DTEND;TZID=Europe/Berlin:20210427T170000
DTSTAMP:20260422T194958
CREATED:20210414T092328Z
LAST-MODIFIED:20210414T092328Z
UID:20441-1619542800-1619542800@www.kuenske.de
SUMMARY:BVA
DESCRIPTION:
URL:https://www.kuenske.de/veranstaltungen/bva-2/
CATEGORIES:Sitzungen
ATTACH;FMTTYPE=image/png:https://www.kuenske.de/kuenske-content/uploads/2019/10/capitol-32309.png
END:VEVENT
BEGIN:VEVENT
DTSTART;TZID=Europe/Berlin:20210428T173000
DTEND;TZID=Europe/Berlin:20210428T173000
DTSTAMP:20260422T194958
CREATED:20210414T092406Z
LAST-MODIFIED:20210414T092406Z
UID:20443-1619631000-1619631000@www.kuenske.de
SUMMARY:Rat
DESCRIPTION:
URL:https://www.kuenske.de/veranstaltungen/rat-5/
CATEGORIES:Sitzungen
ATTACH;FMTTYPE=image/png:https://www.kuenske.de/kuenske-content/uploads/2019/10/capitol-32309.png
END:VEVENT
BEGIN:VEVENT
DTSTART;TZID=Europe/Berlin:20210429T200000
DTEND;TZID=Europe/Berlin:20210429T200000
DTSTAMP:20260422T194958
CREATED:20210414T093508Z
LAST-MODIFIED:20210414T093508Z
UID:20459-1619726400-1619726400@www.kuenske.de
SUMMARY:Online Bauch Beine Po
DESCRIPTION:
URL:https://www.kuenske.de/veranstaltungen/online-bauch-beine-po-12/
CATEGORIES:Sport
ATTACH;FMTTYPE=image/jpeg:https://www.kuenske.de/kuenske-content/uploads/2021/04/9FC2083A-DFB0-4438-A6B7-2868EC1F54A3.jpeg
END:VEVENT
BEGIN:VEVENT
DTSTART;TZID=Europe/Berlin:20210430T153000
DTEND;TZID=Europe/Berlin:20210430T170000
DTSTAMP:20260422T194958
CREATED:20210414T095517Z
LAST-MODIFIED:20210414T095517Z
UID:20505-1619796600-1619802000@www.kuenske.de
SUMMARY:Bücherei
DESCRIPTION:
URL:https://www.kuenske.de/veranstaltungen/buecherei-3/
LOCATION:Gemeindebücherei\, Teutoburger Str 16\, Halle Westfalen\, NRW\, 33790\, Deutschland
CATEGORIES:Gemeinde
ATTACH;FMTTYPE=image/jpeg:https://www.kuenske.de/kuenske-content/uploads/2020/08/IMG_8655-scaled-1.jpg
END:VEVENT
BEGIN:VEVENT
DTSTART;TZID=Europe/Berlin:20210430T173000
DTEND;TZID=Europe/Berlin:20210430T173000
DTSTAMP:20260422T194958
CREATED:20210414T093718Z
LAST-MODIFIED:20210414T093718Z
UID:20466-1619803800-1619803800@www.kuenske.de
SUMMARY:Online Yoga
DESCRIPTION:
URL:https://www.kuenske.de/veranstaltungen/online-yoga-3/
ATTACH;FMTTYPE=image/jpeg:https://www.kuenske.de/kuenske-content/uploads/2019/11/kein-bild.jpg
END:VEVENT
END:VCALENDAR