BEGIN:VCALENDAR
VERSION:2.0
PRODID:-//kuenske.de - ECPv6.15.20//NONSGML v1.0//EN
CALSCALE:GREGORIAN
METHOD:PUBLISH
X-WR-CALNAME:kuenske.de
X-ORIGINAL-URL:https://www.kuenske.de
X-WR-CALDESC:Veranstaltungen für kuenske.de
REFRESH-INTERVAL;VALUE=DURATION:PT1H
X-Robots-Tag:noindex
X-PUBLISHED-TTL:PT1H
BEGIN:VTIMEZONE
TZID:Europe/Berlin
BEGIN:DAYLIGHT
TZOFFSETFROM:+0100
TZOFFSETTO:+0200
TZNAME:CEST
DTSTART:20250330T010000
END:DAYLIGHT
BEGIN:STANDARD
TZOFFSETFROM:+0200
TZOFFSETTO:+0100
TZNAME:CET
DTSTART:20251026T010000
END:STANDARD
BEGIN:DAYLIGHT
TZOFFSETFROM:+0100
TZOFFSETTO:+0200
TZNAME:CEST
DTSTART:20260329T010000
END:DAYLIGHT
BEGIN:STANDARD
TZOFFSETFROM:+0200
TZOFFSETTO:+0100
TZNAME:CET
DTSTART:20261025T010000
END:STANDARD
BEGIN:DAYLIGHT
TZOFFSETFROM:+0100
TZOFFSETTO:+0200
TZNAME:CEST
DTSTART:20270328T010000
END:DAYLIGHT
BEGIN:STANDARD
TZOFFSETFROM:+0200
TZOFFSETTO:+0100
TZNAME:CET
DTSTART:20271031T010000
END:STANDARD
END:VTIMEZONE
BEGIN:VEVENT
DTSTART;TZID=Europe/Berlin:20260208T100000
DTEND;TZID=Europe/Berlin:20260208T170000
DTSTAMP:20260422T123553
CREATED:20251118T060712Z
LAST-MODIFIED:20251118T060712Z
UID:33583-1770544800-1770570000@www.kuenske.de
SUMMARY:Gottesdienst m. Frauke Brauns
DESCRIPTION:
URL:https://www.kuenske.de/veranstaltungen/gottesdienst-m-frauke-brauns-3/
ATTACH;FMTTYPE=image/jpeg:https://www.kuenske.de/kuenske-content/uploads/2025/11/Gottesdienst-1.jpg
END:VEVENT
BEGIN:VEVENT
DTSTART;TZID=Europe/Berlin:20260208T100000
DTEND;TZID=Europe/Berlin:20260208T170000
DTSTAMP:20260422T123553
CREATED:20251223T075848Z
LAST-MODIFIED:20251223T075848Z
UID:33846-1770544800-1770570000@www.kuenske.de
SUMMARY:JHV der Tennisabteilung
DESCRIPTION:
URL:https://www.kuenske.de/veranstaltungen/jhv-der-tennisabteilung/
CATEGORIES:Sitzungen,Sport
ATTACH;FMTTYPE=image/jpeg:https://www.kuenske.de/kuenske-content/uploads/2025/12/TVK_Insta_20252.jpg
END:VEVENT
BEGIN:VEVENT
DTSTART;TZID=Europe/Berlin:20260208T160000
DTEND;TZID=Europe/Berlin:20260208T170000
DTSTAMP:20260422T123553
CREATED:20251115T065120Z
LAST-MODIFIED:20251115T065120Z
UID:33562-1770566400-1770570000@www.kuenske.de
SUMMARY:Konzert Insa McLean & Henk de Vries
DESCRIPTION:
URL:https://www.kuenske.de/veranstaltungen/konzert-insa-mclean-henk-de-vries/
ATTACH;FMTTYPE=image/png:https://www.kuenske.de/kuenske-content/uploads/2025/11/konzert1.png
END:VEVENT
END:VCALENDAR