BEGIN:VCALENDAR
VERSION:2.0
PRODID:-//kuenske.de - ECPv6.15.20//NONSGML v1.0//EN
CALSCALE:GREGORIAN
METHOD:PUBLISH
X-ORIGINAL-URL:https://www.kuenske.de
X-WR-CALDESC:Veranstaltungen für kuenske.de
REFRESH-INTERVAL;VALUE=DURATION:PT1H
X-Robots-Tag:noindex
X-PUBLISHED-TTL:PT1H
BEGIN:VTIMEZONE
TZID:Europe/Berlin
BEGIN:DAYLIGHT
TZOFFSETFROM:+0100
TZOFFSETTO:+0200
TZNAME:CEST
DTSTART:20220327T010000
END:DAYLIGHT
BEGIN:STANDARD
TZOFFSETFROM:+0200
TZOFFSETTO:+0100
TZNAME:CET
DTSTART:20221030T010000
END:STANDARD
BEGIN:DAYLIGHT
TZOFFSETFROM:+0100
TZOFFSETTO:+0200
TZNAME:CEST
DTSTART:20230326T010000
END:DAYLIGHT
BEGIN:STANDARD
TZOFFSETFROM:+0200
TZOFFSETTO:+0100
TZNAME:CET
DTSTART:20231029T010000
END:STANDARD
BEGIN:DAYLIGHT
TZOFFSETFROM:+0100
TZOFFSETTO:+0200
TZNAME:CEST
DTSTART:20240331T010000
END:DAYLIGHT
BEGIN:STANDARD
TZOFFSETFROM:+0200
TZOFFSETTO:+0100
TZNAME:CET
DTSTART:20241027T010000
END:STANDARD
END:VTIMEZONE
BEGIN:VEVENT
DTSTART;VALUE=DATE:20230805
DTEND;VALUE=DATE:20230806
DTSTAMP:20260423T194449
CREATED:20230401T054045Z
LAST-MODIFIED:20230401T054045Z
UID:26126-1691193600-1691279999@www.kuenske.de
SUMMARY:Tag der Feuerwehr
DESCRIPTION:
URL:https://www.kuenske.de/veranstaltungen/tag-der-feuerwehr/
ATTACH;FMTTYPE=image/jpeg:https://www.kuenske.de/kuenske-content/uploads/2021/09/feuerwehr.jpg
END:VEVENT
BEGIN:VEVENT
DTSTART;TZID=Europe/Berlin:20230805T190000
DTEND;TZID=Europe/Berlin:20230805T190000
DTSTAMP:20260423T194449
CREATED:20230329T065319Z
LAST-MODIFIED:20230329T065319Z
UID:26072-1691262000-1691262000@www.kuenske.de
SUMMARY:Kultursommer: Chordriders
DESCRIPTION:Chordriders – „die auf den Akkorden reiten“\nUnd zwar in fast allen populären Genres. Warum? Um ein möglichst großes Publikum gewinnen zu können!\nDas ist das Ziel der Band\, die in dieser Formation zwar erst seit 2022 besteht\, deren einzelne Musiker*innen aber schon teilweise bis zu 25 Jahre Ihrem „Hobby“ frönen. \nMit Begeisterung dabei ist das Motto der sieben\, damit der Funke auch auf das Publikum überspringt.
URL:https://www.kuenske.de/veranstaltungen/kultursommer-chordriders/
ATTACH;FMTTYPE=image/jpeg:https://www.kuenske.de/kuenske-content/uploads/2023/01/Bandfoto-CR-mit-Logo2.jpg
END:VEVENT
END:VCALENDAR