BEGIN:VCALENDAR
VERSION:2.0
PRODID:-//kuenske.de - ECPv6.15.20//NONSGML v1.0//EN
CALSCALE:GREGORIAN
METHOD:PUBLISH
X-WR-CALNAME:kuenske.de
X-ORIGINAL-URL:https://www.kuenske.de
X-WR-CALDESC:Veranstaltungen für kuenske.de
REFRESH-INTERVAL;VALUE=DURATION:PT1H
X-Robots-Tag:noindex
X-PUBLISHED-TTL:PT1H
BEGIN:VTIMEZONE
TZID:Europe/Berlin
BEGIN:DAYLIGHT
TZOFFSETFROM:+0100
TZOFFSETTO:+0200
TZNAME:CEST
DTSTART:20200329T010000
END:DAYLIGHT
BEGIN:STANDARD
TZOFFSETFROM:+0200
TZOFFSETTO:+0100
TZNAME:CET
DTSTART:20201025T010000
END:STANDARD
BEGIN:DAYLIGHT
TZOFFSETFROM:+0100
TZOFFSETTO:+0200
TZNAME:CEST
DTSTART:20210328T010000
END:DAYLIGHT
BEGIN:STANDARD
TZOFFSETFROM:+0200
TZOFFSETTO:+0100
TZNAME:CET
DTSTART:20211031T010000
END:STANDARD
BEGIN:DAYLIGHT
TZOFFSETFROM:+0100
TZOFFSETTO:+0200
TZNAME:CEST
DTSTART:20220327T010000
END:DAYLIGHT
BEGIN:STANDARD
TZOFFSETFROM:+0200
TZOFFSETTO:+0100
TZNAME:CET
DTSTART:20221030T010000
END:STANDARD
END:VTIMEZONE
BEGIN:VEVENT
DTSTART;VALUE=DATE:20211129
DTEND;VALUE=DATE:20211207
DTSTAMP:20260419T182234
CREATED:20211025T093239Z
LAST-MODIFIED:20211025T093239Z
UID:21745-1638144000-1638835199@www.kuenske.de
SUMMARY:Virtueller Nikolaus-Lauf
DESCRIPTION:
URL:https://www.kuenske.de/veranstaltungen/virtueller-nikolaus-lauf/
CATEGORIES:Sport
ATTACH;FMTTYPE=image/png:https://www.kuenske.de/kuenske-content/uploads/2021/10/Weihnachtsposter-1.png
END:VEVENT
BEGIN:VEVENT
DTSTART;TZID=Europe/Berlin:20211130T171500
DTEND;TZID=Europe/Berlin:20211130T171500
DTSTAMP:20260419T182234
CREATED:20210916T113229Z
LAST-MODIFIED:20210916T113229Z
UID:21486-1638292500-1638292500@www.kuenske.de
SUMMARY:GSG
DESCRIPTION:
URL:https://www.kuenske.de/veranstaltungen/gsg-3/
CATEGORIES:Sitzungen
ATTACH;FMTTYPE=image/png:https://www.kuenske.de/kuenske-content/uploads/2019/10/capitol-32309.png
END:VEVENT
BEGIN:VEVENT
DTSTART;TZID=Europe/Berlin:20211130T190000
DTEND;TZID=Europe/Berlin:20211130T190000
DTSTAMP:20260419T182234
CREATED:20211025T092641Z
LAST-MODIFIED:20211025T092641Z
UID:21738-1638298800-1638298800@www.kuenske.de
SUMMARY:Künsebeck FORUM II
DESCRIPTION:Themen: Letzte Weihnachts-Moves\, Öffentlicher Personen Nahverkehr und eure Themen
URL:https://www.kuenske.de/veranstaltungen/kuensebeck-forum-ii/
CATEGORIES:Sitzungen
ATTACH;FMTTYPE=image/png:https://www.kuenske.de/kuenske-content/uploads/2021/10/Forum_Plakat_2021.png
END:VEVENT
END:VCALENDAR