BEGIN:VCALENDAR
VERSION:2.0
PRODID:-//kuenske.de - ECPv6.15.20//NONSGML v1.0//EN
CALSCALE:GREGORIAN
METHOD:PUBLISH
X-ORIGINAL-URL:https://www.kuenske.de
X-WR-CALDESC:Veranstaltungen für kuenske.de
REFRESH-INTERVAL;VALUE=DURATION:PT1H
X-Robots-Tag:noindex
X-PUBLISHED-TTL:PT1H
BEGIN:VTIMEZONE
TZID:Europe/Berlin
BEGIN:DAYLIGHT
TZOFFSETFROM:+0100
TZOFFSETTO:+0200
TZNAME:CEST
DTSTART:20200329T010000
END:DAYLIGHT
BEGIN:STANDARD
TZOFFSETFROM:+0200
TZOFFSETTO:+0100
TZNAME:CET
DTSTART:20201025T010000
END:STANDARD
BEGIN:DAYLIGHT
TZOFFSETFROM:+0100
TZOFFSETTO:+0200
TZNAME:CEST
DTSTART:20210328T010000
END:DAYLIGHT
BEGIN:STANDARD
TZOFFSETFROM:+0200
TZOFFSETTO:+0100
TZNAME:CET
DTSTART:20211031T010000
END:STANDARD
BEGIN:DAYLIGHT
TZOFFSETFROM:+0100
TZOFFSETTO:+0200
TZNAME:CEST
DTSTART:20220327T010000
END:DAYLIGHT
BEGIN:STANDARD
TZOFFSETFROM:+0200
TZOFFSETTO:+0100
TZNAME:CET
DTSTART:20221030T010000
END:STANDARD
END:VTIMEZONE
BEGIN:VEVENT
DTSTART;TZID=Europe/Berlin:20211119T150000
DTEND;TZID=Europe/Berlin:20211119T170000
DTSTAMP:20260419T225916
CREATED:20211025T095100Z
LAST-MODIFIED:20211025T095100Z
UID:21758-1637334000-1637341200@www.kuenske.de
SUMMARY:Gemeindebücherei
DESCRIPTION:
URL:https://www.kuenske.de/veranstaltungen/gemeindebuecherei-39/
ATTACH;FMTTYPE=image/jpeg:https://www.kuenske.de/kuenske-content/uploads/2020/10/Hoerbuchspende-scaled.jpg
END:VEVENT
BEGIN:VEVENT
DTSTART;TZID=Europe/Berlin:20211119T160000
DTEND;TZID=Europe/Berlin:20211119T170000
DTSTAMP:20260419T225916
CREATED:20211102T072630Z
LAST-MODIFIED:20211109T112935Z
UID:21813-1637337600-1637341200@www.kuenske.de
SUMMARY:Vorlesetag im Gemeindehaus
DESCRIPTION:für alle Künsker Kinder
URL:https://www.kuenske.de/veranstaltungen/vorlesetag-im-gemeindehaus/
CATEGORIES:Gemeinde
ATTACH;FMTTYPE=image/jpeg:https://www.kuenske.de/kuenske-content/uploads/2021/11/Eine-Gemeinschaftsaktion-des-Pfarrbezirkes-der-IGKB-e.V.-scaled.jpg
END:VEVENT
BEGIN:VEVENT
DTSTART;TZID=Europe/Berlin:20211119T180000
DTEND;TZID=Europe/Berlin:20211119T210000
DTSTAMP:20260419T225916
CREATED:20211110T102952Z
LAST-MODIFIED:20211110T102952Z
UID:21936-1637344800-1637355600@www.kuenske.de
SUMMARY:Neue Yoga Kurse
DESCRIPTION:
URL:https://www.kuenske.de/veranstaltungen/neue-yoga-kurse/
CATEGORIES:Sport
ATTACH;FMTTYPE=image/png:https://www.kuenske.de/kuenske-content/uploads/2021/11/Gruen-und-Braun-Yoga-Veranstaltung-Countdown-Interaktive-Instagram-Story.png
END:VEVENT
END:VCALENDAR