BEGIN:VCALENDAR
VERSION:2.0
PRODID:-//kuenske.de - ECPv6.15.20//NONSGML v1.0//EN
CALSCALE:GREGORIAN
METHOD:PUBLISH
X-WR-CALNAME:kuenske.de
X-ORIGINAL-URL:https://www.kuenske.de
X-WR-CALDESC:Veranstaltungen für kuenske.de
REFRESH-INTERVAL;VALUE=DURATION:PT1H
X-Robots-Tag:noindex
X-PUBLISHED-TTL:PT1H
BEGIN:VTIMEZONE
TZID:Europe/Berlin
BEGIN:DAYLIGHT
TZOFFSETFROM:+0100
TZOFFSETTO:+0200
TZNAME:CEST
DTSTART:20200329T010000
END:DAYLIGHT
BEGIN:STANDARD
TZOFFSETFROM:+0200
TZOFFSETTO:+0100
TZNAME:CET
DTSTART:20201025T010000
END:STANDARD
BEGIN:DAYLIGHT
TZOFFSETFROM:+0100
TZOFFSETTO:+0200
TZNAME:CEST
DTSTART:20210328T010000
END:DAYLIGHT
BEGIN:STANDARD
TZOFFSETFROM:+0200
TZOFFSETTO:+0100
TZNAME:CET
DTSTART:20211031T010000
END:STANDARD
BEGIN:DAYLIGHT
TZOFFSETFROM:+0100
TZOFFSETTO:+0200
TZNAME:CEST
DTSTART:20220327T010000
END:DAYLIGHT
BEGIN:STANDARD
TZOFFSETFROM:+0200
TZOFFSETTO:+0100
TZNAME:CET
DTSTART:20221030T010000
END:STANDARD
END:VTIMEZONE
BEGIN:VEVENT
DTSTART;TZID=Europe/Berlin:20211105T150000
DTEND;TZID=Europe/Berlin:20211105T170000
DTSTAMP:20260421T114110
CREATED:20211025T094936Z
LAST-MODIFIED:20211025T094936Z
UID:21753-1636124400-1636131600@www.kuenske.de
SUMMARY:Gemeindebücherei
DESCRIPTION:
URL:https://www.kuenske.de/veranstaltungen/gemeindebuecherei-37/
CATEGORIES:Gemeinde
ATTACH;FMTTYPE=image/jpeg:https://www.kuenske.de/kuenske-content/uploads/2020/10/Hoerbuchspende-scaled.jpg
END:VEVENT
BEGIN:VEVENT
DTSTART;TZID=Europe/Berlin:20211105T170000
DTEND;TZID=Europe/Berlin:20211105T170000
DTSTAMP:20260421T114110
CREATED:20211007T093318Z
LAST-MODIFIED:20211007T093318Z
UID:21616-1636131600-1636131600@www.kuenske.de
SUMMARY:Bayrischer Abend
DESCRIPTION:Im AWO Ortsverein – auch Nichtmitglieder sind herzlich eingeladen! \nEine Anmeldung ist erforderlich / beim Vorstand der AWO \nUnkostenbeitrag 10 € für Essen\, Trinken und Unterhaltungsprogramm
URL:https://www.kuenske.de/veranstaltungen/bayrischer-abend/
CATEGORIES:Freizeit
ATTACH;FMTTYPE=image/jpeg:https://www.kuenske.de/kuenske-content/uploads/2021/10/meal-gcd0d4eef7_1920.jpg
END:VEVENT
END:VCALENDAR