BEGIN:VCALENDAR
VERSION:2.0
PRODID:-//kuenske.de - ECPv6.15.20//NONSGML v1.0//EN
CALSCALE:GREGORIAN
METHOD:PUBLISH
X-ORIGINAL-URL:https://www.kuenske.de
X-WR-CALDESC:Veranstaltungen für kuenske.de
REFRESH-INTERVAL;VALUE=DURATION:PT1H
X-Robots-Tag:noindex
X-PUBLISHED-TTL:PT1H
BEGIN:VTIMEZONE
TZID:Europe/Berlin
BEGIN:DAYLIGHT
TZOFFSETFROM:+0100
TZOFFSETTO:+0200
TZNAME:CEST
DTSTART:20200329T010000
END:DAYLIGHT
BEGIN:STANDARD
TZOFFSETFROM:+0200
TZOFFSETTO:+0100
TZNAME:CET
DTSTART:20201025T010000
END:STANDARD
BEGIN:DAYLIGHT
TZOFFSETFROM:+0100
TZOFFSETTO:+0200
TZNAME:CEST
DTSTART:20210328T010000
END:DAYLIGHT
BEGIN:STANDARD
TZOFFSETFROM:+0200
TZOFFSETTO:+0100
TZNAME:CET
DTSTART:20211031T010000
END:STANDARD
BEGIN:DAYLIGHT
TZOFFSETFROM:+0100
TZOFFSETTO:+0200
TZNAME:CEST
DTSTART:20220327T010000
END:DAYLIGHT
BEGIN:STANDARD
TZOFFSETFROM:+0200
TZOFFSETTO:+0100
TZNAME:CET
DTSTART:20221030T010000
END:STANDARD
END:VTIMEZONE
BEGIN:VEVENT
DTSTART;TZID=Europe/Berlin:20211102T140000
DTEND;TZID=Europe/Berlin:20211102T150000
DTSTAMP:20260419T225753
CREATED:20211102T114756Z
LAST-MODIFIED:20211102T114756Z
UID:21820-1635861600-1635865200@www.kuenske.de
SUMMARY:Gesundheitsschulung f. Aussteller
DESCRIPTION:Nikolausmarkt
URL:https://www.kuenske.de/veranstaltungen/gesundheitsschulung-f-aussteller/
CATEGORIES:Sitzungen
ATTACH;FMTTYPE=image/jpeg:https://www.kuenske.de/kuenske-content/uploads/2021/11/Desinfektion.jpg
END:VEVENT
BEGIN:VEVENT
DTSTART;TZID=Europe/Berlin:20211102T190000
DTEND;TZID=Europe/Berlin:20211102T190000
DTSTAMP:20260419T225753
CREATED:20210924T122106Z
LAST-MODIFIED:20211025T092552Z
UID:21545-1635879600-1635879600@www.kuenske.de
SUMMARY:Künsebeck FORUM
DESCRIPTION:Lasst uns gemeinsam unser Dorf und unsere Zukunft gestalten. Aus diesem Grund laden wir herzlich zum ersten Künsebeck FORUM ein. Die Idee dahinter ist simpel! Wir treffen uns einmal im Quartal. Die Wochentage wechseln\, immer 19 Uhr. So hat jeder und jede die Chance teilzunehmen. Egal ob du immer kommst oder wenn dir was auf der Seele liegt. Wir planen\, gestalten und werden gemeinsam kreativ für Künsebeck. \nZu jedem Treffen wird es ein aktuelles Thema geben\, welches dringend zu besprechen ist. Der Rest des Abends liegt in eurer Hand! Ihr bringt die Ideen aus den Arbeitsgruppen mit\, eure eigenen Ideen\, eure Sorgen und Wünsche! Und wir werden als Team weiter darüber sprechen und Lösungen suchen. \nAuch Nicht-Mitglieder sind herzlich eingeladen! Also bring deine Nachbarn mit\, lade deine Freunde ein und und und. Künsebeck ist vielfältig und das ist unsere Stärke. \nDas erste Künsebeck Forum: \nDienstag\, 2. November 2021 – 19 Uhr Gemeindehaus Künsebeck\, kleiner Saal \n\nDer Besuch des Nikolauses\nEure Themen\n\nWir freuen uns auf anregende Gespräche und einen kreativen Austausch\, \nder Vorstand \n  \nDas Kleingedruckte J \n\nThemenwünsche an info@kuensebeck-online.de\nAuch Wünsche bzgl. Gästen zum Gespräch sind gern gesehen!\nDie Termine 2022 entnehmt bitte der Tageszeitung oder kuenske.de
URL:https://www.kuenske.de/veranstaltungen/kuensebeck-forum/
ATTACH;FMTTYPE=image/png:https://www.kuenske.de/kuenske-content/uploads/2021/10/Forum_Plakat_2021.png
END:VEVENT
END:VCALENDAR