BEGIN:VCALENDAR
VERSION:2.0
PRODID:-//kuenske.de - ECPv6.15.20//NONSGML v1.0//EN
CALSCALE:GREGORIAN
METHOD:PUBLISH
X-ORIGINAL-URL:https://www.kuenske.de
X-WR-CALDESC:Veranstaltungen für kuenske.de
REFRESH-INTERVAL;VALUE=DURATION:PT1H
X-Robots-Tag:noindex
X-PUBLISHED-TTL:PT1H
BEGIN:VTIMEZONE
TZID:Europe/Berlin
BEGIN:DAYLIGHT
TZOFFSETFROM:+0100
TZOFFSETTO:+0200
TZNAME:CEST
DTSTART:20200329T010000
END:DAYLIGHT
BEGIN:STANDARD
TZOFFSETFROM:+0200
TZOFFSETTO:+0100
TZNAME:CET
DTSTART:20201025T010000
END:STANDARD
BEGIN:DAYLIGHT
TZOFFSETFROM:+0100
TZOFFSETTO:+0200
TZNAME:CEST
DTSTART:20210328T010000
END:DAYLIGHT
BEGIN:STANDARD
TZOFFSETFROM:+0200
TZOFFSETTO:+0100
TZNAME:CET
DTSTART:20211031T010000
END:STANDARD
BEGIN:DAYLIGHT
TZOFFSETFROM:+0100
TZOFFSETTO:+0200
TZNAME:CEST
DTSTART:20220327T010000
END:DAYLIGHT
BEGIN:STANDARD
TZOFFSETFROM:+0200
TZOFFSETTO:+0100
TZNAME:CET
DTSTART:20221030T010000
END:STANDARD
END:VTIMEZONE
BEGIN:VEVENT
DTSTART;VALUE=DATE:20211003
DTEND;VALUE=DATE:20211011
DTSTAMP:20260423T145744
CREATED:20210916T111109Z
LAST-MODIFIED:20210916T111109Z
UID:21465-1633219200-1633910399@www.kuenske.de
SUMMARY:Müllsammel-Woche
DESCRIPTION:
URL:https://www.kuenske.de/veranstaltungen/muellsammel-woche/
CATEGORIES:Freizeit
ATTACH;FMTTYPE=image/png:https://www.kuenske.de/kuenske-content/uploads/2021/09/Abfall-Trennung-Klassenzimmer-Poster.png
END:VEVENT
BEGIN:VEVENT
DTSTART;TZID=Europe/Berlin:20211008T150000
DTEND;TZID=Europe/Berlin:20211008T170000
DTSTAMP:20260423T145744
CREATED:20210916T113522Z
LAST-MODIFIED:20210916T113522Z
UID:21492-1633705200-1633712400@www.kuenske.de
SUMMARY:Gemeindebücherei
DESCRIPTION:
URL:https://www.kuenske.de/veranstaltungen/gemeindebuecherei-33/
CATEGORIES:Gemeinde
ATTACH;FMTTYPE=image/jpeg:https://www.kuenske.de/kuenske-content/uploads/2020/10/Hoerbuchspende-scaled.jpg
END:VEVENT
BEGIN:VEVENT
DTSTART;TZID=Europe/Berlin:20211008T153000
DTEND;TZID=Europe/Berlin:20211008T180000
DTSTAMP:20260423T145744
CREATED:20211006T070505Z
LAST-MODIFIED:20211006T070505Z
UID:21580-1633707000-1633716000@www.kuenske.de
SUMMARY:Kürbis schnitzen
DESCRIPTION:
URL:https://www.kuenske.de/veranstaltungen/kuerbis-schnitzen/
CATEGORIES:Gemeinde
ATTACH;FMTTYPE=image/jpeg:https://www.kuenske.de/kuenske-content/uploads/2021/10/7efd0c0e-9bd8-4cd7-9ddd-bfaf42f934b9.jpg
END:VEVENT
END:VCALENDAR