BEGIN:VCALENDAR
VERSION:2.0
PRODID:-//kuenske.de - ECPv6.15.20//NONSGML v1.0//EN
CALSCALE:GREGORIAN
METHOD:PUBLISH
X-WR-CALNAME:kuenske.de
X-ORIGINAL-URL:https://www.kuenske.de
X-WR-CALDESC:Veranstaltungen für kuenske.de
REFRESH-INTERVAL;VALUE=DURATION:PT1H
X-Robots-Tag:noindex
X-PUBLISHED-TTL:PT1H
BEGIN:VTIMEZONE
TZID:Europe/Berlin
BEGIN:DAYLIGHT
TZOFFSETFROM:+0100
TZOFFSETTO:+0200
TZNAME:CEST
DTSTART:20200329T010000
END:DAYLIGHT
BEGIN:STANDARD
TZOFFSETFROM:+0200
TZOFFSETTO:+0100
TZNAME:CET
DTSTART:20201025T010000
END:STANDARD
BEGIN:DAYLIGHT
TZOFFSETFROM:+0100
TZOFFSETTO:+0200
TZNAME:CEST
DTSTART:20210328T010000
END:DAYLIGHT
BEGIN:STANDARD
TZOFFSETFROM:+0200
TZOFFSETTO:+0100
TZNAME:CET
DTSTART:20211031T010000
END:STANDARD
BEGIN:DAYLIGHT
TZOFFSETFROM:+0100
TZOFFSETTO:+0200
TZNAME:CEST
DTSTART:20220327T010000
END:DAYLIGHT
BEGIN:STANDARD
TZOFFSETFROM:+0200
TZOFFSETTO:+0100
TZNAME:CET
DTSTART:20221030T010000
END:STANDARD
END:VTIMEZONE
BEGIN:VEVENT
DTSTART;TZID=Europe/Berlin:20210922T143000
DTEND;TZID=Europe/Berlin:20210922T170000
DTSTAMP:20260423T134046
CREATED:20210922T054444Z
LAST-MODIFIED:20210922T054444Z
UID:21513-1632321000-1632330000@www.kuenske.de
SUMMARY:Frauenhilfe
DESCRIPTION:
URL:https://www.kuenske.de/veranstaltungen/frauenhilfe-3/
CATEGORIES:Gemeinde
ATTACH;FMTTYPE=image/jpeg:https://www.kuenske.de/kuenske-content/uploads/2019/11/kein-bild.jpg
END:VEVENT
BEGIN:VEVENT
DTSTART;TZID=Europe/Berlin:20210922T170000
DTEND;TZID=Europe/Berlin:20210922T170000
DTSTAMP:20260423T134046
CREATED:20210726T061322Z
LAST-MODIFIED:20210726T061322Z
UID:21230-1632330000-1632330000@www.kuenske.de
SUMMARY:GSG
DESCRIPTION:
URL:https://www.kuenske.de/veranstaltungen/gsg-2/
CATEGORIES:Sitzungen
ATTACH;FMTTYPE=image/png:https://www.kuenske.de/kuenske-content/uploads/2019/10/capitol-32309.png
END:VEVENT
BEGIN:VEVENT
DTSTART;TZID=Europe/Berlin:20210922T190000
DTEND;TZID=Europe/Berlin:20210922T190000
DTSTAMP:20260423T134046
CREATED:20210916T110748Z
LAST-MODIFIED:20210916T110748Z
UID:21457-1632337200-1632337200@www.kuenske.de
SUMMARY:MA Versammlung Pfarrbezirk
DESCRIPTION:
URL:https://www.kuenske.de/veranstaltungen/ma-versammlung-pfarrbezirk/
CATEGORIES:Gemeinde
ATTACH;FMTTYPE=image/jpeg:https://www.kuenske.de/kuenske-content/uploads/2019/11/kein-bild.jpg
END:VEVENT
END:VCALENDAR