BEGIN:VCALENDAR
VERSION:2.0
PRODID:-//kuenske.de - ECPv6.15.20//NONSGML v1.0//EN
CALSCALE:GREGORIAN
METHOD:PUBLISH
X-ORIGINAL-URL:https://www.kuenske.de
X-WR-CALDESC:Veranstaltungen für kuenske.de
REFRESH-INTERVAL;VALUE=DURATION:PT1H
X-Robots-Tag:noindex
X-PUBLISHED-TTL:PT1H
BEGIN:VTIMEZONE
TZID:Europe/Berlin
BEGIN:DAYLIGHT
TZOFFSETFROM:+0100
TZOFFSETTO:+0200
TZNAME:CEST
DTSTART:20200329T010000
END:DAYLIGHT
BEGIN:STANDARD
TZOFFSETFROM:+0200
TZOFFSETTO:+0100
TZNAME:CET
DTSTART:20201025T010000
END:STANDARD
BEGIN:DAYLIGHT
TZOFFSETFROM:+0100
TZOFFSETTO:+0200
TZNAME:CEST
DTSTART:20210328T010000
END:DAYLIGHT
BEGIN:STANDARD
TZOFFSETFROM:+0200
TZOFFSETTO:+0100
TZNAME:CET
DTSTART:20211031T010000
END:STANDARD
BEGIN:DAYLIGHT
TZOFFSETFROM:+0100
TZOFFSETTO:+0200
TZNAME:CEST
DTSTART:20220327T010000
END:DAYLIGHT
BEGIN:STANDARD
TZOFFSETFROM:+0200
TZOFFSETTO:+0100
TZNAME:CET
DTSTART:20221030T010000
END:STANDARD
END:VTIMEZONE
BEGIN:VEVENT
DTSTART;TZID=Europe/Berlin:20210704T093000
DTEND;TZID=Europe/Berlin:20210704T170000
DTSTAMP:20260419T165636
CREATED:20210521T075728Z
LAST-MODIFIED:20210521T075728Z
UID:20784-1625391000-1625418000@www.kuenske.de
SUMMARY:Online Sonntagsfit
DESCRIPTION:
URL:https://www.kuenske.de/veranstaltungen/online-sonntagsfit-12/
CATEGORIES:Sport
ATTACH;FMTTYPE=image/jpeg:https://www.kuenske.de/kuenske-content/uploads/2021/05/DEK-Plane-100-Jahre-klein-scaled.jpg
END:VEVENT
BEGIN:VEVENT
DTSTART;TZID=Europe/Berlin:20210704T190000
DTEND;TZID=Europe/Berlin:20210704T190000
DTSTAMP:20260419T165636
CREATED:20210608T055941Z
LAST-MODIFIED:20210610T094639Z
UID:20850-1625425200-1625425200@www.kuenske.de
SUMMARY:Kultursommer: Frl. Ingrid aus Stockholm
DESCRIPTION:Geschichte von Fräulein Ingrid aus StockholmDie drei Musiker Frank von Phorn\, Fist Asmussen und Mats Malanders kennen sich bereits seit ihrer gemeinsamen Jugend in Stockholm. Dort spielten sie unabhängig voneinander in unterschiedlichen Bands.Im Rahmen ihres Germanistikstudiums in NRW beschlossen Frank und Mats Mitte 2011\, gemeinsam Musik mit deutschen Texten zu machen. Fist\, der eigentlich nur Ersatzschlagzeuger war\, roch so gut\, dass er schnell zur Stammbesetzung gehörte. Seitdem haben sie die Stilrichtung  „Arbeiterrock““ in völlig neue Dimensionen gebracht und spielen gerne live als „Fuhrwerk der guten Laune.“
URL:https://www.kuenske.de/veranstaltungen/kultursommer-frl-ingrid-aus-stockholm/
CATEGORIES:Freizeit
ATTACH;FMTTYPE=image/jpeg:https://www.kuenske.de/kuenske-content/uploads/2021/06/PRESSEFOTO-Kopie-scaled.jpg
END:VEVENT
END:VCALENDAR