BEGIN:VCALENDAR
VERSION:2.0
PRODID:-//kuenske.de - ECPv6.15.20//NONSGML v1.0//EN
CALSCALE:GREGORIAN
METHOD:PUBLISH
X-ORIGINAL-URL:https://www.kuenske.de
X-WR-CALDESC:Veranstaltungen für kuenske.de
REFRESH-INTERVAL;VALUE=DURATION:PT1H
X-Robots-Tag:noindex
X-PUBLISHED-TTL:PT1H
BEGIN:VTIMEZONE
TZID:Europe/Berlin
BEGIN:DAYLIGHT
TZOFFSETFROM:+0100
TZOFFSETTO:+0200
TZNAME:CEST
DTSTART:20200329T010000
END:DAYLIGHT
BEGIN:STANDARD
TZOFFSETFROM:+0200
TZOFFSETTO:+0100
TZNAME:CET
DTSTART:20201025T010000
END:STANDARD
BEGIN:DAYLIGHT
TZOFFSETFROM:+0100
TZOFFSETTO:+0200
TZNAME:CEST
DTSTART:20210328T010000
END:DAYLIGHT
BEGIN:STANDARD
TZOFFSETFROM:+0200
TZOFFSETTO:+0100
TZNAME:CET
DTSTART:20211031T010000
END:STANDARD
BEGIN:DAYLIGHT
TZOFFSETFROM:+0100
TZOFFSETTO:+0200
TZNAME:CEST
DTSTART:20220327T010000
END:DAYLIGHT
BEGIN:STANDARD
TZOFFSETFROM:+0200
TZOFFSETTO:+0100
TZNAME:CET
DTSTART:20221030T010000
END:STANDARD
END:VTIMEZONE
BEGIN:VEVENT
DTSTART;VALUE=DATE:20210303
DTEND;VALUE=DATE:20210321
DTSTAMP:20260422T211801
CREATED:20210303T082512Z
LAST-MODIFIED:20210303T082512Z
UID:20005-1614729600-1616284799@www.kuenske.de
SUMMARY:Müllsammel Aktion 2.0
DESCRIPTION:
URL:https://www.kuenske.de/veranstaltungen/muellsammel-aktion-2-0/
CATEGORIES:Freizeit
ATTACH;FMTTYPE=image/jpeg:https://www.kuenske.de/kuenske-content/uploads/2021/02/Abfall-Trennung-Klassenzimmer-Poster-scaled.jpg
END:VEVENT
BEGIN:VEVENT
DTSTART;VALUE=DATE:20210315
DTEND;VALUE=DATE:20210316
DTSTAMP:20260422T211801
CREATED:20210202T100322Z
LAST-MODIFIED:20210202T100322Z
UID:19773-1615766400-1615852799@www.kuenske.de
SUMMARY:7 Wochen ohne - Woche 5
DESCRIPTION:
URL:https://www.kuenske.de/veranstaltungen/7-wochen-ohne-woche-5/
CATEGORIES:Gemeinde
ATTACH;FMTTYPE=image/jpeg:https://www.kuenske.de/kuenske-content/uploads/2021/02/gratitude-1201945_1920.jpg
END:VEVENT
END:VCALENDAR